BEGIN:VCALENDAR
VERSION:2.0
PRODID:-//Pharoahs of St Johns, Florida - ECPv6.15.20//NONSGML v1.0//EN
CALSCALE:GREGORIAN
METHOD:PUBLISH
X-WR-CALNAME:Pharoahs of St Johns, Florida
X-ORIGINAL-URL:https://pharoahs-stjohns.com
X-WR-CALDESC:Events for Pharoahs of St Johns, Florida
REFRESH-INTERVAL;VALUE=DURATION:PT1H
X-Robots-Tag:noindex
X-PUBLISHED-TTL:PT1H
BEGIN:VTIMEZONE
TZID:America/New_York
BEGIN:DAYLIGHT
TZOFFSETFROM:-0500
TZOFFSETTO:-0400
TZNAME:EDT
DTSTART:20290311T070000
END:DAYLIGHT
BEGIN:STANDARD
TZOFFSETFROM:-0400
TZOFFSETTO:-0500
TZNAME:EST
DTSTART:20291104T060000
END:STANDARD
BEGIN:DAYLIGHT
TZOFFSETFROM:-0500
TZOFFSETTO:-0400
TZNAME:EDT
DTSTART:20300310T070000
END:DAYLIGHT
BEGIN:STANDARD
TZOFFSETFROM:-0400
TZOFFSETTO:-0500
TZNAME:EST
DTSTART:20301103T060000
END:STANDARD
BEGIN:DAYLIGHT
TZOFFSETFROM:-0500
TZOFFSETTO:-0400
TZNAME:EDT
DTSTART:20310309T070000
END:DAYLIGHT
BEGIN:STANDARD
TZOFFSETFROM:-0400
TZOFFSETTO:-0500
TZNAME:EST
DTSTART:20311102T060000
END:STANDARD
BEGIN:DAYLIGHT
TZOFFSETFROM:-0500
TZOFFSETTO:-0400
TZNAME:EDT
DTSTART:20320314T070000
END:DAYLIGHT
BEGIN:STANDARD
TZOFFSETFROM:-0400
TZOFFSETTO:-0500
TZNAME:EST
DTSTART:20321107T060000
END:STANDARD
END:VTIMEZONE
BEGIN:VEVENT
DTSTART;TZID=America/New_York:20300817T160000
DTEND;TZID=America/New_York:20300817T180000
DTSTAMP:20260423T192634
CREATED:20231113T143616Z
LAST-MODIFIED:20260108T225243Z
UID:10001995-1913212800-1913220000@pharoahs-stjohns.com
SUMMARY:St. Augustine Cruisers Third Saturday Cruise-in
DESCRIPTION:
URL:https://pharoahs-stjohns.com/events/st-augustine-cruisers-third-saturday-cruise-in-2/2030-08-17/
LOCATION:Classic Car Museum\, 4730 Dixie Hwy\, St. Augustine\, FL\, United States
END:VEVENT
BEGIN:VEVENT
DTSTART;TZID=America/New_York:20300824T080000
DTEND;TZID=America/New_York:20300824T100000
DTSTAMP:20260423T192634
CREATED:20260108T235005Z
LAST-MODIFIED:20260108T235005Z
UID:10002211-1913788800-1913796000@pharoahs-stjohns.com
SUMMARY:St. Augustine Cruisers Cars & Coffee
DESCRIPTION:
URL:https://pharoahs-stjohns.com/events/st-augustine-cruisers-cars-coffee/2030-08-24/
LOCATION:Classic Car Museum of St. Augustine\, 4730 Dixie Hwy\, St. Augustine\, FL\, 32086\, United States
END:VEVENT
BEGIN:VEVENT
DTSTART;TZID=America/New_York:20300824T140000
DTEND;TZID=America/New_York:20300824T170000
DTSTAMP:20260423T192634
CREATED:20260108T235159Z
LAST-MODIFIED:20260108T235159Z
UID:10002272-1913810400-1913821200@pharoahs-stjohns.com
SUMMARY:Clay County Cruisers Gator's Dockside Oakleaf Cruise-In
DESCRIPTION:
URL:https://pharoahs-stjohns.com/events/clay-county-cruisers-gators-dockside-oakleaf-cruise-in/2030-08-24/
LOCATION:8316 Merchants Way\, 8316 Merchants Way\, Jacksonville\, 32222\, United States
END:VEVENT
BEGIN:VEVENT
DTSTART;TZID=America/New_York:20300824T160000
DTEND;TZID=America/New_York:20300824T190000
DTSTAMP:20260423T192634
CREATED:20260108T235329Z
LAST-MODIFIED:20260108T235329Z
UID:10002332-1913817600-1913828400@pharoahs-stjohns.com
SUMMARY:Historic Main Street Cruise
DESCRIPTION:
URL:https://pharoahs-stjohns.com/events/historic-main-street-cruise/2030-08-24/
LOCATION:2023 Main Street N\, 2023 Main Street N\, Jacksonville\, United States
END:VEVENT
BEGIN:VEVENT
DTSTART;TZID=America/New_York:20300903T160000
DTEND;TZID=America/New_York:20300903T190000
DTSTAMP:20260423T192634
CREATED:20240109T224012Z
LAST-MODIFIED:20240109T224154Z
UID:10001996-1914681600-1914692400@pharoahs-stjohns.com
SUMMARY:Culver's St Augustine Cruise-In
DESCRIPTION:
URL:https://pharoahs-stjohns.com/events/culvers-st-augustine-cruise-in/2030-09-03/
LOCATION:Culver’s St Augustine\, 3433 US Hwy 1\, St. Augustine\, 32086\, United States
END:VEVENT
BEGIN:VEVENT
DTSTART;TZID=America/New_York:20300914T073000
DTEND;TZID=America/New_York:20300914T103000
DTSTAMP:20260423T192634
CREATED:20230116T193156Z
LAST-MODIFIED:20260108T231748Z
UID:10002109-1915601400-1915612200@pharoahs-stjohns.com
SUMMARY:Caffeine and Octane
DESCRIPTION:This event is hosted by Jax Car Culture and will feature a First Coast Car Council member club at their monthly event. Featured Clubs are encouraged to bring their Club Banner or Flag. There will be a separate staging area for the featured club.  Food and restrooms are available
URL:https://pharoahs-stjohns.com/events/caffeine-and-octane/2030-09-14/
LOCATION:Avenues Mall\, Avenues Mall\, Jacksonville\, FL\, 32256\, United States
END:VEVENT
BEGIN:VEVENT
DTSTART;TZID=America/New_York:20300921T160000
DTEND;TZID=America/New_York:20300921T180000
DTSTAMP:20260423T192634
CREATED:20231113T143616Z
LAST-MODIFIED:20260108T225243Z
UID:10002002-1916236800-1916244000@pharoahs-stjohns.com
SUMMARY:St. Augustine Cruisers Third Saturday Cruise-in
DESCRIPTION:
URL:https://pharoahs-stjohns.com/events/st-augustine-cruisers-third-saturday-cruise-in-2/2030-09-21/
LOCATION:Classic Car Museum\, 4730 Dixie Hwy\, St. Augustine\, FL\, United States
END:VEVENT
BEGIN:VEVENT
DTSTART;TZID=America/New_York:20300928T080000
DTEND;TZID=America/New_York:20300928T100000
DTSTAMP:20260423T192634
CREATED:20260108T235005Z
LAST-MODIFIED:20260108T235005Z
UID:10002212-1916812800-1916820000@pharoahs-stjohns.com
SUMMARY:St. Augustine Cruisers Cars & Coffee
DESCRIPTION:
URL:https://pharoahs-stjohns.com/events/st-augustine-cruisers-cars-coffee/2030-09-28/
LOCATION:Classic Car Museum of St. Augustine\, 4730 Dixie Hwy\, St. Augustine\, FL\, 32086\, United States
END:VEVENT
BEGIN:VEVENT
DTSTART;TZID=America/New_York:20300928T140000
DTEND;TZID=America/New_York:20300928T170000
DTSTAMP:20260423T192634
CREATED:20260108T235159Z
LAST-MODIFIED:20260108T235159Z
UID:10002273-1916834400-1916845200@pharoahs-stjohns.com
SUMMARY:Clay County Cruisers Gator's Dockside Oakleaf Cruise-In
DESCRIPTION:
URL:https://pharoahs-stjohns.com/events/clay-county-cruisers-gators-dockside-oakleaf-cruise-in/2030-09-28/
LOCATION:8316 Merchants Way\, 8316 Merchants Way\, Jacksonville\, 32222\, United States
END:VEVENT
BEGIN:VEVENT
DTSTART;TZID=America/New_York:20300928T160000
DTEND;TZID=America/New_York:20300928T190000
DTSTAMP:20260423T192634
CREATED:20260108T235329Z
LAST-MODIFIED:20260108T235329Z
UID:10002333-1916841600-1916852400@pharoahs-stjohns.com
SUMMARY:Historic Main Street Cruise
DESCRIPTION:
URL:https://pharoahs-stjohns.com/events/historic-main-street-cruise/2030-09-28/
LOCATION:2023 Main Street N\, 2023 Main Street N\, Jacksonville\, United States
END:VEVENT
BEGIN:VEVENT
DTSTART;TZID=America/New_York:20301001T160000
DTEND;TZID=America/New_York:20301001T190000
DTSTAMP:20260423T192634
CREATED:20240109T224012Z
LAST-MODIFIED:20240109T224154Z
UID:10002003-1917100800-1917111600@pharoahs-stjohns.com
SUMMARY:Culver's St Augustine Cruise-In
DESCRIPTION:
URL:https://pharoahs-stjohns.com/events/culvers-st-augustine-cruise-in/2030-10-01/
LOCATION:Culver’s St Augustine\, 3433 US Hwy 1\, St. Augustine\, 32086\, United States
END:VEVENT
BEGIN:VEVENT
DTSTART;TZID=America/New_York:20301012T073000
DTEND;TZID=America/New_York:20301012T103000
DTSTAMP:20260423T192634
CREATED:20230116T193156Z
LAST-MODIFIED:20260108T231748Z
UID:10002110-1918020600-1918031400@pharoahs-stjohns.com
SUMMARY:Caffeine and Octane
DESCRIPTION:This event is hosted by Jax Car Culture and will feature a First Coast Car Council member club at their monthly event. Featured Clubs are encouraged to bring their Club Banner or Flag. There will be a separate staging area for the featured club.  Food and restrooms are available
URL:https://pharoahs-stjohns.com/events/caffeine-and-octane/2030-10-12/
LOCATION:Avenues Mall\, Avenues Mall\, Jacksonville\, FL\, 32256\, United States
END:VEVENT
BEGIN:VEVENT
DTSTART;TZID=America/New_York:20301019T160000
DTEND;TZID=America/New_York:20301019T180000
DTSTAMP:20260423T192635
CREATED:20231113T143616Z
LAST-MODIFIED:20260108T225243Z
UID:10002009-1918656000-1918663200@pharoahs-stjohns.com
SUMMARY:St. Augustine Cruisers Third Saturday Cruise-in
DESCRIPTION:
URL:https://pharoahs-stjohns.com/events/st-augustine-cruisers-third-saturday-cruise-in-2/2030-10-19/
LOCATION:Classic Car Museum\, 4730 Dixie Hwy\, St. Augustine\, FL\, United States
END:VEVENT
BEGIN:VEVENT
DTSTART;TZID=America/New_York:20301026T080000
DTEND;TZID=America/New_York:20301026T100000
DTSTAMP:20260423T192635
CREATED:20260108T235005Z
LAST-MODIFIED:20260108T235005Z
UID:10002213-1919232000-1919239200@pharoahs-stjohns.com
SUMMARY:St. Augustine Cruisers Cars & Coffee
DESCRIPTION:
URL:https://pharoahs-stjohns.com/events/st-augustine-cruisers-cars-coffee/2030-10-26/
LOCATION:Classic Car Museum of St. Augustine\, 4730 Dixie Hwy\, St. Augustine\, FL\, 32086\, United States
END:VEVENT
BEGIN:VEVENT
DTSTART;TZID=America/New_York:20301026T140000
DTEND;TZID=America/New_York:20301026T170000
DTSTAMP:20260423T192635
CREATED:20260108T235159Z
LAST-MODIFIED:20260108T235159Z
UID:10002274-1919253600-1919264400@pharoahs-stjohns.com
SUMMARY:Clay County Cruisers Gator's Dockside Oakleaf Cruise-In
DESCRIPTION:
URL:https://pharoahs-stjohns.com/events/clay-county-cruisers-gators-dockside-oakleaf-cruise-in/2030-10-26/
LOCATION:8316 Merchants Way\, 8316 Merchants Way\, Jacksonville\, 32222\, United States
END:VEVENT
BEGIN:VEVENT
DTSTART;TZID=America/New_York:20301026T160000
DTEND;TZID=America/New_York:20301026T190000
DTSTAMP:20260423T192635
CREATED:20260108T235329Z
LAST-MODIFIED:20260108T235329Z
UID:10002334-1919260800-1919271600@pharoahs-stjohns.com
SUMMARY:Historic Main Street Cruise
DESCRIPTION:
URL:https://pharoahs-stjohns.com/events/historic-main-street-cruise/2030-10-26/
LOCATION:2023 Main Street N\, 2023 Main Street N\, Jacksonville\, United States
END:VEVENT
BEGIN:VEVENT
DTSTART;TZID=America/New_York:20301105T160000
DTEND;TZID=America/New_York:20301105T190000
DTSTAMP:20260423T192635
CREATED:20240109T224012Z
LAST-MODIFIED:20240109T224154Z
UID:10002011-1920124800-1920135600@pharoahs-stjohns.com
SUMMARY:Culver's St Augustine Cruise-In
DESCRIPTION:
URL:https://pharoahs-stjohns.com/events/culvers-st-augustine-cruise-in/2030-11-05/
LOCATION:Culver’s St Augustine\, 3433 US Hwy 1\, St. Augustine\, 32086\, United States
END:VEVENT
BEGIN:VEVENT
DTSTART;TZID=America/New_York:20301109T073000
DTEND;TZID=America/New_York:20301109T103000
DTSTAMP:20260423T192635
CREATED:20230116T193156Z
LAST-MODIFIED:20260108T231748Z
UID:10002111-1920439800-1920450600@pharoahs-stjohns.com
SUMMARY:Caffeine and Octane
DESCRIPTION:This event is hosted by Jax Car Culture and will feature a First Coast Car Council member club at their monthly event. Featured Clubs are encouraged to bring their Club Banner or Flag. There will be a separate staging area for the featured club.  Food and restrooms are available
URL:https://pharoahs-stjohns.com/events/caffeine-and-octane/2030-11-09/
LOCATION:Avenues Mall\, Avenues Mall\, Jacksonville\, FL\, 32256\, United States
END:VEVENT
BEGIN:VEVENT
DTSTART;TZID=America/New_York:20301116T160000
DTEND;TZID=America/New_York:20301116T180000
DTSTAMP:20260423T192635
CREATED:20231113T143616Z
LAST-MODIFIED:20260108T225243Z
UID:10002016-1921075200-1921082400@pharoahs-stjohns.com
SUMMARY:St. Augustine Cruisers Third Saturday Cruise-in
DESCRIPTION:
URL:https://pharoahs-stjohns.com/events/st-augustine-cruisers-third-saturday-cruise-in-2/2030-11-16/
LOCATION:Classic Car Museum\, 4730 Dixie Hwy\, St. Augustine\, FL\, United States
END:VEVENT
BEGIN:VEVENT
DTSTART;TZID=America/New_York:20301123T080000
DTEND;TZID=America/New_York:20301123T100000
DTSTAMP:20260423T192635
CREATED:20260108T235005Z
LAST-MODIFIED:20260108T235005Z
UID:10002214-1921651200-1921658400@pharoahs-stjohns.com
SUMMARY:St. Augustine Cruisers Cars & Coffee
DESCRIPTION:
URL:https://pharoahs-stjohns.com/events/st-augustine-cruisers-cars-coffee/2030-11-23/
LOCATION:Classic Car Museum of St. Augustine\, 4730 Dixie Hwy\, St. Augustine\, FL\, 32086\, United States
END:VEVENT
BEGIN:VEVENT
DTSTART;TZID=America/New_York:20301123T140000
DTEND;TZID=America/New_York:20301123T170000
DTSTAMP:20260423T192635
CREATED:20260108T235159Z
LAST-MODIFIED:20260108T235159Z
UID:10002275-1921672800-1921683600@pharoahs-stjohns.com
SUMMARY:Clay County Cruisers Gator's Dockside Oakleaf Cruise-In
DESCRIPTION:
URL:https://pharoahs-stjohns.com/events/clay-county-cruisers-gators-dockside-oakleaf-cruise-in/2030-11-23/
LOCATION:8316 Merchants Way\, 8316 Merchants Way\, Jacksonville\, 32222\, United States
END:VEVENT
BEGIN:VEVENT
DTSTART;TZID=America/New_York:20301123T160000
DTEND;TZID=America/New_York:20301123T190000
DTSTAMP:20260423T192635
CREATED:20260108T235329Z
LAST-MODIFIED:20260108T235329Z
UID:10002335-1921680000-1921690800@pharoahs-stjohns.com
SUMMARY:Historic Main Street Cruise
DESCRIPTION:
URL:https://pharoahs-stjohns.com/events/historic-main-street-cruise/2030-11-23/
LOCATION:2023 Main Street N\, 2023 Main Street N\, Jacksonville\, United States
END:VEVENT
BEGIN:VEVENT
DTSTART;TZID=America/New_York:20301203T160000
DTEND;TZID=America/New_York:20301203T190000
DTSTAMP:20260423T192635
CREATED:20240109T224012Z
LAST-MODIFIED:20240109T224154Z
UID:10002017-1922544000-1922554800@pharoahs-stjohns.com
SUMMARY:Culver's St Augustine Cruise-In
DESCRIPTION:
URL:https://pharoahs-stjohns.com/events/culvers-st-augustine-cruise-in/2030-12-03/
LOCATION:Culver’s St Augustine\, 3433 US Hwy 1\, St. Augustine\, 32086\, United States
END:VEVENT
BEGIN:VEVENT
DTSTART;TZID=America/New_York:20301214T073000
DTEND;TZID=America/New_York:20301214T103000
DTSTAMP:20260423T192635
CREATED:20230116T193156Z
LAST-MODIFIED:20260108T231748Z
UID:10002112-1923463800-1923474600@pharoahs-stjohns.com
SUMMARY:Caffeine and Octane
DESCRIPTION:This event is hosted by Jax Car Culture and will feature a First Coast Car Council member club at their monthly event. Featured Clubs are encouraged to bring their Club Banner or Flag. There will be a separate staging area for the featured club.  Food and restrooms are available
URL:https://pharoahs-stjohns.com/events/caffeine-and-octane/2030-12-14/
LOCATION:Avenues Mall\, Avenues Mall\, Jacksonville\, FL\, 32256\, United States
END:VEVENT
BEGIN:VEVENT
DTSTART;TZID=America/New_York:20301221T160000
DTEND;TZID=America/New_York:20301221T180000
DTSTAMP:20260423T192635
CREATED:20231113T143616Z
LAST-MODIFIED:20260108T225243Z
UID:10002023-1924099200-1924106400@pharoahs-stjohns.com
SUMMARY:St. Augustine Cruisers Third Saturday Cruise-in
DESCRIPTION:
URL:https://pharoahs-stjohns.com/events/st-augustine-cruisers-third-saturday-cruise-in-2/2030-12-21/
LOCATION:Classic Car Museum\, 4730 Dixie Hwy\, St. Augustine\, FL\, United States
END:VEVENT
BEGIN:VEVENT
DTSTART;TZID=America/New_York:20301228T080000
DTEND;TZID=America/New_York:20301228T100000
DTSTAMP:20260423T192635
CREATED:20260108T235005Z
LAST-MODIFIED:20260108T235005Z
UID:10002215-1924675200-1924682400@pharoahs-stjohns.com
SUMMARY:St. Augustine Cruisers Cars & Coffee
DESCRIPTION:
URL:https://pharoahs-stjohns.com/events/st-augustine-cruisers-cars-coffee/2030-12-28/
LOCATION:Classic Car Museum of St. Augustine\, 4730 Dixie Hwy\, St. Augustine\, FL\, 32086\, United States
END:VEVENT
BEGIN:VEVENT
DTSTART;TZID=America/New_York:20301228T140000
DTEND;TZID=America/New_York:20301228T170000
DTSTAMP:20260423T192635
CREATED:20260108T235159Z
LAST-MODIFIED:20260108T235159Z
UID:10002276-1924696800-1924707600@pharoahs-stjohns.com
SUMMARY:Clay County Cruisers Gator's Dockside Oakleaf Cruise-In
DESCRIPTION:
URL:https://pharoahs-stjohns.com/events/clay-county-cruisers-gators-dockside-oakleaf-cruise-in/2030-12-28/
LOCATION:8316 Merchants Way\, 8316 Merchants Way\, Jacksonville\, 32222\, United States
END:VEVENT
BEGIN:VEVENT
DTSTART;TZID=America/New_York:20301228T160000
DTEND;TZID=America/New_York:20301228T190000
DTSTAMP:20260423T192635
CREATED:20260108T235329Z
LAST-MODIFIED:20260108T235329Z
UID:10002336-1924704000-1924714800@pharoahs-stjohns.com
SUMMARY:Historic Main Street Cruise
DESCRIPTION:
URL:https://pharoahs-stjohns.com/events/historic-main-street-cruise/2030-12-28/
LOCATION:2023 Main Street N\, 2023 Main Street N\, Jacksonville\, United States
END:VEVENT
BEGIN:VEVENT
DTSTART;TZID=America/New_York:20310107T160000
DTEND;TZID=America/New_York:20310107T190000
DTSTAMP:20260423T192635
CREATED:20240109T224012Z
LAST-MODIFIED:20240109T224154Z
UID:10002025-1925568000-1925578800@pharoahs-stjohns.com
SUMMARY:Culver's St Augustine Cruise-In
DESCRIPTION:
URL:https://pharoahs-stjohns.com/events/culvers-st-augustine-cruise-in/2031-01-07/
LOCATION:Culver’s St Augustine\, 3433 US Hwy 1\, St. Augustine\, 32086\, United States
END:VEVENT
BEGIN:VEVENT
DTSTART;TZID=America/New_York:20310111T073000
DTEND;TZID=America/New_York:20310111T103000
DTSTAMP:20260423T192635
CREATED:20230116T193156Z
LAST-MODIFIED:20260108T231748Z
UID:10002337-1925883000-1925893800@pharoahs-stjohns.com
SUMMARY:Caffeine and Octane
DESCRIPTION:This event is hosted by Jax Car Culture and will feature a First Coast Car Council member club at their monthly event. Featured Clubs are encouraged to bring their Club Banner or Flag. There will be a separate staging area for the featured club.  Food and restrooms are available
URL:https://pharoahs-stjohns.com/events/caffeine-and-octane/2031-01-11/
LOCATION:Avenues Mall\, Avenues Mall\, Jacksonville\, FL\, 32256\, United States
END:VEVENT
END:VCALENDAR