BEGIN:VCALENDAR
VERSION:2.0
PRODID:-//Pharoahs of St Johns, Florida - ECPv6.15.20//NONSGML v1.0//EN
CALSCALE:GREGORIAN
METHOD:PUBLISH
X-WR-CALNAME:Pharoahs of St Johns, Florida
X-ORIGINAL-URL:https://pharoahs-stjohns.com
X-WR-CALDESC:Events for Pharoahs of St Johns, Florida
REFRESH-INTERVAL;VALUE=DURATION:PT1H
X-Robots-Tag:noindex
X-PUBLISHED-TTL:PT1H
BEGIN:VTIMEZONE
TZID:America/New_York
BEGIN:DAYLIGHT
TZOFFSETFROM:-0500
TZOFFSETTO:-0400
TZNAME:EDT
DTSTART:20250309T070000
END:DAYLIGHT
BEGIN:STANDARD
TZOFFSETFROM:-0400
TZOFFSETTO:-0500
TZNAME:EST
DTSTART:20251102T060000
END:STANDARD
BEGIN:DAYLIGHT
TZOFFSETFROM:-0500
TZOFFSETTO:-0400
TZNAME:EDT
DTSTART:20260308T070000
END:DAYLIGHT
BEGIN:STANDARD
TZOFFSETFROM:-0400
TZOFFSETTO:-0500
TZNAME:EST
DTSTART:20261101T060000
END:STANDARD
BEGIN:DAYLIGHT
TZOFFSETFROM:-0500
TZOFFSETTO:-0400
TZNAME:EDT
DTSTART:20270314T070000
END:DAYLIGHT
BEGIN:STANDARD
TZOFFSETFROM:-0400
TZOFFSETTO:-0500
TZNAME:EST
DTSTART:20271107T060000
END:STANDARD
BEGIN:DAYLIGHT
TZOFFSETFROM:-0500
TZOFFSETTO:-0400
TZNAME:EDT
DTSTART:20280312T070000
END:DAYLIGHT
BEGIN:STANDARD
TZOFFSETFROM:-0400
TZOFFSETTO:-0500
TZNAME:EST
DTSTART:20281105T060000
END:STANDARD
END:VTIMEZONE
BEGIN:VEVENT
DTSTART;TZID=America/New_York:20261016T160000
DTEND;TZID=America/New_York:20261016T190000
DTSTAMP:20260423T195808
CREATED:20260108T234034Z
LAST-MODIFIED:20260108T234034Z
UID:10002136-1792166400-1792177200@pharoahs-stjohns.com
SUMMARY:Clay County Cruisers Callahan's Irish Bistro Cruise-In
DESCRIPTION:
URL:https://pharoahs-stjohns.com/events/clay-county-cruisers-callahans-irish-bistro-cruise-in/2026-10-16/
LOCATION:2141 Loch Rane Blvd\, 2141 Loch Rane Blvd\, Orange Park\, 32073\, United States
END:VEVENT
BEGIN:VEVENT
DTSTART;TZID=America/New_York:20261017T140000
DTEND;TZID=America/New_York:20261017T170000
DTSTAMP:20260423T195808
CREATED:20260108T234349Z
LAST-MODIFIED:20260108T234349Z
UID:10002150-1792245600-1792256400@pharoahs-stjohns.com
SUMMARY:Clay County Cruisers Cheers Park Ave Cruise-In
DESCRIPTION:
URL:https://pharoahs-stjohns.com/events/clay-county-cruisers-cheers-park-ave-cruise-in/2026-10-17/
LOCATION:1138 Park Ave\, 1138 Park Ave\, Orange Park\, 32073\, United States
END:VEVENT
BEGIN:VEVENT
DTSTART;TZID=America/New_York:20261017T160000
DTEND;TZID=America/New_York:20261017T180000
DTSTAMP:20260423T195808
CREATED:20231113T143616Z
LAST-MODIFIED:20260108T225243Z
UID:10001468-1792252800-1792260000@pharoahs-stjohns.com
SUMMARY:St. Augustine Cruisers Third Saturday Cruise-in
DESCRIPTION:
URL:https://pharoahs-stjohns.com/events/st-augustine-cruisers-third-saturday-cruise-in-2/2026-10-17/
LOCATION:Classic Car Museum\, 4730 Dixie Hwy\, St. Augustine\, FL\, United States
END:VEVENT
BEGIN:VEVENT
DTSTART;TZID=America/New_York:20261024T080000
DTEND;TZID=America/New_York:20261024T100000
DTSTAMP:20260423T195808
CREATED:20260108T235005Z
LAST-MODIFIED:20260108T235005Z
UID:10002166-1792828800-1792836000@pharoahs-stjohns.com
SUMMARY:St. Augustine Cruisers Cars & Coffee
DESCRIPTION:
URL:https://pharoahs-stjohns.com/events/st-augustine-cruisers-cars-coffee/2026-10-24/
LOCATION:Classic Car Museum of St. Augustine\, 4730 Dixie Hwy\, St. Augustine\, FL\, 32086\, United States
END:VEVENT
BEGIN:VEVENT
DTSTART;TZID=America/New_York:20261024T140000
DTEND;TZID=America/New_York:20261024T170000
DTSTAMP:20260423T195808
CREATED:20260108T235159Z
LAST-MODIFIED:20260108T235159Z
UID:10002226-1792850400-1792861200@pharoahs-stjohns.com
SUMMARY:Clay County Cruisers Gator's Dockside Oakleaf Cruise-In
DESCRIPTION:
URL:https://pharoahs-stjohns.com/events/clay-county-cruisers-gators-dockside-oakleaf-cruise-in/2026-10-24/
LOCATION:8316 Merchants Way\, 8316 Merchants Way\, Jacksonville\, 32222\, United States
END:VEVENT
BEGIN:VEVENT
DTSTART;TZID=America/New_York:20261024T160000
DTEND;TZID=America/New_York:20261024T190000
DTSTAMP:20260423T195808
CREATED:20260108T235329Z
LAST-MODIFIED:20260108T235329Z
UID:10002286-1792857600-1792868400@pharoahs-stjohns.com
SUMMARY:Historic Main Street Cruise
DESCRIPTION:
URL:https://pharoahs-stjohns.com/events/historic-main-street-cruise/2026-10-24/
LOCATION:2023 Main Street N\, 2023 Main Street N\, Jacksonville\, United States
END:VEVENT
BEGIN:VEVENT
DTSTART;TZID=America/New_York:20261031T100000
DTEND;TZID=America/New_York:20261031T140000
DTSTAMP:20260423T195808
CREATED:20260108T224950Z
LAST-MODIFIED:20260413T190748Z
UID:10002049-1793440800-1793455200@pharoahs-stjohns.com
SUMMARY:Pharoahs 5th Saturday Cruise In & Trunk or Treat at The Creek - October 2026
DESCRIPTION:The Pharoahs Car Club of St. Johns Fl is hosting another 5th Saturday Cruise In @ Trout Creek Memorial Park & Marina!\n\nThis is a special edition on Halloween! We will be hosting a Trunk or Treat.\n\nCandy will be available for car owners for a donation\, which will be given to our charity of choice. More details to be announced!\n\nCome join us with your classic car\, truck\, bike\, or modern enthusiast car! All makes & models welcome.\n\nFood Trucks – Vendors – Raffles & 50/50\n\nAll proceeds go to K9s For Warriors. We have donated over $10\,000 in 3 years!\n\nGreat free-to-attend event for both participants and spectators!\n\nJoin the Pharoahs Car Club of St. Johns FL today!https://pharoahs-stjohns.com/join-us/
URL:https://pharoahs-stjohns.com/events/trunkortreat/
LOCATION:Trout Creek Memorial Park and Marina\, 6550 FL-13 N\, St. Augustine\, FL\, 32092\, United States
ATTACH;FMTTYPE=image/jpeg:https://pharoahs-stjohns.com/wp-content/uploads/2025/12/PharoahsOct312026Flyer-scaled.jpg
END:VEVENT
BEGIN:VEVENT
DTSTART;TZID=America/New_York:20261103T160000
DTEND;TZID=America/New_York:20261103T190000
DTSTAMP:20260423T195808
CREATED:20240109T224012Z
LAST-MODIFIED:20240109T224154Z
UID:10001528-1793721600-1793732400@pharoahs-stjohns.com
SUMMARY:Culver's St Augustine Cruise-In
DESCRIPTION:
URL:https://pharoahs-stjohns.com/events/culvers-st-augustine-cruise-in/2026-11-03/
LOCATION:Culver’s St Augustine\, 3433 US Hwy 1\, St. Augustine\, 32086\, United States
END:VEVENT
BEGIN:VEVENT
DTSTART;TZID=America/New_York:20261114T073000
DTEND;TZID=America/New_York:20261114T103000
DTSTAMP:20260423T195808
CREATED:20230116T193156Z
LAST-MODIFIED:20260108T231748Z
UID:10002063-1794641400-1794652200@pharoahs-stjohns.com
SUMMARY:Caffeine and Octane
DESCRIPTION:This event is hosted by Jax Car Culture and will feature a First Coast Car Council member club at their monthly event. Featured Clubs are encouraged to bring their Club Banner or Flag. There will be a separate staging area for the featured club.  Food and restrooms are available
URL:https://pharoahs-stjohns.com/events/caffeine-and-octane/2026-11-14/
LOCATION:Avenues Mall\, Avenues Mall\, Jacksonville\, FL\, 32256\, United States
END:VEVENT
BEGIN:VEVENT
DTSTART;TZID=America/New_York:20261114T130000
DTEND;TZID=America/New_York:20261114T160000
DTSTAMP:20260423T195808
CREATED:20260108T233853Z
LAST-MODIFIED:20260108T233853Z
UID:10002124-1794661200-1794672000@pharoahs-stjohns.com
SUMMARY:Clay County Cruisers Whiteys Fish Camp Cruise In
DESCRIPTION:
URL:https://pharoahs-stjohns.com/events/clay-county-cruisers-whiteys-fish-camp-cruise-in/2026-11-14/
LOCATION:2032 County Rd. 220\, 2032 County Rd. 220\, Fleming Island\, 32003\, United States
END:VEVENT
BEGIN:VEVENT
DTSTART;TZID=America/New_York:20261120T160000
DTEND;TZID=America/New_York:20261120T190000
DTSTAMP:20260423T195808
CREATED:20260108T234034Z
LAST-MODIFIED:20260108T234034Z
UID:10002137-1795190400-1795201200@pharoahs-stjohns.com
SUMMARY:Clay County Cruisers Callahan's Irish Bistro Cruise-In
DESCRIPTION:
URL:https://pharoahs-stjohns.com/events/clay-county-cruisers-callahans-irish-bistro-cruise-in/2026-11-20/
LOCATION:2141 Loch Rane Blvd\, 2141 Loch Rane Blvd\, Orange Park\, 32073\, United States
END:VEVENT
BEGIN:VEVENT
DTSTART;TZID=America/New_York:20261121T140000
DTEND;TZID=America/New_York:20261121T170000
DTSTAMP:20260423T195808
CREATED:20260108T234349Z
LAST-MODIFIED:20260108T234349Z
UID:10002151-1795269600-1795280400@pharoahs-stjohns.com
SUMMARY:Clay County Cruisers Cheers Park Ave Cruise-In
DESCRIPTION:
URL:https://pharoahs-stjohns.com/events/clay-county-cruisers-cheers-park-ave-cruise-in/2026-11-21/
LOCATION:1138 Park Ave\, 1138 Park Ave\, Orange Park\, 32073\, United States
END:VEVENT
BEGIN:VEVENT
DTSTART;TZID=America/New_York:20261121T160000
DTEND;TZID=America/New_York:20261121T180000
DTSTAMP:20260423T195808
CREATED:20231113T143616Z
LAST-MODIFIED:20260108T225243Z
UID:10001469-1795276800-1795284000@pharoahs-stjohns.com
SUMMARY:St. Augustine Cruisers Third Saturday Cruise-in
DESCRIPTION:
URL:https://pharoahs-stjohns.com/events/st-augustine-cruisers-third-saturday-cruise-in-2/2026-11-21/
LOCATION:Classic Car Museum\, 4730 Dixie Hwy\, St. Augustine\, FL\, United States
END:VEVENT
BEGIN:VEVENT
DTSTART;TZID=America/New_York:20261128T080000
DTEND;TZID=America/New_York:20261128T100000
DTSTAMP:20260423T195808
CREATED:20260108T235005Z
LAST-MODIFIED:20260108T235005Z
UID:10002167-1795852800-1795860000@pharoahs-stjohns.com
SUMMARY:St. Augustine Cruisers Cars & Coffee
DESCRIPTION:
URL:https://pharoahs-stjohns.com/events/st-augustine-cruisers-cars-coffee/2026-11-28/
LOCATION:Classic Car Museum of St. Augustine\, 4730 Dixie Hwy\, St. Augustine\, FL\, 32086\, United States
END:VEVENT
BEGIN:VEVENT
DTSTART;TZID=America/New_York:20261128T140000
DTEND;TZID=America/New_York:20261128T170000
DTSTAMP:20260423T195808
CREATED:20260108T235159Z
LAST-MODIFIED:20260108T235159Z
UID:10002227-1795874400-1795885200@pharoahs-stjohns.com
SUMMARY:Clay County Cruisers Gator's Dockside Oakleaf Cruise-In
DESCRIPTION:
URL:https://pharoahs-stjohns.com/events/clay-county-cruisers-gators-dockside-oakleaf-cruise-in/2026-11-28/
LOCATION:8316 Merchants Way\, 8316 Merchants Way\, Jacksonville\, 32222\, United States
END:VEVENT
BEGIN:VEVENT
DTSTART;TZID=America/New_York:20261128T160000
DTEND;TZID=America/New_York:20261128T190000
DTSTAMP:20260423T195808
CREATED:20260108T235329Z
LAST-MODIFIED:20260108T235329Z
UID:10002287-1795881600-1795892400@pharoahs-stjohns.com
SUMMARY:Historic Main Street Cruise
DESCRIPTION:
URL:https://pharoahs-stjohns.com/events/historic-main-street-cruise/2026-11-28/
LOCATION:2023 Main Street N\, 2023 Main Street N\, Jacksonville\, United States
END:VEVENT
BEGIN:VEVENT
DTSTART;TZID=America/New_York:20261201T160000
DTEND;TZID=America/New_York:20261201T190000
DTSTAMP:20260423T195808
CREATED:20240109T224012Z
LAST-MODIFIED:20240109T224154Z
UID:10001529-1796140800-1796151600@pharoahs-stjohns.com
SUMMARY:Culver's St Augustine Cruise-In
DESCRIPTION:
URL:https://pharoahs-stjohns.com/events/culvers-st-augustine-cruise-in/2026-12-01/
LOCATION:Culver’s St Augustine\, 3433 US Hwy 1\, St. Augustine\, 32086\, United States
END:VEVENT
BEGIN:VEVENT
DTSTART;TZID=America/New_York:20261212T073000
DTEND;TZID=America/New_York:20261212T103000
DTSTAMP:20260423T195808
CREATED:20230116T193156Z
LAST-MODIFIED:20260108T231748Z
UID:10002064-1797060600-1797071400@pharoahs-stjohns.com
SUMMARY:Caffeine and Octane
DESCRIPTION:This event is hosted by Jax Car Culture and will feature a First Coast Car Council member club at their monthly event. Featured Clubs are encouraged to bring their Club Banner or Flag. There will be a separate staging area for the featured club.  Food and restrooms are available
URL:https://pharoahs-stjohns.com/events/caffeine-and-octane/2026-12-12/
LOCATION:Avenues Mall\, Avenues Mall\, Jacksonville\, FL\, 32256\, United States
END:VEVENT
BEGIN:VEVENT
DTSTART;TZID=America/New_York:20261212T130000
DTEND;TZID=America/New_York:20261212T160000
DTSTAMP:20260423T195808
CREATED:20260108T233853Z
LAST-MODIFIED:20260108T233853Z
UID:10002125-1797080400-1797091200@pharoahs-stjohns.com
SUMMARY:Clay County Cruisers Whiteys Fish Camp Cruise In
DESCRIPTION:
URL:https://pharoahs-stjohns.com/events/clay-county-cruisers-whiteys-fish-camp-cruise-in/2026-12-12/
LOCATION:2032 County Rd. 220\, 2032 County Rd. 220\, Fleming Island\, 32003\, United States
END:VEVENT
BEGIN:VEVENT
DTSTART;TZID=America/New_York:20261218T160000
DTEND;TZID=America/New_York:20261218T190000
DTSTAMP:20260423T195808
CREATED:20260108T234034Z
LAST-MODIFIED:20260108T234034Z
UID:10002138-1797609600-1797620400@pharoahs-stjohns.com
SUMMARY:Clay County Cruisers Callahan's Irish Bistro Cruise-In
DESCRIPTION:
URL:https://pharoahs-stjohns.com/events/clay-county-cruisers-callahans-irish-bistro-cruise-in/2026-12-18/
LOCATION:2141 Loch Rane Blvd\, 2141 Loch Rane Blvd\, Orange Park\, 32073\, United States
END:VEVENT
BEGIN:VEVENT
DTSTART;TZID=America/New_York:20261219T140000
DTEND;TZID=America/New_York:20261219T170000
DTSTAMP:20260423T195808
CREATED:20260108T234349Z
LAST-MODIFIED:20260108T234349Z
UID:10002152-1797688800-1797699600@pharoahs-stjohns.com
SUMMARY:Clay County Cruisers Cheers Park Ave Cruise-In
DESCRIPTION:
URL:https://pharoahs-stjohns.com/events/clay-county-cruisers-cheers-park-ave-cruise-in/2026-12-19/
LOCATION:1138 Park Ave\, 1138 Park Ave\, Orange Park\, 32073\, United States
END:VEVENT
BEGIN:VEVENT
DTSTART;TZID=America/New_York:20261219T160000
DTEND;TZID=America/New_York:20261219T180000
DTSTAMP:20260423T195808
CREATED:20231113T143616Z
LAST-MODIFIED:20260108T225243Z
UID:10001470-1797696000-1797703200@pharoahs-stjohns.com
SUMMARY:St. Augustine Cruisers Third Saturday Cruise-in
DESCRIPTION:
URL:https://pharoahs-stjohns.com/events/st-augustine-cruisers-third-saturday-cruise-in-2/2026-12-19/
LOCATION:Classic Car Museum\, 4730 Dixie Hwy\, St. Augustine\, FL\, United States
END:VEVENT
BEGIN:VEVENT
DTSTART;TZID=America/New_York:20261226T140000
DTEND;TZID=America/New_York:20261226T170000
DTSTAMP:20260423T195808
CREATED:20260108T235159Z
LAST-MODIFIED:20260108T235159Z
UID:10002228-1798293600-1798304400@pharoahs-stjohns.com
SUMMARY:Clay County Cruisers Gator's Dockside Oakleaf Cruise-In
DESCRIPTION:
URL:https://pharoahs-stjohns.com/events/clay-county-cruisers-gators-dockside-oakleaf-cruise-in/2026-12-26/
LOCATION:8316 Merchants Way\, 8316 Merchants Way\, Jacksonville\, 32222\, United States
END:VEVENT
BEGIN:VEVENT
DTSTART;TZID=America/New_York:20261226T160000
DTEND;TZID=America/New_York:20261226T190000
DTSTAMP:20260423T195808
CREATED:20260108T235329Z
LAST-MODIFIED:20260108T235329Z
UID:10002288-1798300800-1798311600@pharoahs-stjohns.com
SUMMARY:Historic Main Street Cruise
DESCRIPTION:
URL:https://pharoahs-stjohns.com/events/historic-main-street-cruise/2026-12-26/
LOCATION:2023 Main Street N\, 2023 Main Street N\, Jacksonville\, United States
END:VEVENT
BEGIN:VEVENT
DTSTART;TZID=America/New_York:20270105T160000
DTEND;TZID=America/New_York:20270105T190000
DTSTAMP:20260423T195808
CREATED:20240109T224012Z
LAST-MODIFIED:20240109T224154Z
UID:10001530-1799164800-1799175600@pharoahs-stjohns.com
SUMMARY:Culver's St Augustine Cruise-In
DESCRIPTION:
URL:https://pharoahs-stjohns.com/events/culvers-st-augustine-cruise-in/2027-01-05/
LOCATION:Culver’s St Augustine\, 3433 US Hwy 1\, St. Augustine\, 32086\, United States
END:VEVENT
BEGIN:VEVENT
DTSTART;TZID=America/New_York:20270109T073000
DTEND;TZID=America/New_York:20270109T103000
DTSTAMP:20260423T195808
CREATED:20230116T193156Z
LAST-MODIFIED:20260108T231748Z
UID:10002065-1799479800-1799490600@pharoahs-stjohns.com
SUMMARY:Caffeine and Octane
DESCRIPTION:This event is hosted by Jax Car Culture and will feature a First Coast Car Council member club at their monthly event. Featured Clubs are encouraged to bring their Club Banner or Flag. There will be a separate staging area for the featured club.  Food and restrooms are available
URL:https://pharoahs-stjohns.com/events/caffeine-and-octane/2027-01-09/
LOCATION:Avenues Mall\, Avenues Mall\, Jacksonville\, FL\, 32256\, United States
END:VEVENT
BEGIN:VEVENT
DTSTART;TZID=America/New_York:20270109T130000
DTEND;TZID=America/New_York:20270109T160000
DTSTAMP:20260423T195808
CREATED:20260108T233853Z
LAST-MODIFIED:20260108T233853Z
UID:10002126-1799499600-1799510400@pharoahs-stjohns.com
SUMMARY:Clay County Cruisers Whiteys Fish Camp Cruise In
DESCRIPTION:
URL:https://pharoahs-stjohns.com/events/clay-county-cruisers-whiteys-fish-camp-cruise-in/2027-01-09/
LOCATION:2032 County Rd. 220\, 2032 County Rd. 220\, Fleming Island\, 32003\, United States
END:VEVENT
BEGIN:VEVENT
DTSTART;TZID=America/New_York:20270115T160000
DTEND;TZID=America/New_York:20270115T190000
DTSTAMP:20260423T195808
CREATED:20260108T234034Z
LAST-MODIFIED:20260108T234034Z
UID:10002139-1800028800-1800039600@pharoahs-stjohns.com
SUMMARY:Clay County Cruisers Callahan's Irish Bistro Cruise-In
DESCRIPTION:
URL:https://pharoahs-stjohns.com/events/clay-county-cruisers-callahans-irish-bistro-cruise-in/2027-01-15/
LOCATION:2141 Loch Rane Blvd\, 2141 Loch Rane Blvd\, Orange Park\, 32073\, United States
END:VEVENT
BEGIN:VEVENT
DTSTART;TZID=America/New_York:20270116T140000
DTEND;TZID=America/New_York:20270116T170000
DTSTAMP:20260423T195808
CREATED:20260108T234349Z
LAST-MODIFIED:20260108T234349Z
UID:10002153-1800108000-1800118800@pharoahs-stjohns.com
SUMMARY:Clay County Cruisers Cheers Park Ave Cruise-In
DESCRIPTION:
URL:https://pharoahs-stjohns.com/events/clay-county-cruisers-cheers-park-ave-cruise-in/2027-01-16/
LOCATION:1138 Park Ave\, 1138 Park Ave\, Orange Park\, 32073\, United States
END:VEVENT
BEGIN:VEVENT
DTSTART;TZID=America/New_York:20270116T160000
DTEND;TZID=America/New_York:20270116T180000
DTSTAMP:20260423T195808
CREATED:20231113T143616Z
LAST-MODIFIED:20260108T225243Z
UID:10001471-1800115200-1800122400@pharoahs-stjohns.com
SUMMARY:St. Augustine Cruisers Third Saturday Cruise-in
DESCRIPTION:
URL:https://pharoahs-stjohns.com/events/st-augustine-cruisers-third-saturday-cruise-in-2/2027-01-16/
LOCATION:Classic Car Museum\, 4730 Dixie Hwy\, St. Augustine\, FL\, United States
END:VEVENT
END:VCALENDAR