BEGIN:VCALENDAR
VERSION:2.0
PRODID:-//Pharoahs of St Johns, Florida - ECPv6.15.20//NONSGML v1.0//EN
CALSCALE:GREGORIAN
METHOD:PUBLISH
X-ORIGINAL-URL:https://pharoahs-stjohns.com
X-WR-CALDESC:Events for Pharoahs of St Johns, Florida
REFRESH-INTERVAL;VALUE=DURATION:PT1H
X-Robots-Tag:noindex
X-PUBLISHED-TTL:PT1H
BEGIN:VTIMEZONE
TZID:America/New_York
BEGIN:DAYLIGHT
TZOFFSETFROM:-0500
TZOFFSETTO:-0400
TZNAME:EDT
DTSTART:20260308T070000
END:DAYLIGHT
BEGIN:STANDARD
TZOFFSETFROM:-0400
TZOFFSETTO:-0500
TZNAME:EST
DTSTART:20261101T060000
END:STANDARD
BEGIN:DAYLIGHT
TZOFFSETFROM:-0500
TZOFFSETTO:-0400
TZNAME:EDT
DTSTART:20270314T070000
END:DAYLIGHT
BEGIN:STANDARD
TZOFFSETFROM:-0400
TZOFFSETTO:-0500
TZNAME:EST
DTSTART:20271107T060000
END:STANDARD
BEGIN:DAYLIGHT
TZOFFSETFROM:-0500
TZOFFSETTO:-0400
TZNAME:EDT
DTSTART:20280312T070000
END:DAYLIGHT
BEGIN:STANDARD
TZOFFSETFROM:-0400
TZOFFSETTO:-0500
TZNAME:EST
DTSTART:20281105T060000
END:STANDARD
END:VTIMEZONE
BEGIN:VEVENT
DTSTART;TZID=America/New_York:20270417T160000
DTEND;TZID=America/New_York:20270417T180000
DTSTAMP:20260423T175317
CREATED:20231113T143616Z
LAST-MODIFIED:20260108T225243Z
UID:10001474-1807977600-1807984800@pharoahs-stjohns.com
SUMMARY:St. Augustine Cruisers Third Saturday Cruise-in
DESCRIPTION:
URL:https://pharoahs-stjohns.com/events/st-augustine-cruisers-third-saturday-cruise-in-2/2027-04-17/
LOCATION:Classic Car Museum\, 4730 Dixie Hwy\, St. Augustine\, FL\, United States
END:VEVENT
BEGIN:VEVENT
DTSTART;TZID=America/New_York:20270424T080000
DTEND;TZID=America/New_York:20270424T100000
DTSTAMP:20260423T175317
CREATED:20260108T235005Z
LAST-MODIFIED:20260108T235005Z
UID:10002171-1808553600-1808560800@pharoahs-stjohns.com
SUMMARY:St. Augustine Cruisers Cars & Coffee
DESCRIPTION:
URL:https://pharoahs-stjohns.com/events/st-augustine-cruisers-cars-coffee/2027-04-24/
LOCATION:Classic Car Museum of St. Augustine\, 4730 Dixie Hwy\, St. Augustine\, FL\, 32086\, United States
END:VEVENT
BEGIN:VEVENT
DTSTART;TZID=America/New_York:20270424T140000
DTEND;TZID=America/New_York:20270424T170000
DTSTAMP:20260423T175317
CREATED:20260108T235159Z
LAST-MODIFIED:20260108T235159Z
UID:10002232-1808575200-1808586000@pharoahs-stjohns.com
SUMMARY:Clay County Cruisers Gator's Dockside Oakleaf Cruise-In
DESCRIPTION:
URL:https://pharoahs-stjohns.com/events/clay-county-cruisers-gators-dockside-oakleaf-cruise-in/2027-04-24/
LOCATION:8316 Merchants Way\, 8316 Merchants Way\, Jacksonville\, 32222\, United States
END:VEVENT
BEGIN:VEVENT
DTSTART;TZID=America/New_York:20270424T160000
DTEND;TZID=America/New_York:20270424T190000
DTSTAMP:20260423T175317
CREATED:20260108T235329Z
LAST-MODIFIED:20260108T235329Z
UID:10002292-1808582400-1808593200@pharoahs-stjohns.com
SUMMARY:Historic Main Street Cruise
DESCRIPTION:
URL:https://pharoahs-stjohns.com/events/historic-main-street-cruise/2027-04-24/
LOCATION:2023 Main Street N\, 2023 Main Street N\, Jacksonville\, United States
END:VEVENT
BEGIN:VEVENT
DTSTART;TZID=America/New_York:20270504T160000
DTEND;TZID=America/New_York:20270504T190000
DTSTAMP:20260423T175317
CREATED:20240109T224012Z
LAST-MODIFIED:20240109T224154Z
UID:10001534-1809446400-1809457200@pharoahs-stjohns.com
SUMMARY:Culver's St Augustine Cruise-In
DESCRIPTION:
URL:https://pharoahs-stjohns.com/events/culvers-st-augustine-cruise-in/2027-05-04/
LOCATION:Culver’s St Augustine\, 3433 US Hwy 1\, St. Augustine\, 32086\, United States
END:VEVENT
BEGIN:VEVENT
DTSTART;TZID=America/New_York:20270508T073000
DTEND;TZID=America/New_York:20270508T103000
DTSTAMP:20260423T175317
CREATED:20230116T193156Z
LAST-MODIFIED:20260108T231748Z
UID:10002069-1809761400-1809772200@pharoahs-stjohns.com
SUMMARY:Caffeine and Octane
DESCRIPTION:This event is hosted by Jax Car Culture and will feature a First Coast Car Council member club at their monthly event. Featured Clubs are encouraged to bring their Club Banner or Flag. There will be a separate staging area for the featured club.  Food and restrooms are available
URL:https://pharoahs-stjohns.com/events/caffeine-and-octane/2027-05-08/
LOCATION:Avenues Mall\, Avenues Mall\, Jacksonville\, FL\, 32256\, United States
END:VEVENT
BEGIN:VEVENT
DTSTART;TZID=America/New_York:20270515T160000
DTEND;TZID=America/New_York:20270515T180000
DTSTAMP:20260423T175317
CREATED:20231113T143616Z
LAST-MODIFIED:20260108T225243Z
UID:10001475-1810396800-1810404000@pharoahs-stjohns.com
SUMMARY:St. Augustine Cruisers Third Saturday Cruise-in
DESCRIPTION:
URL:https://pharoahs-stjohns.com/events/st-augustine-cruisers-third-saturday-cruise-in-2/2027-05-15/
LOCATION:Classic Car Museum\, 4730 Dixie Hwy\, St. Augustine\, FL\, United States
END:VEVENT
BEGIN:VEVENT
DTSTART;TZID=America/New_York:20270522T080000
DTEND;TZID=America/New_York:20270522T100000
DTSTAMP:20260423T175317
CREATED:20260108T235005Z
LAST-MODIFIED:20260108T235005Z
UID:10002172-1810972800-1810980000@pharoahs-stjohns.com
SUMMARY:St. Augustine Cruisers Cars & Coffee
DESCRIPTION:
URL:https://pharoahs-stjohns.com/events/st-augustine-cruisers-cars-coffee/2027-05-22/
LOCATION:Classic Car Museum of St. Augustine\, 4730 Dixie Hwy\, St. Augustine\, FL\, 32086\, United States
END:VEVENT
BEGIN:VEVENT
DTSTART;TZID=America/New_York:20270522T140000
DTEND;TZID=America/New_York:20270522T170000
DTSTAMP:20260423T175317
CREATED:20260108T235159Z
LAST-MODIFIED:20260108T235159Z
UID:10002233-1810994400-1811005200@pharoahs-stjohns.com
SUMMARY:Clay County Cruisers Gator's Dockside Oakleaf Cruise-In
DESCRIPTION:
URL:https://pharoahs-stjohns.com/events/clay-county-cruisers-gators-dockside-oakleaf-cruise-in/2027-05-22/
LOCATION:8316 Merchants Way\, 8316 Merchants Way\, Jacksonville\, 32222\, United States
END:VEVENT
BEGIN:VEVENT
DTSTART;TZID=America/New_York:20270522T160000
DTEND;TZID=America/New_York:20270522T190000
DTSTAMP:20260423T175317
CREATED:20260108T235329Z
LAST-MODIFIED:20260108T235329Z
UID:10002293-1811001600-1811012400@pharoahs-stjohns.com
SUMMARY:Historic Main Street Cruise
DESCRIPTION:
URL:https://pharoahs-stjohns.com/events/historic-main-street-cruise/2027-05-22/
LOCATION:2023 Main Street N\, 2023 Main Street N\, Jacksonville\, United States
END:VEVENT
BEGIN:VEVENT
DTSTART;TZID=America/New_York:20270601T160000
DTEND;TZID=America/New_York:20270601T190000
DTSTAMP:20260423T175317
CREATED:20240109T224012Z
LAST-MODIFIED:20240109T224154Z
UID:10001535-1811865600-1811876400@pharoahs-stjohns.com
SUMMARY:Culver's St Augustine Cruise-In
DESCRIPTION:
URL:https://pharoahs-stjohns.com/events/culvers-st-augustine-cruise-in/2027-06-01/
LOCATION:Culver’s St Augustine\, 3433 US Hwy 1\, St. Augustine\, 32086\, United States
END:VEVENT
BEGIN:VEVENT
DTSTART;TZID=America/New_York:20270612T073000
DTEND;TZID=America/New_York:20270612T103000
DTSTAMP:20260423T175317
CREATED:20230116T193156Z
LAST-MODIFIED:20260108T231748Z
UID:10002070-1812785400-1812796200@pharoahs-stjohns.com
SUMMARY:Caffeine and Octane
DESCRIPTION:This event is hosted by Jax Car Culture and will feature a First Coast Car Council member club at their monthly event. Featured Clubs are encouraged to bring their Club Banner or Flag. There will be a separate staging area for the featured club.  Food and restrooms are available
URL:https://pharoahs-stjohns.com/events/caffeine-and-octane/2027-06-12/
LOCATION:Avenues Mall\, Avenues Mall\, Jacksonville\, FL\, 32256\, United States
END:VEVENT
BEGIN:VEVENT
DTSTART;TZID=America/New_York:20270619T160000
DTEND;TZID=America/New_York:20270619T180000
DTSTAMP:20260423T175317
CREATED:20231113T143616Z
LAST-MODIFIED:20260108T225243Z
UID:10001476-1813420800-1813428000@pharoahs-stjohns.com
SUMMARY:St. Augustine Cruisers Third Saturday Cruise-in
DESCRIPTION:
URL:https://pharoahs-stjohns.com/events/st-augustine-cruisers-third-saturday-cruise-in-2/2027-06-19/
LOCATION:Classic Car Museum\, 4730 Dixie Hwy\, St. Augustine\, FL\, United States
END:VEVENT
BEGIN:VEVENT
DTSTART;TZID=America/New_York:20270626T080000
DTEND;TZID=America/New_York:20270626T100000
DTSTAMP:20260423T175317
CREATED:20260108T235005Z
LAST-MODIFIED:20260108T235005Z
UID:10002173-1813996800-1814004000@pharoahs-stjohns.com
SUMMARY:St. Augustine Cruisers Cars & Coffee
DESCRIPTION:
URL:https://pharoahs-stjohns.com/events/st-augustine-cruisers-cars-coffee/2027-06-26/
LOCATION:Classic Car Museum of St. Augustine\, 4730 Dixie Hwy\, St. Augustine\, FL\, 32086\, United States
END:VEVENT
BEGIN:VEVENT
DTSTART;TZID=America/New_York:20270626T140000
DTEND;TZID=America/New_York:20270626T170000
DTSTAMP:20260423T175317
CREATED:20260108T235159Z
LAST-MODIFIED:20260108T235159Z
UID:10002234-1814018400-1814029200@pharoahs-stjohns.com
SUMMARY:Clay County Cruisers Gator's Dockside Oakleaf Cruise-In
DESCRIPTION:
URL:https://pharoahs-stjohns.com/events/clay-county-cruisers-gators-dockside-oakleaf-cruise-in/2027-06-26/
LOCATION:8316 Merchants Way\, 8316 Merchants Way\, Jacksonville\, 32222\, United States
END:VEVENT
BEGIN:VEVENT
DTSTART;TZID=America/New_York:20270626T160000
DTEND;TZID=America/New_York:20270626T190000
DTSTAMP:20260423T175317
CREATED:20260108T235329Z
LAST-MODIFIED:20260108T235329Z
UID:10002294-1814025600-1814036400@pharoahs-stjohns.com
SUMMARY:Historic Main Street Cruise
DESCRIPTION:
URL:https://pharoahs-stjohns.com/events/historic-main-street-cruise/2027-06-26/
LOCATION:2023 Main Street N\, 2023 Main Street N\, Jacksonville\, United States
END:VEVENT
BEGIN:VEVENT
DTSTART;TZID=America/New_York:20270706T160000
DTEND;TZID=America/New_York:20270706T190000
DTSTAMP:20260423T175317
CREATED:20240109T224012Z
LAST-MODIFIED:20240109T224154Z
UID:10001536-1814889600-1814900400@pharoahs-stjohns.com
SUMMARY:Culver's St Augustine Cruise-In
DESCRIPTION:
URL:https://pharoahs-stjohns.com/events/culvers-st-augustine-cruise-in/2027-07-06/
LOCATION:Culver’s St Augustine\, 3433 US Hwy 1\, St. Augustine\, 32086\, United States
END:VEVENT
BEGIN:VEVENT
DTSTART;TZID=America/New_York:20270710T073000
DTEND;TZID=America/New_York:20270710T103000
DTSTAMP:20260423T175317
CREATED:20230116T193156Z
LAST-MODIFIED:20260108T231748Z
UID:10002071-1815204600-1815215400@pharoahs-stjohns.com
SUMMARY:Caffeine and Octane
DESCRIPTION:This event is hosted by Jax Car Culture and will feature a First Coast Car Council member club at their monthly event. Featured Clubs are encouraged to bring their Club Banner or Flag. There will be a separate staging area for the featured club.  Food and restrooms are available
URL:https://pharoahs-stjohns.com/events/caffeine-and-octane/2027-07-10/
LOCATION:Avenues Mall\, Avenues Mall\, Jacksonville\, FL\, 32256\, United States
END:VEVENT
BEGIN:VEVENT
DTSTART;TZID=America/New_York:20270717T160000
DTEND;TZID=America/New_York:20270717T180000
DTSTAMP:20260423T175317
CREATED:20231113T143616Z
LAST-MODIFIED:20260108T225243Z
UID:10001477-1815840000-1815847200@pharoahs-stjohns.com
SUMMARY:St. Augustine Cruisers Third Saturday Cruise-in
DESCRIPTION:
URL:https://pharoahs-stjohns.com/events/st-augustine-cruisers-third-saturday-cruise-in-2/2027-07-17/
LOCATION:Classic Car Museum\, 4730 Dixie Hwy\, St. Augustine\, FL\, United States
END:VEVENT
BEGIN:VEVENT
DTSTART;TZID=America/New_York:20270724T080000
DTEND;TZID=America/New_York:20270724T100000
DTSTAMP:20260423T175317
CREATED:20260108T235005Z
LAST-MODIFIED:20260108T235005Z
UID:10002174-1816416000-1816423200@pharoahs-stjohns.com
SUMMARY:St. Augustine Cruisers Cars & Coffee
DESCRIPTION:
URL:https://pharoahs-stjohns.com/events/st-augustine-cruisers-cars-coffee/2027-07-24/
LOCATION:Classic Car Museum of St. Augustine\, 4730 Dixie Hwy\, St. Augustine\, FL\, 32086\, United States
END:VEVENT
BEGIN:VEVENT
DTSTART;TZID=America/New_York:20270724T140000
DTEND;TZID=America/New_York:20270724T170000
DTSTAMP:20260423T175317
CREATED:20260108T235159Z
LAST-MODIFIED:20260108T235159Z
UID:10002235-1816437600-1816448400@pharoahs-stjohns.com
SUMMARY:Clay County Cruisers Gator's Dockside Oakleaf Cruise-In
DESCRIPTION:
URL:https://pharoahs-stjohns.com/events/clay-county-cruisers-gators-dockside-oakleaf-cruise-in/2027-07-24/
LOCATION:8316 Merchants Way\, 8316 Merchants Way\, Jacksonville\, 32222\, United States
END:VEVENT
BEGIN:VEVENT
DTSTART;TZID=America/New_York:20270724T160000
DTEND;TZID=America/New_York:20270724T190000
DTSTAMP:20260423T175317
CREATED:20260108T235329Z
LAST-MODIFIED:20260108T235329Z
UID:10002295-1816444800-1816455600@pharoahs-stjohns.com
SUMMARY:Historic Main Street Cruise
DESCRIPTION:
URL:https://pharoahs-stjohns.com/events/historic-main-street-cruise/2027-07-24/
LOCATION:2023 Main Street N\, 2023 Main Street N\, Jacksonville\, United States
END:VEVENT
BEGIN:VEVENT
DTSTART;TZID=America/New_York:20270803T160000
DTEND;TZID=America/New_York:20270803T190000
DTSTAMP:20260423T175317
CREATED:20240109T224012Z
LAST-MODIFIED:20240109T224154Z
UID:10001537-1817308800-1817319600@pharoahs-stjohns.com
SUMMARY:Culver's St Augustine Cruise-In
DESCRIPTION:
URL:https://pharoahs-stjohns.com/events/culvers-st-augustine-cruise-in/2027-08-03/
LOCATION:Culver’s St Augustine\, 3433 US Hwy 1\, St. Augustine\, 32086\, United States
END:VEVENT
BEGIN:VEVENT
DTSTART;TZID=America/New_York:20270814T073000
DTEND;TZID=America/New_York:20270814T103000
DTSTAMP:20260423T175317
CREATED:20230116T193156Z
LAST-MODIFIED:20260108T231748Z
UID:10002072-1818228600-1818239400@pharoahs-stjohns.com
SUMMARY:Caffeine and Octane
DESCRIPTION:This event is hosted by Jax Car Culture and will feature a First Coast Car Council member club at their monthly event. Featured Clubs are encouraged to bring their Club Banner or Flag. There will be a separate staging area for the featured club.  Food and restrooms are available
URL:https://pharoahs-stjohns.com/events/caffeine-and-octane/2027-08-14/
LOCATION:Avenues Mall\, Avenues Mall\, Jacksonville\, FL\, 32256\, United States
END:VEVENT
BEGIN:VEVENT
DTSTART;TZID=America/New_York:20270821T160000
DTEND;TZID=America/New_York:20270821T180000
DTSTAMP:20260423T175317
CREATED:20231113T143616Z
LAST-MODIFIED:20260108T225243Z
UID:10001478-1818864000-1818871200@pharoahs-stjohns.com
SUMMARY:St. Augustine Cruisers Third Saturday Cruise-in
DESCRIPTION:
URL:https://pharoahs-stjohns.com/events/st-augustine-cruisers-third-saturday-cruise-in-2/2027-08-21/
LOCATION:Classic Car Museum\, 4730 Dixie Hwy\, St. Augustine\, FL\, United States
END:VEVENT
BEGIN:VEVENT
DTSTART;TZID=America/New_York:20270828T080000
DTEND;TZID=America/New_York:20270828T100000
DTSTAMP:20260423T175317
CREATED:20260108T235005Z
LAST-MODIFIED:20260108T235005Z
UID:10002175-1819440000-1819447200@pharoahs-stjohns.com
SUMMARY:St. Augustine Cruisers Cars & Coffee
DESCRIPTION:
URL:https://pharoahs-stjohns.com/events/st-augustine-cruisers-cars-coffee/2027-08-28/
LOCATION:Classic Car Museum of St. Augustine\, 4730 Dixie Hwy\, St. Augustine\, FL\, 32086\, United States
END:VEVENT
BEGIN:VEVENT
DTSTART;TZID=America/New_York:20270828T140000
DTEND;TZID=America/New_York:20270828T170000
DTSTAMP:20260423T175317
CREATED:20260108T235159Z
LAST-MODIFIED:20260108T235159Z
UID:10002236-1819461600-1819472400@pharoahs-stjohns.com
SUMMARY:Clay County Cruisers Gator's Dockside Oakleaf Cruise-In
DESCRIPTION:
URL:https://pharoahs-stjohns.com/events/clay-county-cruisers-gators-dockside-oakleaf-cruise-in/2027-08-28/
LOCATION:8316 Merchants Way\, 8316 Merchants Way\, Jacksonville\, 32222\, United States
END:VEVENT
BEGIN:VEVENT
DTSTART;TZID=America/New_York:20270828T160000
DTEND;TZID=America/New_York:20270828T190000
DTSTAMP:20260423T175317
CREATED:20260108T235329Z
LAST-MODIFIED:20260108T235329Z
UID:10002296-1819468800-1819479600@pharoahs-stjohns.com
SUMMARY:Historic Main Street Cruise
DESCRIPTION:
URL:https://pharoahs-stjohns.com/events/historic-main-street-cruise/2027-08-28/
LOCATION:2023 Main Street N\, 2023 Main Street N\, Jacksonville\, United States
END:VEVENT
BEGIN:VEVENT
DTSTART;TZID=America/New_York:20270907T160000
DTEND;TZID=America/New_York:20270907T190000
DTSTAMP:20260423T175317
CREATED:20240109T224012Z
LAST-MODIFIED:20240109T224154Z
UID:10001538-1820332800-1820343600@pharoahs-stjohns.com
SUMMARY:Culver's St Augustine Cruise-In
DESCRIPTION:
URL:https://pharoahs-stjohns.com/events/culvers-st-augustine-cruise-in/2027-09-07/
LOCATION:Culver’s St Augustine\, 3433 US Hwy 1\, St. Augustine\, 32086\, United States
END:VEVENT
BEGIN:VEVENT
DTSTART;TZID=America/New_York:20270911T073000
DTEND;TZID=America/New_York:20270911T103000
DTSTAMP:20260423T175317
CREATED:20230116T193156Z
LAST-MODIFIED:20260108T231748Z
UID:10002073-1820647800-1820658600@pharoahs-stjohns.com
SUMMARY:Caffeine and Octane
DESCRIPTION:This event is hosted by Jax Car Culture and will feature a First Coast Car Council member club at their monthly event. Featured Clubs are encouraged to bring their Club Banner or Flag. There will be a separate staging area for the featured club.  Food and restrooms are available
URL:https://pharoahs-stjohns.com/events/caffeine-and-octane/2027-09-11/
LOCATION:Avenues Mall\, Avenues Mall\, Jacksonville\, FL\, 32256\, United States
END:VEVENT
END:VCALENDAR