BEGIN:VCALENDAR
VERSION:2.0
PRODID:-//Pharoahs of St Johns, Florida - ECPv6.15.20//NONSGML v1.0//EN
CALSCALE:GREGORIAN
METHOD:PUBLISH
X-WR-CALNAME:Pharoahs of St Johns, Florida
X-ORIGINAL-URL:https://pharoahs-stjohns.com
X-WR-CALDESC:Events for Pharoahs of St Johns, Florida
REFRESH-INTERVAL;VALUE=DURATION:PT1H
X-Robots-Tag:noindex
X-PUBLISHED-TTL:PT1H
BEGIN:VTIMEZONE
TZID:America/New_York
BEGIN:DAYLIGHT
TZOFFSETFROM:-0500
TZOFFSETTO:-0400
TZNAME:EDT
DTSTART:20250309T070000
END:DAYLIGHT
BEGIN:STANDARD
TZOFFSETFROM:-0400
TZOFFSETTO:-0500
TZNAME:EST
DTSTART:20251102T060000
END:STANDARD
BEGIN:DAYLIGHT
TZOFFSETFROM:-0500
TZOFFSETTO:-0400
TZNAME:EDT
DTSTART:20260308T070000
END:DAYLIGHT
BEGIN:STANDARD
TZOFFSETFROM:-0400
TZOFFSETTO:-0500
TZNAME:EST
DTSTART:20261101T060000
END:STANDARD
BEGIN:DAYLIGHT
TZOFFSETFROM:-0500
TZOFFSETTO:-0400
TZNAME:EDT
DTSTART:20270314T070000
END:DAYLIGHT
BEGIN:STANDARD
TZOFFSETFROM:-0400
TZOFFSETTO:-0500
TZNAME:EST
DTSTART:20271107T060000
END:STANDARD
BEGIN:DAYLIGHT
TZOFFSETFROM:-0500
TZOFFSETTO:-0400
TZNAME:EDT
DTSTART:20280312T070000
END:DAYLIGHT
BEGIN:STANDARD
TZOFFSETFROM:-0400
TZOFFSETTO:-0500
TZNAME:EST
DTSTART:20281105T060000
END:STANDARD
END:VTIMEZONE
BEGIN:VEVENT
DTSTART;TZID=America/New_York:20260516T140000
DTEND;TZID=America/New_York:20260516T170000
DTSTAMP:20260423T132928
CREATED:20260108T234349Z
LAST-MODIFIED:20260108T234349Z
UID:10002145-1778940000-1778950800@pharoahs-stjohns.com
SUMMARY:Clay County Cruisers Cheers Park Ave Cruise-In
DESCRIPTION:
URL:https://pharoahs-stjohns.com/events/clay-county-cruisers-cheers-park-ave-cruise-in/2026-05-16/
LOCATION:1138 Park Ave\, 1138 Park Ave\, Orange Park\, 32073\, United States
END:VEVENT
BEGIN:VEVENT
DTSTART;TZID=America/New_York:20260620T140000
DTEND;TZID=America/New_York:20260620T170000
DTSTAMP:20260423T132928
CREATED:20260108T234349Z
LAST-MODIFIED:20260108T234349Z
UID:10002146-1781964000-1781974800@pharoahs-stjohns.com
SUMMARY:Clay County Cruisers Cheers Park Ave Cruise-In
DESCRIPTION:
URL:https://pharoahs-stjohns.com/events/clay-county-cruisers-cheers-park-ave-cruise-in/2026-06-20/
LOCATION:1138 Park Ave\, 1138 Park Ave\, Orange Park\, 32073\, United States
END:VEVENT
BEGIN:VEVENT
DTSTART;TZID=America/New_York:20260718T140000
DTEND;TZID=America/New_York:20260718T170000
DTSTAMP:20260423T132928
CREATED:20260108T234349Z
LAST-MODIFIED:20260108T234349Z
UID:10002147-1784383200-1784394000@pharoahs-stjohns.com
SUMMARY:Clay County Cruisers Cheers Park Ave Cruise-In
DESCRIPTION:
URL:https://pharoahs-stjohns.com/events/clay-county-cruisers-cheers-park-ave-cruise-in/2026-07-18/
LOCATION:1138 Park Ave\, 1138 Park Ave\, Orange Park\, 32073\, United States
END:VEVENT
BEGIN:VEVENT
DTSTART;TZID=America/New_York:20260815T140000
DTEND;TZID=America/New_York:20260815T170000
DTSTAMP:20260423T132928
CREATED:20260108T234349Z
LAST-MODIFIED:20260108T234349Z
UID:10002148-1786802400-1786813200@pharoahs-stjohns.com
SUMMARY:Clay County Cruisers Cheers Park Ave Cruise-In
DESCRIPTION:
URL:https://pharoahs-stjohns.com/events/clay-county-cruisers-cheers-park-ave-cruise-in/2026-08-15/
LOCATION:1138 Park Ave\, 1138 Park Ave\, Orange Park\, 32073\, United States
END:VEVENT
BEGIN:VEVENT
DTSTART;TZID=America/New_York:20260919T140000
DTEND;TZID=America/New_York:20260919T170000
DTSTAMP:20260423T132928
CREATED:20260108T234349Z
LAST-MODIFIED:20260108T234349Z
UID:10002149-1789826400-1789837200@pharoahs-stjohns.com
SUMMARY:Clay County Cruisers Cheers Park Ave Cruise-In
DESCRIPTION:
URL:https://pharoahs-stjohns.com/events/clay-county-cruisers-cheers-park-ave-cruise-in/2026-09-19/
LOCATION:1138 Park Ave\, 1138 Park Ave\, Orange Park\, 32073\, United States
END:VEVENT
BEGIN:VEVENT
DTSTART;TZID=America/New_York:20261017T140000
DTEND;TZID=America/New_York:20261017T170000
DTSTAMP:20260423T132928
CREATED:20260108T234349Z
LAST-MODIFIED:20260108T234349Z
UID:10002150-1792245600-1792256400@pharoahs-stjohns.com
SUMMARY:Clay County Cruisers Cheers Park Ave Cruise-In
DESCRIPTION:
URL:https://pharoahs-stjohns.com/events/clay-county-cruisers-cheers-park-ave-cruise-in/2026-10-17/
LOCATION:1138 Park Ave\, 1138 Park Ave\, Orange Park\, 32073\, United States
END:VEVENT
BEGIN:VEVENT
DTSTART;TZID=America/New_York:20261121T140000
DTEND;TZID=America/New_York:20261121T170000
DTSTAMP:20260423T132928
CREATED:20260108T234349Z
LAST-MODIFIED:20260108T234349Z
UID:10002151-1795269600-1795280400@pharoahs-stjohns.com
SUMMARY:Clay County Cruisers Cheers Park Ave Cruise-In
DESCRIPTION:
URL:https://pharoahs-stjohns.com/events/clay-county-cruisers-cheers-park-ave-cruise-in/2026-11-21/
LOCATION:1138 Park Ave\, 1138 Park Ave\, Orange Park\, 32073\, United States
END:VEVENT
BEGIN:VEVENT
DTSTART;TZID=America/New_York:20261219T140000
DTEND;TZID=America/New_York:20261219T170000
DTSTAMP:20260423T132928
CREATED:20260108T234349Z
LAST-MODIFIED:20260108T234349Z
UID:10002152-1797688800-1797699600@pharoahs-stjohns.com
SUMMARY:Clay County Cruisers Cheers Park Ave Cruise-In
DESCRIPTION:
URL:https://pharoahs-stjohns.com/events/clay-county-cruisers-cheers-park-ave-cruise-in/2026-12-19/
LOCATION:1138 Park Ave\, 1138 Park Ave\, Orange Park\, 32073\, United States
END:VEVENT
BEGIN:VEVENT
DTSTART;TZID=America/New_York:20270116T140000
DTEND;TZID=America/New_York:20270116T170000
DTSTAMP:20260423T132928
CREATED:20260108T234349Z
LAST-MODIFIED:20260108T234349Z
UID:10002153-1800108000-1800118800@pharoahs-stjohns.com
SUMMARY:Clay County Cruisers Cheers Park Ave Cruise-In
DESCRIPTION:
URL:https://pharoahs-stjohns.com/events/clay-county-cruisers-cheers-park-ave-cruise-in/2027-01-16/
LOCATION:1138 Park Ave\, 1138 Park Ave\, Orange Park\, 32073\, United States
END:VEVENT
END:VCALENDAR