BEGIN:VCALENDAR
VERSION:2.0
PRODID:-//Pharoahs of St Johns, Florida - ECPv6.15.20//NONSGML v1.0//EN
CALSCALE:GREGORIAN
METHOD:PUBLISH
X-WR-CALNAME:Pharoahs of St Johns, Florida
X-ORIGINAL-URL:https://pharoahs-stjohns.com
X-WR-CALDESC:Events for Pharoahs of St Johns, Florida
REFRESH-INTERVAL;VALUE=DURATION:PT1H
X-Robots-Tag:noindex
X-PUBLISHED-TTL:PT1H
BEGIN:VTIMEZONE
TZID:America/New_York
BEGIN:DAYLIGHT
TZOFFSETFROM:-0500
TZOFFSETTO:-0400
TZNAME:EDT
DTSTART:20250309T070000
END:DAYLIGHT
BEGIN:STANDARD
TZOFFSETFROM:-0400
TZOFFSETTO:-0500
TZNAME:EST
DTSTART:20251102T060000
END:STANDARD
BEGIN:DAYLIGHT
TZOFFSETFROM:-0500
TZOFFSETTO:-0400
TZNAME:EDT
DTSTART:20260308T070000
END:DAYLIGHT
BEGIN:STANDARD
TZOFFSETFROM:-0400
TZOFFSETTO:-0500
TZNAME:EST
DTSTART:20261101T060000
END:STANDARD
BEGIN:DAYLIGHT
TZOFFSETFROM:-0500
TZOFFSETTO:-0400
TZNAME:EDT
DTSTART:20270314T070000
END:DAYLIGHT
BEGIN:STANDARD
TZOFFSETFROM:-0400
TZOFFSETTO:-0500
TZNAME:EST
DTSTART:20271107T060000
END:STANDARD
BEGIN:DAYLIGHT
TZOFFSETFROM:-0500
TZOFFSETTO:-0400
TZNAME:EDT
DTSTART:20280312T070000
END:DAYLIGHT
BEGIN:STANDARD
TZOFFSETFROM:-0400
TZOFFSETTO:-0500
TZNAME:EST
DTSTART:20281105T060000
END:STANDARD
BEGIN:DAYLIGHT
TZOFFSETFROM:-0500
TZOFFSETTO:-0400
TZNAME:EDT
DTSTART:20290311T070000
END:DAYLIGHT
BEGIN:STANDARD
TZOFFSETFROM:-0400
TZOFFSETTO:-0500
TZNAME:EST
DTSTART:20291104T060000
END:STANDARD
END:VTIMEZONE
BEGIN:VEVENT
DTSTART;TZID=America/New_York:20260509T073000
DTEND;TZID=America/New_York:20260509T103000
DTSTAMP:20260423T151227
CREATED:20230116T193156Z
LAST-MODIFIED:20260108T231748Z
UID:10002057-1778311800-1778322600@pharoahs-stjohns.com
SUMMARY:Caffeine and Octane
DESCRIPTION:This event is hosted by Jax Car Culture and will feature a First Coast Car Council member club at their monthly event. Featured Clubs are encouraged to bring their Club Banner or Flag. There will be a separate staging area for the featured club.  Food and restrooms are available
URL:https://pharoahs-stjohns.com/events/caffeine-and-octane/2026-05-09/
LOCATION:Avenues Mall\, Avenues Mall\, Jacksonville\, FL\, 32256\, United States
END:VEVENT
BEGIN:VEVENT
DTSTART;TZID=America/New_York:20260613T073000
DTEND;TZID=America/New_York:20260613T103000
DTSTAMP:20260423T151227
CREATED:20230116T193156Z
LAST-MODIFIED:20260108T231748Z
UID:10002058-1781335800-1781346600@pharoahs-stjohns.com
SUMMARY:Caffeine and Octane
DESCRIPTION:This event is hosted by Jax Car Culture and will feature a First Coast Car Council member club at their monthly event. Featured Clubs are encouraged to bring their Club Banner or Flag. There will be a separate staging area for the featured club.  Food and restrooms are available
URL:https://pharoahs-stjohns.com/events/caffeine-and-octane/2026-06-13/
LOCATION:Avenues Mall\, Avenues Mall\, Jacksonville\, FL\, 32256\, United States
END:VEVENT
BEGIN:VEVENT
DTSTART;TZID=America/New_York:20260711T073000
DTEND;TZID=America/New_York:20260711T103000
DTSTAMP:20260423T151227
CREATED:20230116T193156Z
LAST-MODIFIED:20260108T231748Z
UID:10002059-1783755000-1783765800@pharoahs-stjohns.com
SUMMARY:Caffeine and Octane
DESCRIPTION:This event is hosted by Jax Car Culture and will feature a First Coast Car Council member club at their monthly event. Featured Clubs are encouraged to bring their Club Banner or Flag. There will be a separate staging area for the featured club.  Food and restrooms are available
URL:https://pharoahs-stjohns.com/events/caffeine-and-octane/2026-07-11/
LOCATION:Avenues Mall\, Avenues Mall\, Jacksonville\, FL\, 32256\, United States
END:VEVENT
BEGIN:VEVENT
DTSTART;TZID=America/New_York:20260808T073000
DTEND;TZID=America/New_York:20260808T103000
DTSTAMP:20260423T151227
CREATED:20230116T193156Z
LAST-MODIFIED:20260108T231748Z
UID:10002060-1786174200-1786185000@pharoahs-stjohns.com
SUMMARY:Caffeine and Octane
DESCRIPTION:This event is hosted by Jax Car Culture and will feature a First Coast Car Council member club at their monthly event. Featured Clubs are encouraged to bring their Club Banner or Flag. There will be a separate staging area for the featured club.  Food and restrooms are available
URL:https://pharoahs-stjohns.com/events/caffeine-and-octane/2026-08-08/
LOCATION:Avenues Mall\, Avenues Mall\, Jacksonville\, FL\, 32256\, United States
END:VEVENT
BEGIN:VEVENT
DTSTART;TZID=America/New_York:20260912T073000
DTEND;TZID=America/New_York:20260912T103000
DTSTAMP:20260423T151227
CREATED:20230116T193156Z
LAST-MODIFIED:20260108T231748Z
UID:10002061-1789198200-1789209000@pharoahs-stjohns.com
SUMMARY:Caffeine and Octane
DESCRIPTION:This event is hosted by Jax Car Culture and will feature a First Coast Car Council member club at their monthly event. Featured Clubs are encouraged to bring their Club Banner or Flag. There will be a separate staging area for the featured club.  Food and restrooms are available
URL:https://pharoahs-stjohns.com/events/caffeine-and-octane/2026-09-12/
LOCATION:Avenues Mall\, Avenues Mall\, Jacksonville\, FL\, 32256\, United States
END:VEVENT
BEGIN:VEVENT
DTSTART;TZID=America/New_York:20261010T073000
DTEND;TZID=America/New_York:20261010T103000
DTSTAMP:20260423T151227
CREATED:20230116T193156Z
LAST-MODIFIED:20260108T231748Z
UID:10002062-1791617400-1791628200@pharoahs-stjohns.com
SUMMARY:Caffeine and Octane
DESCRIPTION:This event is hosted by Jax Car Culture and will feature a First Coast Car Council member club at their monthly event. Featured Clubs are encouraged to bring their Club Banner or Flag. There will be a separate staging area for the featured club.  Food and restrooms are available
URL:https://pharoahs-stjohns.com/events/caffeine-and-octane/2026-10-10/
LOCATION:Avenues Mall\, Avenues Mall\, Jacksonville\, FL\, 32256\, United States
END:VEVENT
BEGIN:VEVENT
DTSTART;TZID=America/New_York:20261114T073000
DTEND;TZID=America/New_York:20261114T103000
DTSTAMP:20260423T151227
CREATED:20230116T193156Z
LAST-MODIFIED:20260108T231748Z
UID:10002063-1794641400-1794652200@pharoahs-stjohns.com
SUMMARY:Caffeine and Octane
DESCRIPTION:This event is hosted by Jax Car Culture and will feature a First Coast Car Council member club at their monthly event. Featured Clubs are encouraged to bring their Club Banner or Flag. There will be a separate staging area for the featured club.  Food and restrooms are available
URL:https://pharoahs-stjohns.com/events/caffeine-and-octane/2026-11-14/
LOCATION:Avenues Mall\, Avenues Mall\, Jacksonville\, FL\, 32256\, United States
END:VEVENT
BEGIN:VEVENT
DTSTART;TZID=America/New_York:20261212T073000
DTEND;TZID=America/New_York:20261212T103000
DTSTAMP:20260423T151227
CREATED:20230116T193156Z
LAST-MODIFIED:20260108T231748Z
UID:10002064-1797060600-1797071400@pharoahs-stjohns.com
SUMMARY:Caffeine and Octane
DESCRIPTION:This event is hosted by Jax Car Culture and will feature a First Coast Car Council member club at their monthly event. Featured Clubs are encouraged to bring their Club Banner or Flag. There will be a separate staging area for the featured club.  Food and restrooms are available
URL:https://pharoahs-stjohns.com/events/caffeine-and-octane/2026-12-12/
LOCATION:Avenues Mall\, Avenues Mall\, Jacksonville\, FL\, 32256\, United States
END:VEVENT
BEGIN:VEVENT
DTSTART;TZID=America/New_York:20270109T073000
DTEND;TZID=America/New_York:20270109T103000
DTSTAMP:20260423T151227
CREATED:20230116T193156Z
LAST-MODIFIED:20260108T231748Z
UID:10002065-1799479800-1799490600@pharoahs-stjohns.com
SUMMARY:Caffeine and Octane
DESCRIPTION:This event is hosted by Jax Car Culture and will feature a First Coast Car Council member club at their monthly event. Featured Clubs are encouraged to bring their Club Banner or Flag. There will be a separate staging area for the featured club.  Food and restrooms are available
URL:https://pharoahs-stjohns.com/events/caffeine-and-octane/2027-01-09/
LOCATION:Avenues Mall\, Avenues Mall\, Jacksonville\, FL\, 32256\, United States
END:VEVENT
BEGIN:VEVENT
DTSTART;TZID=America/New_York:20270213T073000
DTEND;TZID=America/New_York:20270213T103000
DTSTAMP:20260423T151227
CREATED:20230116T193156Z
LAST-MODIFIED:20260108T231748Z
UID:10002066-1802503800-1802514600@pharoahs-stjohns.com
SUMMARY:Caffeine and Octane
DESCRIPTION:This event is hosted by Jax Car Culture and will feature a First Coast Car Council member club at their monthly event. Featured Clubs are encouraged to bring their Club Banner or Flag. There will be a separate staging area for the featured club.  Food and restrooms are available
URL:https://pharoahs-stjohns.com/events/caffeine-and-octane/2027-02-13/
LOCATION:Avenues Mall\, Avenues Mall\, Jacksonville\, FL\, 32256\, United States
END:VEVENT
BEGIN:VEVENT
DTSTART;TZID=America/New_York:20270313T073000
DTEND;TZID=America/New_York:20270313T103000
DTSTAMP:20260423T151227
CREATED:20230116T193156Z
LAST-MODIFIED:20260108T231748Z
UID:10002067-1804923000-1804933800@pharoahs-stjohns.com
SUMMARY:Caffeine and Octane
DESCRIPTION:This event is hosted by Jax Car Culture and will feature a First Coast Car Council member club at their monthly event. Featured Clubs are encouraged to bring their Club Banner or Flag. There will be a separate staging area for the featured club.  Food and restrooms are available
URL:https://pharoahs-stjohns.com/events/caffeine-and-octane/2027-03-13/
LOCATION:Avenues Mall\, Avenues Mall\, Jacksonville\, FL\, 32256\, United States
END:VEVENT
BEGIN:VEVENT
DTSTART;TZID=America/New_York:20270410T073000
DTEND;TZID=America/New_York:20270410T103000
DTSTAMP:20260423T151227
CREATED:20230116T193156Z
LAST-MODIFIED:20260108T231748Z
UID:10002068-1807342200-1807353000@pharoahs-stjohns.com
SUMMARY:Caffeine and Octane
DESCRIPTION:This event is hosted by Jax Car Culture and will feature a First Coast Car Council member club at their monthly event. Featured Clubs are encouraged to bring their Club Banner or Flag. There will be a separate staging area for the featured club.  Food and restrooms are available
URL:https://pharoahs-stjohns.com/events/caffeine-and-octane/2027-04-10/
LOCATION:Avenues Mall\, Avenues Mall\, Jacksonville\, FL\, 32256\, United States
END:VEVENT
BEGIN:VEVENT
DTSTART;TZID=America/New_York:20270508T073000
DTEND;TZID=America/New_York:20270508T103000
DTSTAMP:20260423T151227
CREATED:20230116T193156Z
LAST-MODIFIED:20260108T231748Z
UID:10002069-1809761400-1809772200@pharoahs-stjohns.com
SUMMARY:Caffeine and Octane
DESCRIPTION:This event is hosted by Jax Car Culture and will feature a First Coast Car Council member club at their monthly event. Featured Clubs are encouraged to bring their Club Banner or Flag. There will be a separate staging area for the featured club.  Food and restrooms are available
URL:https://pharoahs-stjohns.com/events/caffeine-and-octane/2027-05-08/
LOCATION:Avenues Mall\, Avenues Mall\, Jacksonville\, FL\, 32256\, United States
END:VEVENT
BEGIN:VEVENT
DTSTART;TZID=America/New_York:20270612T073000
DTEND;TZID=America/New_York:20270612T103000
DTSTAMP:20260423T151227
CREATED:20230116T193156Z
LAST-MODIFIED:20260108T231748Z
UID:10002070-1812785400-1812796200@pharoahs-stjohns.com
SUMMARY:Caffeine and Octane
DESCRIPTION:This event is hosted by Jax Car Culture and will feature a First Coast Car Council member club at their monthly event. Featured Clubs are encouraged to bring their Club Banner or Flag. There will be a separate staging area for the featured club.  Food and restrooms are available
URL:https://pharoahs-stjohns.com/events/caffeine-and-octane/2027-06-12/
LOCATION:Avenues Mall\, Avenues Mall\, Jacksonville\, FL\, 32256\, United States
END:VEVENT
BEGIN:VEVENT
DTSTART;TZID=America/New_York:20270710T073000
DTEND;TZID=America/New_York:20270710T103000
DTSTAMP:20260423T151227
CREATED:20230116T193156Z
LAST-MODIFIED:20260108T231748Z
UID:10002071-1815204600-1815215400@pharoahs-stjohns.com
SUMMARY:Caffeine and Octane
DESCRIPTION:This event is hosted by Jax Car Culture and will feature a First Coast Car Council member club at their monthly event. Featured Clubs are encouraged to bring their Club Banner or Flag. There will be a separate staging area for the featured club.  Food and restrooms are available
URL:https://pharoahs-stjohns.com/events/caffeine-and-octane/2027-07-10/
LOCATION:Avenues Mall\, Avenues Mall\, Jacksonville\, FL\, 32256\, United States
END:VEVENT
BEGIN:VEVENT
DTSTART;TZID=America/New_York:20270814T073000
DTEND;TZID=America/New_York:20270814T103000
DTSTAMP:20260423T151227
CREATED:20230116T193156Z
LAST-MODIFIED:20260108T231748Z
UID:10002072-1818228600-1818239400@pharoahs-stjohns.com
SUMMARY:Caffeine and Octane
DESCRIPTION:This event is hosted by Jax Car Culture and will feature a First Coast Car Council member club at their monthly event. Featured Clubs are encouraged to bring their Club Banner or Flag. There will be a separate staging area for the featured club.  Food and restrooms are available
URL:https://pharoahs-stjohns.com/events/caffeine-and-octane/2027-08-14/
LOCATION:Avenues Mall\, Avenues Mall\, Jacksonville\, FL\, 32256\, United States
END:VEVENT
BEGIN:VEVENT
DTSTART;TZID=America/New_York:20270911T073000
DTEND;TZID=America/New_York:20270911T103000
DTSTAMP:20260423T151227
CREATED:20230116T193156Z
LAST-MODIFIED:20260108T231748Z
UID:10002073-1820647800-1820658600@pharoahs-stjohns.com
SUMMARY:Caffeine and Octane
DESCRIPTION:This event is hosted by Jax Car Culture and will feature a First Coast Car Council member club at their monthly event. Featured Clubs are encouraged to bring their Club Banner or Flag. There will be a separate staging area for the featured club.  Food and restrooms are available
URL:https://pharoahs-stjohns.com/events/caffeine-and-octane/2027-09-11/
LOCATION:Avenues Mall\, Avenues Mall\, Jacksonville\, FL\, 32256\, United States
END:VEVENT
BEGIN:VEVENT
DTSTART;TZID=America/New_York:20271009T073000
DTEND;TZID=America/New_York:20271009T103000
DTSTAMP:20260423T151227
CREATED:20230116T193156Z
LAST-MODIFIED:20260108T231748Z
UID:10002074-1823067000-1823077800@pharoahs-stjohns.com
SUMMARY:Caffeine and Octane
DESCRIPTION:This event is hosted by Jax Car Culture and will feature a First Coast Car Council member club at their monthly event. Featured Clubs are encouraged to bring their Club Banner or Flag. There will be a separate staging area for the featured club.  Food and restrooms are available
URL:https://pharoahs-stjohns.com/events/caffeine-and-octane/2027-10-09/
LOCATION:Avenues Mall\, Avenues Mall\, Jacksonville\, FL\, 32256\, United States
END:VEVENT
BEGIN:VEVENT
DTSTART;TZID=America/New_York:20271113T073000
DTEND;TZID=America/New_York:20271113T103000
DTSTAMP:20260423T151227
CREATED:20230116T193156Z
LAST-MODIFIED:20260108T231748Z
UID:10002075-1826091000-1826101800@pharoahs-stjohns.com
SUMMARY:Caffeine and Octane
DESCRIPTION:This event is hosted by Jax Car Culture and will feature a First Coast Car Council member club at their monthly event. Featured Clubs are encouraged to bring their Club Banner or Flag. There will be a separate staging area for the featured club.  Food and restrooms are available
URL:https://pharoahs-stjohns.com/events/caffeine-and-octane/2027-11-13/
LOCATION:Avenues Mall\, Avenues Mall\, Jacksonville\, FL\, 32256\, United States
END:VEVENT
BEGIN:VEVENT
DTSTART;TZID=America/New_York:20271211T073000
DTEND;TZID=America/New_York:20271211T103000
DTSTAMP:20260423T151227
CREATED:20230116T193156Z
LAST-MODIFIED:20260108T231748Z
UID:10002076-1828510200-1828521000@pharoahs-stjohns.com
SUMMARY:Caffeine and Octane
DESCRIPTION:This event is hosted by Jax Car Culture and will feature a First Coast Car Council member club at their monthly event. Featured Clubs are encouraged to bring their Club Banner or Flag. There will be a separate staging area for the featured club.  Food and restrooms are available
URL:https://pharoahs-stjohns.com/events/caffeine-and-octane/2027-12-11/
LOCATION:Avenues Mall\, Avenues Mall\, Jacksonville\, FL\, 32256\, United States
END:VEVENT
BEGIN:VEVENT
DTSTART;TZID=America/New_York:20280108T073000
DTEND;TZID=America/New_York:20280108T103000
DTSTAMP:20260423T151227
CREATED:20230116T193156Z
LAST-MODIFIED:20260108T231748Z
UID:10002077-1830929400-1830940200@pharoahs-stjohns.com
SUMMARY:Caffeine and Octane
DESCRIPTION:This event is hosted by Jax Car Culture and will feature a First Coast Car Council member club at their monthly event. Featured Clubs are encouraged to bring their Club Banner or Flag. There will be a separate staging area for the featured club.  Food and restrooms are available
URL:https://pharoahs-stjohns.com/events/caffeine-and-octane/2028-01-08/
LOCATION:Avenues Mall\, Avenues Mall\, Jacksonville\, FL\, 32256\, United States
END:VEVENT
BEGIN:VEVENT
DTSTART;TZID=America/New_York:20280212T073000
DTEND;TZID=America/New_York:20280212T103000
DTSTAMP:20260423T151227
CREATED:20230116T193156Z
LAST-MODIFIED:20260108T231748Z
UID:10002078-1833953400-1833964200@pharoahs-stjohns.com
SUMMARY:Caffeine and Octane
DESCRIPTION:This event is hosted by Jax Car Culture and will feature a First Coast Car Council member club at their monthly event. Featured Clubs are encouraged to bring their Club Banner or Flag. There will be a separate staging area for the featured club.  Food and restrooms are available
URL:https://pharoahs-stjohns.com/events/caffeine-and-octane/2028-02-12/
LOCATION:Avenues Mall\, Avenues Mall\, Jacksonville\, FL\, 32256\, United States
END:VEVENT
BEGIN:VEVENT
DTSTART;TZID=America/New_York:20280311T073000
DTEND;TZID=America/New_York:20280311T103000
DTSTAMP:20260423T151227
CREATED:20230116T193156Z
LAST-MODIFIED:20260108T231748Z
UID:10002079-1836372600-1836383400@pharoahs-stjohns.com
SUMMARY:Caffeine and Octane
DESCRIPTION:This event is hosted by Jax Car Culture and will feature a First Coast Car Council member club at their monthly event. Featured Clubs are encouraged to bring their Club Banner or Flag. There will be a separate staging area for the featured club.  Food and restrooms are available
URL:https://pharoahs-stjohns.com/events/caffeine-and-octane/2028-03-11/
LOCATION:Avenues Mall\, Avenues Mall\, Jacksonville\, FL\, 32256\, United States
END:VEVENT
BEGIN:VEVENT
DTSTART;TZID=America/New_York:20280408T073000
DTEND;TZID=America/New_York:20280408T103000
DTSTAMP:20260423T151227
CREATED:20230116T193156Z
LAST-MODIFIED:20260108T231748Z
UID:10002080-1838791800-1838802600@pharoahs-stjohns.com
SUMMARY:Caffeine and Octane
DESCRIPTION:This event is hosted by Jax Car Culture and will feature a First Coast Car Council member club at their monthly event. Featured Clubs are encouraged to bring their Club Banner or Flag. There will be a separate staging area for the featured club.  Food and restrooms are available
URL:https://pharoahs-stjohns.com/events/caffeine-and-octane/2028-04-08/
LOCATION:Avenues Mall\, Avenues Mall\, Jacksonville\, FL\, 32256\, United States
END:VEVENT
BEGIN:VEVENT
DTSTART;TZID=America/New_York:20280513T073000
DTEND;TZID=America/New_York:20280513T103000
DTSTAMP:20260423T151227
CREATED:20230116T193156Z
LAST-MODIFIED:20260108T231748Z
UID:10002081-1841815800-1841826600@pharoahs-stjohns.com
SUMMARY:Caffeine and Octane
DESCRIPTION:This event is hosted by Jax Car Culture and will feature a First Coast Car Council member club at their monthly event. Featured Clubs are encouraged to bring their Club Banner or Flag. There will be a separate staging area for the featured club.  Food and restrooms are available
URL:https://pharoahs-stjohns.com/events/caffeine-and-octane/2028-05-13/
LOCATION:Avenues Mall\, Avenues Mall\, Jacksonville\, FL\, 32256\, United States
END:VEVENT
BEGIN:VEVENT
DTSTART;TZID=America/New_York:20280610T073000
DTEND;TZID=America/New_York:20280610T103000
DTSTAMP:20260423T151227
CREATED:20230116T193156Z
LAST-MODIFIED:20260108T231748Z
UID:10002082-1844235000-1844245800@pharoahs-stjohns.com
SUMMARY:Caffeine and Octane
DESCRIPTION:This event is hosted by Jax Car Culture and will feature a First Coast Car Council member club at their monthly event. Featured Clubs are encouraged to bring their Club Banner or Flag. There will be a separate staging area for the featured club.  Food and restrooms are available
URL:https://pharoahs-stjohns.com/events/caffeine-and-octane/2028-06-10/
LOCATION:Avenues Mall\, Avenues Mall\, Jacksonville\, FL\, 32256\, United States
END:VEVENT
BEGIN:VEVENT
DTSTART;TZID=America/New_York:20280708T073000
DTEND;TZID=America/New_York:20280708T103000
DTSTAMP:20260423T151227
CREATED:20230116T193156Z
LAST-MODIFIED:20260108T231748Z
UID:10002083-1846654200-1846665000@pharoahs-stjohns.com
SUMMARY:Caffeine and Octane
DESCRIPTION:This event is hosted by Jax Car Culture and will feature a First Coast Car Council member club at their monthly event. Featured Clubs are encouraged to bring their Club Banner or Flag. There will be a separate staging area for the featured club.  Food and restrooms are available
URL:https://pharoahs-stjohns.com/events/caffeine-and-octane/2028-07-08/
LOCATION:Avenues Mall\, Avenues Mall\, Jacksonville\, FL\, 32256\, United States
END:VEVENT
BEGIN:VEVENT
DTSTART;TZID=America/New_York:20280812T073000
DTEND;TZID=America/New_York:20280812T103000
DTSTAMP:20260423T151227
CREATED:20230116T193156Z
LAST-MODIFIED:20260108T231748Z
UID:10002084-1849678200-1849689000@pharoahs-stjohns.com
SUMMARY:Caffeine and Octane
DESCRIPTION:This event is hosted by Jax Car Culture and will feature a First Coast Car Council member club at their monthly event. Featured Clubs are encouraged to bring their Club Banner or Flag. There will be a separate staging area for the featured club.  Food and restrooms are available
URL:https://pharoahs-stjohns.com/events/caffeine-and-octane/2028-08-12/
LOCATION:Avenues Mall\, Avenues Mall\, Jacksonville\, FL\, 32256\, United States
END:VEVENT
BEGIN:VEVENT
DTSTART;TZID=America/New_York:20280909T073000
DTEND;TZID=America/New_York:20280909T103000
DTSTAMP:20260423T151227
CREATED:20230116T193156Z
LAST-MODIFIED:20260108T231748Z
UID:10002085-1852097400-1852108200@pharoahs-stjohns.com
SUMMARY:Caffeine and Octane
DESCRIPTION:This event is hosted by Jax Car Culture and will feature a First Coast Car Council member club at their monthly event. Featured Clubs are encouraged to bring their Club Banner or Flag. There will be a separate staging area for the featured club.  Food and restrooms are available
URL:https://pharoahs-stjohns.com/events/caffeine-and-octane/2028-09-09/
LOCATION:Avenues Mall\, Avenues Mall\, Jacksonville\, FL\, 32256\, United States
END:VEVENT
BEGIN:VEVENT
DTSTART;TZID=America/New_York:20281014T073000
DTEND;TZID=America/New_York:20281014T103000
DTSTAMP:20260423T151227
CREATED:20230116T193156Z
LAST-MODIFIED:20260108T231748Z
UID:10002086-1855121400-1855132200@pharoahs-stjohns.com
SUMMARY:Caffeine and Octane
DESCRIPTION:This event is hosted by Jax Car Culture and will feature a First Coast Car Council member club at their monthly event. Featured Clubs are encouraged to bring their Club Banner or Flag. There will be a separate staging area for the featured club.  Food and restrooms are available
URL:https://pharoahs-stjohns.com/events/caffeine-and-octane/2028-10-14/
LOCATION:Avenues Mall\, Avenues Mall\, Jacksonville\, FL\, 32256\, United States
END:VEVENT
END:VCALENDAR