BEGIN:VCALENDAR
VERSION:2.0
PRODID:-//Pharoahs of St Johns, Florida - ECPv6.15.20//NONSGML v1.0//EN
CALSCALE:GREGORIAN
METHOD:PUBLISH
X-WR-CALNAME:Pharoahs of St Johns, Florida
X-ORIGINAL-URL:https://pharoahs-stjohns.com
X-WR-CALDESC:Events for Pharoahs of St Johns, Florida
REFRESH-INTERVAL;VALUE=DURATION:PT1H
X-Robots-Tag:noindex
X-PUBLISHED-TTL:PT1H
BEGIN:VTIMEZONE
TZID:America/New_York
BEGIN:DAYLIGHT
TZOFFSETFROM:-0500
TZOFFSETTO:-0400
TZNAME:EDT
DTSTART:20250309T070000
END:DAYLIGHT
BEGIN:STANDARD
TZOFFSETFROM:-0400
TZOFFSETTO:-0500
TZNAME:EST
DTSTART:20251102T060000
END:STANDARD
BEGIN:DAYLIGHT
TZOFFSETFROM:-0500
TZOFFSETTO:-0400
TZNAME:EDT
DTSTART:20260308T070000
END:DAYLIGHT
BEGIN:STANDARD
TZOFFSETFROM:-0400
TZOFFSETTO:-0500
TZNAME:EST
DTSTART:20261101T060000
END:STANDARD
BEGIN:DAYLIGHT
TZOFFSETFROM:-0500
TZOFFSETTO:-0400
TZNAME:EDT
DTSTART:20270314T070000
END:DAYLIGHT
BEGIN:STANDARD
TZOFFSETFROM:-0400
TZOFFSETTO:-0500
TZNAME:EST
DTSTART:20271107T060000
END:STANDARD
END:VTIMEZONE
BEGIN:VEVENT
DTSTART;TZID=America/New_York:20260418T160000
DTEND;TZID=America/New_York:20260418T180000
DTSTAMP:20260423T151226
CREATED:20231113T143616Z
LAST-MODIFIED:20260108T225243Z
UID:10001462-1776528000-1776535200@pharoahs-stjohns.com
SUMMARY:St. Augustine Cruisers Third Saturday Cruise-in
DESCRIPTION:
URL:https://pharoahs-stjohns.com/events/st-augustine-cruisers-third-saturday-cruise-in-2/2026-04-18/
LOCATION:Classic Car Museum\, 4730 Dixie Hwy\, St. Augustine\, FL\, United States
END:VEVENT
BEGIN:VEVENT
DTSTART;TZID=America/New_York:20260407T160000
DTEND;TZID=America/New_York:20260407T190000
DTSTAMP:20260423T151226
CREATED:20240109T224012Z
LAST-MODIFIED:20240109T224154Z
UID:10001521-1775577600-1775588400@pharoahs-stjohns.com
SUMMARY:Culver's St Augustine Cruise-In
DESCRIPTION:
URL:https://pharoahs-stjohns.com/events/culvers-st-augustine-cruise-in/2026-04-07/
LOCATION:Culver’s St Augustine\, 3433 US Hwy 1\, St. Augustine\, 32086\, United States
END:VEVENT
BEGIN:VEVENT
DTSTART;TZID=America/New_York:20260328T080000
DTEND;TZID=America/New_York:20260328T100000
DTSTAMP:20260423T151226
CREATED:20260108T235005Z
LAST-MODIFIED:20260108T235005Z
UID:10002159-1774684800-1774692000@pharoahs-stjohns.com
SUMMARY:St. Augustine Cruisers Cars & Coffee
DESCRIPTION:
URL:https://pharoahs-stjohns.com/events/st-augustine-cruisers-cars-coffee/2026-03-28/
LOCATION:Classic Car Museum of St. Augustine\, 4730 Dixie Hwy\, St. Augustine\, FL\, 32086\, United States
END:VEVENT
BEGIN:VEVENT
DTSTART;TZID=America/New_York:20260321T160000
DTEND;TZID=America/New_York:20260321T180000
DTSTAMP:20260423T151226
CREATED:20231113T143616Z
LAST-MODIFIED:20260108T225243Z
UID:10001461-1774108800-1774116000@pharoahs-stjohns.com
SUMMARY:St. Augustine Cruisers Third Saturday Cruise-in
DESCRIPTION:
URL:https://pharoahs-stjohns.com/events/st-augustine-cruisers-third-saturday-cruise-in-2/2026-03-21/
LOCATION:Classic Car Museum\, 4730 Dixie Hwy\, St. Augustine\, FL\, United States
END:VEVENT
BEGIN:VEVENT
DTSTART;TZID=America/New_York:20260303T160000
DTEND;TZID=America/New_York:20260303T190000
DTSTAMP:20260423T151226
CREATED:20240109T224012Z
LAST-MODIFIED:20240109T224154Z
UID:10001520-1772553600-1772564400@pharoahs-stjohns.com
SUMMARY:Culver's St Augustine Cruise-In
DESCRIPTION:
URL:https://pharoahs-stjohns.com/events/culvers-st-augustine-cruise-in/2026-03-03/
LOCATION:Culver’s St Augustine\, 3433 US Hwy 1\, St. Augustine\, 32086\, United States
END:VEVENT
BEGIN:VEVENT
DTSTART;TZID=America/New_York:20260228T080000
DTEND;TZID=America/New_York:20260228T100000
DTSTAMP:20260423T151226
CREATED:20260108T235005Z
LAST-MODIFIED:20260108T235005Z
UID:10002158-1772265600-1772272800@pharoahs-stjohns.com
SUMMARY:St. Augustine Cruisers Cars & Coffee
DESCRIPTION:
URL:https://pharoahs-stjohns.com/events/st-augustine-cruisers-cars-coffee/2026-02-28/
LOCATION:Classic Car Museum of St. Augustine\, 4730 Dixie Hwy\, St. Augustine\, FL\, 32086\, United States
END:VEVENT
BEGIN:VEVENT
DTSTART;TZID=America/New_York:20260221T160000
DTEND;TZID=America/New_York:20260221T180000
DTSTAMP:20260423T151226
CREATED:20231113T143616Z
LAST-MODIFIED:20260108T225243Z
UID:10001460-1771689600-1771696800@pharoahs-stjohns.com
SUMMARY:St. Augustine Cruisers Third Saturday Cruise-in
DESCRIPTION:
URL:https://pharoahs-stjohns.com/events/st-augustine-cruisers-third-saturday-cruise-in-2/2026-02-21/
LOCATION:Classic Car Museum\, 4730 Dixie Hwy\, St. Augustine\, FL\, United States
END:VEVENT
BEGIN:VEVENT
DTSTART;TZID=America/New_York:20260203T160000
DTEND;TZID=America/New_York:20260203T190000
DTSTAMP:20260423T151226
CREATED:20240109T224012Z
LAST-MODIFIED:20240109T224154Z
UID:10001519-1770134400-1770145200@pharoahs-stjohns.com
SUMMARY:Culver's St Augustine Cruise-In
DESCRIPTION:
URL:https://pharoahs-stjohns.com/events/culvers-st-augustine-cruise-in/2026-02-03/
LOCATION:Culver’s St Augustine\, 3433 US Hwy 1\, St. Augustine\, 32086\, United States
END:VEVENT
BEGIN:VEVENT
DTSTART;TZID=America/New_York:20260124T080000
DTEND;TZID=America/New_York:20260124T100000
DTSTAMP:20260423T151226
CREATED:20260108T235005Z
LAST-MODIFIED:20260108T235005Z
UID:10002157-1769241600-1769248800@pharoahs-stjohns.com
SUMMARY:St. Augustine Cruisers Cars & Coffee
DESCRIPTION:
URL:https://pharoahs-stjohns.com/events/st-augustine-cruisers-cars-coffee/2026-01-24/
LOCATION:Classic Car Museum of St. Augustine\, 4730 Dixie Hwy\, St. Augustine\, FL\, 32086\, United States
END:VEVENT
END:VCALENDAR