BEGIN:VCALENDAR
VERSION:2.0
PRODID:-//Pharoahs of St Johns, Florida - ECPv6.15.20//NONSGML v1.0//EN
CALSCALE:GREGORIAN
METHOD:PUBLISH
X-WR-CALNAME:Pharoahs of St Johns, Florida
X-ORIGINAL-URL:https://pharoahs-stjohns.com
X-WR-CALDESC:Events for Pharoahs of St Johns, Florida
REFRESH-INTERVAL;VALUE=DURATION:PT1H
X-Robots-Tag:noindex
X-PUBLISHED-TTL:PT1H
BEGIN:VTIMEZONE
TZID:America/New_York
BEGIN:DAYLIGHT
TZOFFSETFROM:-0500
TZOFFSETTO:-0400
TZNAME:EDT
DTSTART:20280312T070000
END:DAYLIGHT
BEGIN:STANDARD
TZOFFSETFROM:-0400
TZOFFSETTO:-0500
TZNAME:EST
DTSTART:20281105T060000
END:STANDARD
BEGIN:DAYLIGHT
TZOFFSETFROM:-0500
TZOFFSETTO:-0400
TZNAME:EDT
DTSTART:20290311T070000
END:DAYLIGHT
BEGIN:STANDARD
TZOFFSETFROM:-0400
TZOFFSETTO:-0500
TZNAME:EST
DTSTART:20291104T060000
END:STANDARD
BEGIN:DAYLIGHT
TZOFFSETFROM:-0500
TZOFFSETTO:-0400
TZNAME:EDT
DTSTART:20300310T070000
END:DAYLIGHT
BEGIN:STANDARD
TZOFFSETFROM:-0400
TZOFFSETTO:-0500
TZNAME:EST
DTSTART:20301103T060000
END:STANDARD
END:VTIMEZONE
BEGIN:VEVENT
DTSTART;TZID=America/New_York:20290217T160000
DTEND;TZID=America/New_York:20290217T180000
DTSTAMP:20260424T014243
CREATED:20231113T143616Z
LAST-MODIFIED:20260108T225243Z
UID:10001763-1866038400-1866045600@pharoahs-stjohns.com
SUMMARY:St. Augustine Cruisers Third Saturday Cruise-in
DESCRIPTION:
URL:https://pharoahs-stjohns.com/events/st-augustine-cruisers-third-saturday-cruise-in-2/2029-02-17/
LOCATION:Classic Car Museum\, 4730 Dixie Hwy\, St. Augustine\, FL\, United States
END:VEVENT
BEGIN:VEVENT
DTSTART;TZID=America/New_York:20290224T080000
DTEND;TZID=America/New_York:20290224T100000
DTSTAMP:20260424T014243
CREATED:20260108T235005Z
LAST-MODIFIED:20260108T235005Z
UID:10002193-1866614400-1866621600@pharoahs-stjohns.com
SUMMARY:St. Augustine Cruisers Cars & Coffee
DESCRIPTION:
URL:https://pharoahs-stjohns.com/events/st-augustine-cruisers-cars-coffee/2029-02-24/
LOCATION:Classic Car Museum of St. Augustine\, 4730 Dixie Hwy\, St. Augustine\, FL\, 32086\, United States
END:VEVENT
BEGIN:VEVENT
DTSTART;TZID=America/New_York:20290306T160000
DTEND;TZID=America/New_York:20290306T190000
DTSTAMP:20260424T014243
CREATED:20240109T224012Z
LAST-MODIFIED:20240109T224154Z
UID:10001776-1867507200-1867518000@pharoahs-stjohns.com
SUMMARY:Culver's St Augustine Cruise-In
DESCRIPTION:
URL:https://pharoahs-stjohns.com/events/culvers-st-augustine-cruise-in/2029-03-06/
LOCATION:Culver’s St Augustine\, 3433 US Hwy 1\, St. Augustine\, 32086\, United States
END:VEVENT
BEGIN:VEVENT
DTSTART;TZID=America/New_York:20290317T160000
DTEND;TZID=America/New_York:20290317T180000
DTSTAMP:20260424T014243
CREATED:20231113T143616Z
LAST-MODIFIED:20260108T225243Z
UID:10001764-1868457600-1868464800@pharoahs-stjohns.com
SUMMARY:St. Augustine Cruisers Third Saturday Cruise-in
DESCRIPTION:
URL:https://pharoahs-stjohns.com/events/st-augustine-cruisers-third-saturday-cruise-in-2/2029-03-17/
LOCATION:Classic Car Museum\, 4730 Dixie Hwy\, St. Augustine\, FL\, United States
END:VEVENT
BEGIN:VEVENT
DTSTART;TZID=America/New_York:20290324T080000
DTEND;TZID=America/New_York:20290324T100000
DTSTAMP:20260424T014243
CREATED:20260108T235005Z
LAST-MODIFIED:20260108T235005Z
UID:10002194-1869033600-1869040800@pharoahs-stjohns.com
SUMMARY:St. Augustine Cruisers Cars & Coffee
DESCRIPTION:
URL:https://pharoahs-stjohns.com/events/st-augustine-cruisers-cars-coffee/2029-03-24/
LOCATION:Classic Car Museum of St. Augustine\, 4730 Dixie Hwy\, St. Augustine\, FL\, 32086\, United States
END:VEVENT
BEGIN:VEVENT
DTSTART;TZID=America/New_York:20290403T160000
DTEND;TZID=America/New_York:20290403T190000
DTSTAMP:20260424T014243
CREATED:20240109T224012Z
LAST-MODIFIED:20240109T224154Z
UID:10001777-1869926400-1869937200@pharoahs-stjohns.com
SUMMARY:Culver's St Augustine Cruise-In
DESCRIPTION:
URL:https://pharoahs-stjohns.com/events/culvers-st-augustine-cruise-in/2029-04-03/
LOCATION:Culver’s St Augustine\, 3433 US Hwy 1\, St. Augustine\, 32086\, United States
END:VEVENT
BEGIN:VEVENT
DTSTART;TZID=America/New_York:20290421T160000
DTEND;TZID=America/New_York:20290421T180000
DTSTAMP:20260424T014243
CREATED:20231113T143616Z
LAST-MODIFIED:20260108T225243Z
UID:10001765-1871481600-1871488800@pharoahs-stjohns.com
SUMMARY:St. Augustine Cruisers Third Saturday Cruise-in
DESCRIPTION:
URL:https://pharoahs-stjohns.com/events/st-augustine-cruisers-third-saturday-cruise-in-2/2029-04-21/
LOCATION:Classic Car Museum\, 4730 Dixie Hwy\, St. Augustine\, FL\, United States
END:VEVENT
BEGIN:VEVENT
DTSTART;TZID=America/New_York:20290428T080000
DTEND;TZID=America/New_York:20290428T100000
DTSTAMP:20260424T014243
CREATED:20260108T235005Z
LAST-MODIFIED:20260108T235005Z
UID:10002195-1872057600-1872064800@pharoahs-stjohns.com
SUMMARY:St. Augustine Cruisers Cars & Coffee
DESCRIPTION:
URL:https://pharoahs-stjohns.com/events/st-augustine-cruisers-cars-coffee/2029-04-28/
LOCATION:Classic Car Museum of St. Augustine\, 4730 Dixie Hwy\, St. Augustine\, FL\, 32086\, United States
END:VEVENT
BEGIN:VEVENT
DTSTART;TZID=America/New_York:20290501T160000
DTEND;TZID=America/New_York:20290501T190000
DTSTAMP:20260424T014243
CREATED:20240109T224012Z
LAST-MODIFIED:20240109T224154Z
UID:10001778-1872345600-1872356400@pharoahs-stjohns.com
SUMMARY:Culver's St Augustine Cruise-In
DESCRIPTION:
URL:https://pharoahs-stjohns.com/events/culvers-st-augustine-cruise-in/2029-05-01/
LOCATION:Culver’s St Augustine\, 3433 US Hwy 1\, St. Augustine\, 32086\, United States
END:VEVENT
BEGIN:VEVENT
DTSTART;TZID=America/New_York:20290519T160000
DTEND;TZID=America/New_York:20290519T180000
DTSTAMP:20260424T014243
CREATED:20231113T143616Z
LAST-MODIFIED:20260108T225243Z
UID:10001783-1873900800-1873908000@pharoahs-stjohns.com
SUMMARY:St. Augustine Cruisers Third Saturday Cruise-in
DESCRIPTION:
URL:https://pharoahs-stjohns.com/events/st-augustine-cruisers-third-saturday-cruise-in-2/2029-05-19/
LOCATION:Classic Car Museum\, 4730 Dixie Hwy\, St. Augustine\, FL\, United States
END:VEVENT
BEGIN:VEVENT
DTSTART;TZID=America/New_York:20290526T080000
DTEND;TZID=America/New_York:20290526T100000
DTSTAMP:20260424T014243
CREATED:20260108T235005Z
LAST-MODIFIED:20260108T235005Z
UID:10002196-1874476800-1874484000@pharoahs-stjohns.com
SUMMARY:St. Augustine Cruisers Cars & Coffee
DESCRIPTION:
URL:https://pharoahs-stjohns.com/events/st-augustine-cruisers-cars-coffee/2029-05-26/
LOCATION:Classic Car Museum of St. Augustine\, 4730 Dixie Hwy\, St. Augustine\, FL\, 32086\, United States
END:VEVENT
BEGIN:VEVENT
DTSTART;TZID=America/New_York:20290605T160000
DTEND;TZID=America/New_York:20290605T190000
DTSTAMP:20260424T014243
CREATED:20240109T224012Z
LAST-MODIFIED:20240109T224154Z
UID:10001787-1875369600-1875380400@pharoahs-stjohns.com
SUMMARY:Culver's St Augustine Cruise-In
DESCRIPTION:
URL:https://pharoahs-stjohns.com/events/culvers-st-augustine-cruise-in/2029-06-05/
LOCATION:Culver’s St Augustine\, 3433 US Hwy 1\, St. Augustine\, 32086\, United States
END:VEVENT
BEGIN:VEVENT
DTSTART;TZID=America/New_York:20290616T160000
DTEND;TZID=America/New_York:20290616T180000
DTSTAMP:20260424T014243
CREATED:20231113T143616Z
LAST-MODIFIED:20260108T225243Z
UID:10001792-1876320000-1876327200@pharoahs-stjohns.com
SUMMARY:St. Augustine Cruisers Third Saturday Cruise-in
DESCRIPTION:
URL:https://pharoahs-stjohns.com/events/st-augustine-cruisers-third-saturday-cruise-in-2/2029-06-16/
LOCATION:Classic Car Museum\, 4730 Dixie Hwy\, St. Augustine\, FL\, United States
END:VEVENT
BEGIN:VEVENT
DTSTART;TZID=America/New_York:20290623T080000
DTEND;TZID=America/New_York:20290623T100000
DTSTAMP:20260424T014243
CREATED:20260108T235005Z
LAST-MODIFIED:20260108T235005Z
UID:10002197-1876896000-1876903200@pharoahs-stjohns.com
SUMMARY:St. Augustine Cruisers Cars & Coffee
DESCRIPTION:
URL:https://pharoahs-stjohns.com/events/st-augustine-cruisers-cars-coffee/2029-06-23/
LOCATION:Classic Car Museum of St. Augustine\, 4730 Dixie Hwy\, St. Augustine\, FL\, 32086\, United States
END:VEVENT
BEGIN:VEVENT
DTSTART;TZID=America/New_York:20290703T160000
DTEND;TZID=America/New_York:20290703T190000
DTSTAMP:20260424T014243
CREATED:20240109T224012Z
LAST-MODIFIED:20240109T224154Z
UID:10001797-1877788800-1877799600@pharoahs-stjohns.com
SUMMARY:Culver's St Augustine Cruise-In
DESCRIPTION:
URL:https://pharoahs-stjohns.com/events/culvers-st-augustine-cruise-in/2029-07-03/
LOCATION:Culver’s St Augustine\, 3433 US Hwy 1\, St. Augustine\, 32086\, United States
END:VEVENT
BEGIN:VEVENT
DTSTART;TZID=America/New_York:20290721T160000
DTEND;TZID=America/New_York:20290721T180000
DTSTAMP:20260424T014243
CREATED:20231113T143616Z
LAST-MODIFIED:20260108T225243Z
UID:10001802-1879344000-1879351200@pharoahs-stjohns.com
SUMMARY:St. Augustine Cruisers Third Saturday Cruise-in
DESCRIPTION:
URL:https://pharoahs-stjohns.com/events/st-augustine-cruisers-third-saturday-cruise-in-2/2029-07-21/
LOCATION:Classic Car Museum\, 4730 Dixie Hwy\, St. Augustine\, FL\, United States
END:VEVENT
BEGIN:VEVENT
DTSTART;TZID=America/New_York:20290728T080000
DTEND;TZID=America/New_York:20290728T100000
DTSTAMP:20260424T014243
CREATED:20260108T235005Z
LAST-MODIFIED:20260108T235005Z
UID:10002198-1879920000-1879927200@pharoahs-stjohns.com
SUMMARY:St. Augustine Cruisers Cars & Coffee
DESCRIPTION:
URL:https://pharoahs-stjohns.com/events/st-augustine-cruisers-cars-coffee/2029-07-28/
LOCATION:Classic Car Museum of St. Augustine\, 4730 Dixie Hwy\, St. Augustine\, FL\, 32086\, United States
END:VEVENT
BEGIN:VEVENT
DTSTART;TZID=America/New_York:20290807T160000
DTEND;TZID=America/New_York:20290807T190000
DTSTAMP:20260424T014243
CREATED:20240109T224012Z
LAST-MODIFIED:20240109T224154Z
UID:10001806-1880812800-1880823600@pharoahs-stjohns.com
SUMMARY:Culver's St Augustine Cruise-In
DESCRIPTION:
URL:https://pharoahs-stjohns.com/events/culvers-st-augustine-cruise-in/2029-08-07/
LOCATION:Culver’s St Augustine\, 3433 US Hwy 1\, St. Augustine\, 32086\, United States
END:VEVENT
BEGIN:VEVENT
DTSTART;TZID=America/New_York:20290818T160000
DTEND;TZID=America/New_York:20290818T180000
DTSTAMP:20260424T014243
CREATED:20231113T143616Z
LAST-MODIFIED:20260108T225243Z
UID:10001812-1881763200-1881770400@pharoahs-stjohns.com
SUMMARY:St. Augustine Cruisers Third Saturday Cruise-in
DESCRIPTION:
URL:https://pharoahs-stjohns.com/events/st-augustine-cruisers-third-saturday-cruise-in-2/2029-08-18/
LOCATION:Classic Car Museum\, 4730 Dixie Hwy\, St. Augustine\, FL\, United States
END:VEVENT
BEGIN:VEVENT
DTSTART;TZID=America/New_York:20290825T080000
DTEND;TZID=America/New_York:20290825T100000
DTSTAMP:20260424T014243
CREATED:20260108T235005Z
LAST-MODIFIED:20260108T235005Z
UID:10002199-1882339200-1882346400@pharoahs-stjohns.com
SUMMARY:St. Augustine Cruisers Cars & Coffee
DESCRIPTION:
URL:https://pharoahs-stjohns.com/events/st-augustine-cruisers-cars-coffee/2029-08-25/
LOCATION:Classic Car Museum of St. Augustine\, 4730 Dixie Hwy\, St. Augustine\, FL\, 32086\, United States
END:VEVENT
BEGIN:VEVENT
DTSTART;TZID=America/New_York:20290904T160000
DTEND;TZID=America/New_York:20290904T190000
DTSTAMP:20260424T014243
CREATED:20240109T224012Z
LAST-MODIFIED:20240109T224154Z
UID:10001816-1883232000-1883242800@pharoahs-stjohns.com
SUMMARY:Culver's St Augustine Cruise-In
DESCRIPTION:
URL:https://pharoahs-stjohns.com/events/culvers-st-augustine-cruise-in/2029-09-04/
LOCATION:Culver’s St Augustine\, 3433 US Hwy 1\, St. Augustine\, 32086\, United States
END:VEVENT
BEGIN:VEVENT
DTSTART;TZID=America/New_York:20290915T160000
DTEND;TZID=America/New_York:20290915T180000
DTSTAMP:20260424T014243
CREATED:20231113T143616Z
LAST-MODIFIED:20260108T225243Z
UID:10001820-1884182400-1884189600@pharoahs-stjohns.com
SUMMARY:St. Augustine Cruisers Third Saturday Cruise-in
DESCRIPTION:
URL:https://pharoahs-stjohns.com/events/st-augustine-cruisers-third-saturday-cruise-in-2/2029-09-15/
LOCATION:Classic Car Museum\, 4730 Dixie Hwy\, St. Augustine\, FL\, United States
END:VEVENT
BEGIN:VEVENT
DTSTART;TZID=America/New_York:20290922T080000
DTEND;TZID=America/New_York:20290922T100000
DTSTAMP:20260424T014243
CREATED:20260108T235005Z
LAST-MODIFIED:20260108T235005Z
UID:10002200-1884758400-1884765600@pharoahs-stjohns.com
SUMMARY:St. Augustine Cruisers Cars & Coffee
DESCRIPTION:
URL:https://pharoahs-stjohns.com/events/st-augustine-cruisers-cars-coffee/2029-09-22/
LOCATION:Classic Car Museum of St. Augustine\, 4730 Dixie Hwy\, St. Augustine\, FL\, 32086\, United States
END:VEVENT
BEGIN:VEVENT
DTSTART;TZID=America/New_York:20291002T160000
DTEND;TZID=America/New_York:20291002T190000
DTSTAMP:20260424T014243
CREATED:20240109T224012Z
LAST-MODIFIED:20240109T224154Z
UID:10001823-1885651200-1885662000@pharoahs-stjohns.com
SUMMARY:Culver's St Augustine Cruise-In
DESCRIPTION:
URL:https://pharoahs-stjohns.com/events/culvers-st-augustine-cruise-in/2029-10-02/
LOCATION:Culver’s St Augustine\, 3433 US Hwy 1\, St. Augustine\, 32086\, United States
END:VEVENT
BEGIN:VEVENT
DTSTART;TZID=America/New_York:20291020T160000
DTEND;TZID=America/New_York:20291020T180000
DTSTAMP:20260424T014243
CREATED:20231113T143616Z
LAST-MODIFIED:20260108T225243Z
UID:10001829-1887206400-1887213600@pharoahs-stjohns.com
SUMMARY:St. Augustine Cruisers Third Saturday Cruise-in
DESCRIPTION:
URL:https://pharoahs-stjohns.com/events/st-augustine-cruisers-third-saturday-cruise-in-2/2029-10-20/
LOCATION:Classic Car Museum\, 4730 Dixie Hwy\, St. Augustine\, FL\, United States
END:VEVENT
BEGIN:VEVENT
DTSTART;TZID=America/New_York:20291027T080000
DTEND;TZID=America/New_York:20291027T100000
DTSTAMP:20260424T014243
CREATED:20260108T235005Z
LAST-MODIFIED:20260108T235005Z
UID:10002201-1887782400-1887789600@pharoahs-stjohns.com
SUMMARY:St. Augustine Cruisers Cars & Coffee
DESCRIPTION:
URL:https://pharoahs-stjohns.com/events/st-augustine-cruisers-cars-coffee/2029-10-27/
LOCATION:Classic Car Museum of St. Augustine\, 4730 Dixie Hwy\, St. Augustine\, FL\, 32086\, United States
END:VEVENT
BEGIN:VEVENT
DTSTART;TZID=America/New_York:20291106T160000
DTEND;TZID=America/New_York:20291106T190000
DTSTAMP:20260424T014243
CREATED:20240109T224012Z
LAST-MODIFIED:20240109T224154Z
UID:10001836-1888675200-1888686000@pharoahs-stjohns.com
SUMMARY:Culver's St Augustine Cruise-In
DESCRIPTION:
URL:https://pharoahs-stjohns.com/events/culvers-st-augustine-cruise-in/2029-11-06/
LOCATION:Culver’s St Augustine\, 3433 US Hwy 1\, St. Augustine\, 32086\, United States
END:VEVENT
BEGIN:VEVENT
DTSTART;TZID=America/New_York:20291117T160000
DTEND;TZID=America/New_York:20291117T180000
DTSTAMP:20260424T014243
CREATED:20231113T143616Z
LAST-MODIFIED:20260108T225243Z
UID:10001841-1889625600-1889632800@pharoahs-stjohns.com
SUMMARY:St. Augustine Cruisers Third Saturday Cruise-in
DESCRIPTION:
URL:https://pharoahs-stjohns.com/events/st-augustine-cruisers-third-saturday-cruise-in-2/2029-11-17/
LOCATION:Classic Car Museum\, 4730 Dixie Hwy\, St. Augustine\, FL\, United States
END:VEVENT
BEGIN:VEVENT
DTSTART;TZID=America/New_York:20291124T080000
DTEND;TZID=America/New_York:20291124T100000
DTSTAMP:20260424T014243
CREATED:20260108T235005Z
LAST-MODIFIED:20260108T235005Z
UID:10002202-1890201600-1890208800@pharoahs-stjohns.com
SUMMARY:St. Augustine Cruisers Cars & Coffee
DESCRIPTION:
URL:https://pharoahs-stjohns.com/events/st-augustine-cruisers-cars-coffee/2029-11-24/
LOCATION:Classic Car Museum of St. Augustine\, 4730 Dixie Hwy\, St. Augustine\, FL\, 32086\, United States
END:VEVENT
BEGIN:VEVENT
DTSTART;TZID=America/New_York:20291204T160000
DTEND;TZID=America/New_York:20291204T190000
DTSTAMP:20260424T014243
CREATED:20240109T224012Z
LAST-MODIFIED:20240109T224154Z
UID:10001843-1891094400-1891105200@pharoahs-stjohns.com
SUMMARY:Culver's St Augustine Cruise-In
DESCRIPTION:
URL:https://pharoahs-stjohns.com/events/culvers-st-augustine-cruise-in/2029-12-04/
LOCATION:Culver’s St Augustine\, 3433 US Hwy 1\, St. Augustine\, 32086\, United States
END:VEVENT
END:VCALENDAR