BEGIN:VCALENDAR
VERSION:2.0
PRODID:-//Pharoahs of St Johns, Florida - ECPv6.15.20//NONSGML v1.0//EN
CALSCALE:GREGORIAN
METHOD:PUBLISH
X-WR-CALNAME:Pharoahs of St Johns, Florida
X-ORIGINAL-URL:https://pharoahs-stjohns.com
X-WR-CALDESC:Events for Pharoahs of St Johns, Florida
REFRESH-INTERVAL;VALUE=DURATION:PT1H
X-Robots-Tag:noindex
X-PUBLISHED-TTL:PT1H
BEGIN:VTIMEZONE
TZID:America/New_York
BEGIN:DAYLIGHT
TZOFFSETFROM:-0500
TZOFFSETTO:-0400
TZNAME:EDT
DTSTART:20250309T070000
END:DAYLIGHT
BEGIN:STANDARD
TZOFFSETFROM:-0400
TZOFFSETTO:-0500
TZNAME:EST
DTSTART:20251102T060000
END:STANDARD
BEGIN:DAYLIGHT
TZOFFSETFROM:-0500
TZOFFSETTO:-0400
TZNAME:EDT
DTSTART:20260308T070000
END:DAYLIGHT
BEGIN:STANDARD
TZOFFSETFROM:-0400
TZOFFSETTO:-0500
TZNAME:EST
DTSTART:20261101T060000
END:STANDARD
BEGIN:DAYLIGHT
TZOFFSETFROM:-0500
TZOFFSETTO:-0400
TZNAME:EDT
DTSTART:20270314T070000
END:DAYLIGHT
BEGIN:STANDARD
TZOFFSETFROM:-0400
TZOFFSETTO:-0500
TZNAME:EST
DTSTART:20271107T060000
END:STANDARD
END:VTIMEZONE
BEGIN:VEVENT
DTSTART;TZID=America/New_York:20260418T140000
DTEND;TZID=America/New_York:20260418T170000
DTSTAMP:20260423T151334
CREATED:20260108T234349Z
LAST-MODIFIED:20260108T234349Z
UID:10002144-1776520800-1776531600@pharoahs-stjohns.com
SUMMARY:Clay County Cruisers Cheers Park Ave Cruise-In
DESCRIPTION:
URL:https://pharoahs-stjohns.com/events/clay-county-cruisers-cheers-park-ave-cruise-in/2026-04-18/
LOCATION:1138 Park Ave\, 1138 Park Ave\, Orange Park\, 32073\, United States
END:VEVENT
BEGIN:VEVENT
DTSTART;TZID=America/New_York:20260321T140000
DTEND;TZID=America/New_York:20260321T170000
DTSTAMP:20260423T151334
CREATED:20260108T234349Z
LAST-MODIFIED:20260108T234349Z
UID:10002143-1774101600-1774112400@pharoahs-stjohns.com
SUMMARY:Clay County Cruisers Cheers Park Ave Cruise-In
DESCRIPTION:
URL:https://pharoahs-stjohns.com/events/clay-county-cruisers-cheers-park-ave-cruise-in/2026-03-21/
LOCATION:1138 Park Ave\, 1138 Park Ave\, Orange Park\, 32073\, United States
END:VEVENT
BEGIN:VEVENT
DTSTART;TZID=America/New_York:20260221T140000
DTEND;TZID=America/New_York:20260221T170000
DTSTAMP:20260423T151334
CREATED:20260108T234349Z
LAST-MODIFIED:20260108T234349Z
UID:10002142-1771682400-1771693200@pharoahs-stjohns.com
SUMMARY:Clay County Cruisers Cheers Park Ave Cruise-In
DESCRIPTION:
URL:https://pharoahs-stjohns.com/events/clay-county-cruisers-cheers-park-ave-cruise-in/2026-02-21/
LOCATION:1138 Park Ave\, 1138 Park Ave\, Orange Park\, 32073\, United States
END:VEVENT
END:VCALENDAR