BEGIN:VCALENDAR
VERSION:2.0
PRODID:-//Pharoahs of St Johns, Florida - ECPv6.15.20//NONSGML v1.0//EN
CALSCALE:GREGORIAN
METHOD:PUBLISH
X-WR-CALNAME:Pharoahs of St Johns, Florida
X-ORIGINAL-URL:https://pharoahs-stjohns.com
X-WR-CALDESC:Events for Pharoahs of St Johns, Florida
REFRESH-INTERVAL;VALUE=DURATION:PT1H
X-Robots-Tag:noindex
X-PUBLISHED-TTL:PT1H
BEGIN:VTIMEZONE
TZID:America/New_York
BEGIN:DAYLIGHT
TZOFFSETFROM:-0500
TZOFFSETTO:-0400
TZNAME:EDT
DTSTART:20250309T070000
END:DAYLIGHT
BEGIN:STANDARD
TZOFFSETFROM:-0400
TZOFFSETTO:-0500
TZNAME:EST
DTSTART:20251102T060000
END:STANDARD
BEGIN:DAYLIGHT
TZOFFSETFROM:-0500
TZOFFSETTO:-0400
TZNAME:EDT
DTSTART:20260308T070000
END:DAYLIGHT
BEGIN:STANDARD
TZOFFSETFROM:-0400
TZOFFSETTO:-0500
TZNAME:EST
DTSTART:20261101T060000
END:STANDARD
BEGIN:DAYLIGHT
TZOFFSETFROM:-0500
TZOFFSETTO:-0400
TZNAME:EDT
DTSTART:20270314T070000
END:DAYLIGHT
BEGIN:STANDARD
TZOFFSETFROM:-0400
TZOFFSETTO:-0500
TZNAME:EST
DTSTART:20271107T060000
END:STANDARD
BEGIN:DAYLIGHT
TZOFFSETFROM:-0500
TZOFFSETTO:-0400
TZNAME:EDT
DTSTART:20280312T070000
END:DAYLIGHT
BEGIN:STANDARD
TZOFFSETFROM:-0400
TZOFFSETTO:-0500
TZNAME:EST
DTSTART:20281105T060000
END:STANDARD
BEGIN:DAYLIGHT
TZOFFSETFROM:-0500
TZOFFSETTO:-0400
TZNAME:EDT
DTSTART:20290311T070000
END:DAYLIGHT
BEGIN:STANDARD
TZOFFSETFROM:-0400
TZOFFSETTO:-0500
TZNAME:EST
DTSTART:20291104T060000
END:STANDARD
END:VTIMEZONE
BEGIN:VEVENT
DTSTART;TZID=America/New_York:20260425T160000
DTEND;TZID=America/New_York:20260425T190000
DTSTAMP:20260423T133047
CREATED:20260108T235329Z
LAST-MODIFIED:20260108T235329Z
UID:10002280-1777132800-1777143600@pharoahs-stjohns.com
SUMMARY:Historic Main Street Cruise
DESCRIPTION:
URL:https://pharoahs-stjohns.com/events/historic-main-street-cruise/2026-04-25/
LOCATION:2023 Main Street N\, 2023 Main Street N\, Jacksonville\, United States
END:VEVENT
BEGIN:VEVENT
DTSTART;TZID=America/New_York:20260523T160000
DTEND;TZID=America/New_York:20260523T190000
DTSTAMP:20260423T133047
CREATED:20260108T235329Z
LAST-MODIFIED:20260108T235329Z
UID:10002281-1779552000-1779562800@pharoahs-stjohns.com
SUMMARY:Historic Main Street Cruise
DESCRIPTION:
URL:https://pharoahs-stjohns.com/events/historic-main-street-cruise/2026-05-23/
LOCATION:2023 Main Street N\, 2023 Main Street N\, Jacksonville\, United States
END:VEVENT
BEGIN:VEVENT
DTSTART;TZID=America/New_York:20260627T160000
DTEND;TZID=America/New_York:20260627T190000
DTSTAMP:20260423T133047
CREATED:20260108T235329Z
LAST-MODIFIED:20260108T235329Z
UID:10002282-1782576000-1782586800@pharoahs-stjohns.com
SUMMARY:Historic Main Street Cruise
DESCRIPTION:
URL:https://pharoahs-stjohns.com/events/historic-main-street-cruise/2026-06-27/
LOCATION:2023 Main Street N\, 2023 Main Street N\, Jacksonville\, United States
END:VEVENT
BEGIN:VEVENT
DTSTART;TZID=America/New_York:20260725T160000
DTEND;TZID=America/New_York:20260725T190000
DTSTAMP:20260423T133047
CREATED:20260108T235329Z
LAST-MODIFIED:20260108T235329Z
UID:10002283-1784995200-1785006000@pharoahs-stjohns.com
SUMMARY:Historic Main Street Cruise
DESCRIPTION:
URL:https://pharoahs-stjohns.com/events/historic-main-street-cruise/2026-07-25/
LOCATION:2023 Main Street N\, 2023 Main Street N\, Jacksonville\, United States
END:VEVENT
BEGIN:VEVENT
DTSTART;TZID=America/New_York:20260822T160000
DTEND;TZID=America/New_York:20260822T190000
DTSTAMP:20260423T133047
CREATED:20260108T235329Z
LAST-MODIFIED:20260108T235329Z
UID:10002284-1787414400-1787425200@pharoahs-stjohns.com
SUMMARY:Historic Main Street Cruise
DESCRIPTION:
URL:https://pharoahs-stjohns.com/events/historic-main-street-cruise/2026-08-22/
LOCATION:2023 Main Street N\, 2023 Main Street N\, Jacksonville\, United States
END:VEVENT
BEGIN:VEVENT
DTSTART;TZID=America/New_York:20260926T160000
DTEND;TZID=America/New_York:20260926T190000
DTSTAMP:20260423T133047
CREATED:20260108T235329Z
LAST-MODIFIED:20260108T235329Z
UID:10002285-1790438400-1790449200@pharoahs-stjohns.com
SUMMARY:Historic Main Street Cruise
DESCRIPTION:
URL:https://pharoahs-stjohns.com/events/historic-main-street-cruise/2026-09-26/
LOCATION:2023 Main Street N\, 2023 Main Street N\, Jacksonville\, United States
END:VEVENT
BEGIN:VEVENT
DTSTART;TZID=America/New_York:20261024T160000
DTEND;TZID=America/New_York:20261024T190000
DTSTAMP:20260423T133047
CREATED:20260108T235329Z
LAST-MODIFIED:20260108T235329Z
UID:10002286-1792857600-1792868400@pharoahs-stjohns.com
SUMMARY:Historic Main Street Cruise
DESCRIPTION:
URL:https://pharoahs-stjohns.com/events/historic-main-street-cruise/2026-10-24/
LOCATION:2023 Main Street N\, 2023 Main Street N\, Jacksonville\, United States
END:VEVENT
BEGIN:VEVENT
DTSTART;TZID=America/New_York:20261128T160000
DTEND;TZID=America/New_York:20261128T190000
DTSTAMP:20260423T133047
CREATED:20260108T235329Z
LAST-MODIFIED:20260108T235329Z
UID:10002287-1795881600-1795892400@pharoahs-stjohns.com
SUMMARY:Historic Main Street Cruise
DESCRIPTION:
URL:https://pharoahs-stjohns.com/events/historic-main-street-cruise/2026-11-28/
LOCATION:2023 Main Street N\, 2023 Main Street N\, Jacksonville\, United States
END:VEVENT
BEGIN:VEVENT
DTSTART;TZID=America/New_York:20261226T160000
DTEND;TZID=America/New_York:20261226T190000
DTSTAMP:20260423T133047
CREATED:20260108T235329Z
LAST-MODIFIED:20260108T235329Z
UID:10002288-1798300800-1798311600@pharoahs-stjohns.com
SUMMARY:Historic Main Street Cruise
DESCRIPTION:
URL:https://pharoahs-stjohns.com/events/historic-main-street-cruise/2026-12-26/
LOCATION:2023 Main Street N\, 2023 Main Street N\, Jacksonville\, United States
END:VEVENT
BEGIN:VEVENT
DTSTART;TZID=America/New_York:20270123T160000
DTEND;TZID=America/New_York:20270123T190000
DTSTAMP:20260423T133047
CREATED:20260108T235329Z
LAST-MODIFIED:20260108T235329Z
UID:10002289-1800720000-1800730800@pharoahs-stjohns.com
SUMMARY:Historic Main Street Cruise
DESCRIPTION:
URL:https://pharoahs-stjohns.com/events/historic-main-street-cruise/2027-01-23/
LOCATION:2023 Main Street N\, 2023 Main Street N\, Jacksonville\, United States
END:VEVENT
BEGIN:VEVENT
DTSTART;TZID=America/New_York:20270227T160000
DTEND;TZID=America/New_York:20270227T190000
DTSTAMP:20260423T133047
CREATED:20260108T235329Z
LAST-MODIFIED:20260108T235329Z
UID:10002290-1803744000-1803754800@pharoahs-stjohns.com
SUMMARY:Historic Main Street Cruise
DESCRIPTION:
URL:https://pharoahs-stjohns.com/events/historic-main-street-cruise/2027-02-27/
LOCATION:2023 Main Street N\, 2023 Main Street N\, Jacksonville\, United States
END:VEVENT
BEGIN:VEVENT
DTSTART;TZID=America/New_York:20270327T160000
DTEND;TZID=America/New_York:20270327T190000
DTSTAMP:20260423T133047
CREATED:20260108T235329Z
LAST-MODIFIED:20260108T235329Z
UID:10002291-1806163200-1806174000@pharoahs-stjohns.com
SUMMARY:Historic Main Street Cruise
DESCRIPTION:
URL:https://pharoahs-stjohns.com/events/historic-main-street-cruise/2027-03-27/
LOCATION:2023 Main Street N\, 2023 Main Street N\, Jacksonville\, United States
END:VEVENT
BEGIN:VEVENT
DTSTART;TZID=America/New_York:20270424T160000
DTEND;TZID=America/New_York:20270424T190000
DTSTAMP:20260423T133047
CREATED:20260108T235329Z
LAST-MODIFIED:20260108T235329Z
UID:10002292-1808582400-1808593200@pharoahs-stjohns.com
SUMMARY:Historic Main Street Cruise
DESCRIPTION:
URL:https://pharoahs-stjohns.com/events/historic-main-street-cruise/2027-04-24/
LOCATION:2023 Main Street N\, 2023 Main Street N\, Jacksonville\, United States
END:VEVENT
BEGIN:VEVENT
DTSTART;TZID=America/New_York:20270522T160000
DTEND;TZID=America/New_York:20270522T190000
DTSTAMP:20260423T133047
CREATED:20260108T235329Z
LAST-MODIFIED:20260108T235329Z
UID:10002293-1811001600-1811012400@pharoahs-stjohns.com
SUMMARY:Historic Main Street Cruise
DESCRIPTION:
URL:https://pharoahs-stjohns.com/events/historic-main-street-cruise/2027-05-22/
LOCATION:2023 Main Street N\, 2023 Main Street N\, Jacksonville\, United States
END:VEVENT
BEGIN:VEVENT
DTSTART;TZID=America/New_York:20270626T160000
DTEND;TZID=America/New_York:20270626T190000
DTSTAMP:20260423T133047
CREATED:20260108T235329Z
LAST-MODIFIED:20260108T235329Z
UID:10002294-1814025600-1814036400@pharoahs-stjohns.com
SUMMARY:Historic Main Street Cruise
DESCRIPTION:
URL:https://pharoahs-stjohns.com/events/historic-main-street-cruise/2027-06-26/
LOCATION:2023 Main Street N\, 2023 Main Street N\, Jacksonville\, United States
END:VEVENT
BEGIN:VEVENT
DTSTART;TZID=America/New_York:20270724T160000
DTEND;TZID=America/New_York:20270724T190000
DTSTAMP:20260423T133047
CREATED:20260108T235329Z
LAST-MODIFIED:20260108T235329Z
UID:10002295-1816444800-1816455600@pharoahs-stjohns.com
SUMMARY:Historic Main Street Cruise
DESCRIPTION:
URL:https://pharoahs-stjohns.com/events/historic-main-street-cruise/2027-07-24/
LOCATION:2023 Main Street N\, 2023 Main Street N\, Jacksonville\, United States
END:VEVENT
BEGIN:VEVENT
DTSTART;TZID=America/New_York:20270828T160000
DTEND;TZID=America/New_York:20270828T190000
DTSTAMP:20260423T133047
CREATED:20260108T235329Z
LAST-MODIFIED:20260108T235329Z
UID:10002296-1819468800-1819479600@pharoahs-stjohns.com
SUMMARY:Historic Main Street Cruise
DESCRIPTION:
URL:https://pharoahs-stjohns.com/events/historic-main-street-cruise/2027-08-28/
LOCATION:2023 Main Street N\, 2023 Main Street N\, Jacksonville\, United States
END:VEVENT
BEGIN:VEVENT
DTSTART;TZID=America/New_York:20270925T160000
DTEND;TZID=America/New_York:20270925T190000
DTSTAMP:20260423T133047
CREATED:20260108T235329Z
LAST-MODIFIED:20260108T235329Z
UID:10002297-1821888000-1821898800@pharoahs-stjohns.com
SUMMARY:Historic Main Street Cruise
DESCRIPTION:
URL:https://pharoahs-stjohns.com/events/historic-main-street-cruise/2027-09-25/
LOCATION:2023 Main Street N\, 2023 Main Street N\, Jacksonville\, United States
END:VEVENT
BEGIN:VEVENT
DTSTART;TZID=America/New_York:20271023T160000
DTEND;TZID=America/New_York:20271023T190000
DTSTAMP:20260423T133048
CREATED:20260108T235329Z
LAST-MODIFIED:20260108T235329Z
UID:10002298-1824307200-1824318000@pharoahs-stjohns.com
SUMMARY:Historic Main Street Cruise
DESCRIPTION:
URL:https://pharoahs-stjohns.com/events/historic-main-street-cruise/2027-10-23/
LOCATION:2023 Main Street N\, 2023 Main Street N\, Jacksonville\, United States
END:VEVENT
BEGIN:VEVENT
DTSTART;TZID=America/New_York:20271127T160000
DTEND;TZID=America/New_York:20271127T190000
DTSTAMP:20260423T133048
CREATED:20260108T235329Z
LAST-MODIFIED:20260108T235329Z
UID:10002299-1827331200-1827342000@pharoahs-stjohns.com
SUMMARY:Historic Main Street Cruise
DESCRIPTION:
URL:https://pharoahs-stjohns.com/events/historic-main-street-cruise/2027-11-27/
LOCATION:2023 Main Street N\, 2023 Main Street N\, Jacksonville\, United States
END:VEVENT
BEGIN:VEVENT
DTSTART;TZID=America/New_York:20271225T160000
DTEND;TZID=America/New_York:20271225T190000
DTSTAMP:20260423T133048
CREATED:20260108T235329Z
LAST-MODIFIED:20260108T235329Z
UID:10002300-1829750400-1829761200@pharoahs-stjohns.com
SUMMARY:Historic Main Street Cruise
DESCRIPTION:
URL:https://pharoahs-stjohns.com/events/historic-main-street-cruise/2027-12-25/
LOCATION:2023 Main Street N\, 2023 Main Street N\, Jacksonville\, United States
END:VEVENT
BEGIN:VEVENT
DTSTART;TZID=America/New_York:20280122T160000
DTEND;TZID=America/New_York:20280122T190000
DTSTAMP:20260423T133048
CREATED:20260108T235329Z
LAST-MODIFIED:20260108T235329Z
UID:10002301-1832169600-1832180400@pharoahs-stjohns.com
SUMMARY:Historic Main Street Cruise
DESCRIPTION:
URL:https://pharoahs-stjohns.com/events/historic-main-street-cruise/2028-01-22/
LOCATION:2023 Main Street N\, 2023 Main Street N\, Jacksonville\, United States
END:VEVENT
BEGIN:VEVENT
DTSTART;TZID=America/New_York:20280226T160000
DTEND;TZID=America/New_York:20280226T190000
DTSTAMP:20260423T133048
CREATED:20260108T235329Z
LAST-MODIFIED:20260108T235329Z
UID:10002302-1835193600-1835204400@pharoahs-stjohns.com
SUMMARY:Historic Main Street Cruise
DESCRIPTION:
URL:https://pharoahs-stjohns.com/events/historic-main-street-cruise/2028-02-26/
LOCATION:2023 Main Street N\, 2023 Main Street N\, Jacksonville\, United States
END:VEVENT
BEGIN:VEVENT
DTSTART;TZID=America/New_York:20280325T160000
DTEND;TZID=America/New_York:20280325T190000
DTSTAMP:20260423T133048
CREATED:20260108T235329Z
LAST-MODIFIED:20260108T235329Z
UID:10002303-1837612800-1837623600@pharoahs-stjohns.com
SUMMARY:Historic Main Street Cruise
DESCRIPTION:
URL:https://pharoahs-stjohns.com/events/historic-main-street-cruise/2028-03-25/
LOCATION:2023 Main Street N\, 2023 Main Street N\, Jacksonville\, United States
END:VEVENT
BEGIN:VEVENT
DTSTART;TZID=America/New_York:20280422T160000
DTEND;TZID=America/New_York:20280422T190000
DTSTAMP:20260423T133048
CREATED:20260108T235329Z
LAST-MODIFIED:20260108T235329Z
UID:10002304-1840032000-1840042800@pharoahs-stjohns.com
SUMMARY:Historic Main Street Cruise
DESCRIPTION:
URL:https://pharoahs-stjohns.com/events/historic-main-street-cruise/2028-04-22/
LOCATION:2023 Main Street N\, 2023 Main Street N\, Jacksonville\, United States
END:VEVENT
BEGIN:VEVENT
DTSTART;TZID=America/New_York:20280527T160000
DTEND;TZID=America/New_York:20280527T190000
DTSTAMP:20260423T133048
CREATED:20260108T235329Z
LAST-MODIFIED:20260108T235329Z
UID:10002305-1843056000-1843066800@pharoahs-stjohns.com
SUMMARY:Historic Main Street Cruise
DESCRIPTION:
URL:https://pharoahs-stjohns.com/events/historic-main-street-cruise/2028-05-27/
LOCATION:2023 Main Street N\, 2023 Main Street N\, Jacksonville\, United States
END:VEVENT
BEGIN:VEVENT
DTSTART;TZID=America/New_York:20280624T160000
DTEND;TZID=America/New_York:20280624T190000
DTSTAMP:20260423T133048
CREATED:20260108T235329Z
LAST-MODIFIED:20260108T235329Z
UID:10002306-1845475200-1845486000@pharoahs-stjohns.com
SUMMARY:Historic Main Street Cruise
DESCRIPTION:
URL:https://pharoahs-stjohns.com/events/historic-main-street-cruise/2028-06-24/
LOCATION:2023 Main Street N\, 2023 Main Street N\, Jacksonville\, United States
END:VEVENT
BEGIN:VEVENT
DTSTART;TZID=America/New_York:20280722T160000
DTEND;TZID=America/New_York:20280722T190000
DTSTAMP:20260423T133048
CREATED:20260108T235329Z
LAST-MODIFIED:20260108T235329Z
UID:10002307-1847894400-1847905200@pharoahs-stjohns.com
SUMMARY:Historic Main Street Cruise
DESCRIPTION:
URL:https://pharoahs-stjohns.com/events/historic-main-street-cruise/2028-07-22/
LOCATION:2023 Main Street N\, 2023 Main Street N\, Jacksonville\, United States
END:VEVENT
BEGIN:VEVENT
DTSTART;TZID=America/New_York:20280826T160000
DTEND;TZID=America/New_York:20280826T190000
DTSTAMP:20260423T133048
CREATED:20260108T235329Z
LAST-MODIFIED:20260108T235329Z
UID:10002308-1850918400-1850929200@pharoahs-stjohns.com
SUMMARY:Historic Main Street Cruise
DESCRIPTION:
URL:https://pharoahs-stjohns.com/events/historic-main-street-cruise/2028-08-26/
LOCATION:2023 Main Street N\, 2023 Main Street N\, Jacksonville\, United States
END:VEVENT
BEGIN:VEVENT
DTSTART;TZID=America/New_York:20280923T160000
DTEND;TZID=America/New_York:20280923T190000
DTSTAMP:20260423T133048
CREATED:20260108T235329Z
LAST-MODIFIED:20260108T235329Z
UID:10002309-1853337600-1853348400@pharoahs-stjohns.com
SUMMARY:Historic Main Street Cruise
DESCRIPTION:
URL:https://pharoahs-stjohns.com/events/historic-main-street-cruise/2028-09-23/
LOCATION:2023 Main Street N\, 2023 Main Street N\, Jacksonville\, United States
END:VEVENT
END:VCALENDAR