BEGIN:VCALENDAR
VERSION:2.0
PRODID:-//Pharoahs of St Johns, Florida - ECPv6.15.20//NONSGML v1.0//EN
CALSCALE:GREGORIAN
METHOD:PUBLISH
X-WR-CALNAME:Pharoahs of St Johns, Florida
X-ORIGINAL-URL:https://pharoahs-stjohns.com
X-WR-CALDESC:Events for Pharoahs of St Johns, Florida
REFRESH-INTERVAL;VALUE=DURATION:PT1H
X-Robots-Tag:noindex
X-PUBLISHED-TTL:PT1H
BEGIN:VTIMEZONE
TZID:America/New_York
BEGIN:DAYLIGHT
TZOFFSETFROM:-0500
TZOFFSETTO:-0400
TZNAME:EDT
DTSTART:20250309T070000
END:DAYLIGHT
BEGIN:STANDARD
TZOFFSETFROM:-0400
TZOFFSETTO:-0500
TZNAME:EST
DTSTART:20251102T060000
END:STANDARD
BEGIN:DAYLIGHT
TZOFFSETFROM:-0500
TZOFFSETTO:-0400
TZNAME:EDT
DTSTART:20260308T070000
END:DAYLIGHT
BEGIN:STANDARD
TZOFFSETFROM:-0400
TZOFFSETTO:-0500
TZNAME:EST
DTSTART:20261101T060000
END:STANDARD
BEGIN:DAYLIGHT
TZOFFSETFROM:-0500
TZOFFSETTO:-0400
TZNAME:EDT
DTSTART:20270314T070000
END:DAYLIGHT
BEGIN:STANDARD
TZOFFSETFROM:-0400
TZOFFSETTO:-0500
TZNAME:EST
DTSTART:20271107T060000
END:STANDARD
END:VTIMEZONE
BEGIN:VEVENT
DTSTART;TZID=America/New_York:20260411T130000
DTEND;TZID=America/New_York:20260411T160000
DTSTAMP:20260423T164457
CREATED:20260108T233853Z
LAST-MODIFIED:20260108T233853Z
UID:10002117-1775912400-1775923200@pharoahs-stjohns.com
SUMMARY:Clay County Cruisers Whiteys Fish Camp Cruise In
DESCRIPTION:
URL:https://pharoahs-stjohns.com/events/clay-county-cruisers-whiteys-fish-camp-cruise-in/2026-04-11/
LOCATION:2032 County Rd. 220\, 2032 County Rd. 220\, Fleming Island\, 32003\, United States
END:VEVENT
BEGIN:VEVENT
DTSTART;TZID=America/New_York:20260314T130000
DTEND;TZID=America/New_York:20260314T160000
DTSTAMP:20260423T164457
CREATED:20260108T233853Z
LAST-MODIFIED:20260108T233853Z
UID:10002116-1773493200-1773504000@pharoahs-stjohns.com
SUMMARY:Clay County Cruisers Whiteys Fish Camp Cruise In
DESCRIPTION:
URL:https://pharoahs-stjohns.com/events/clay-county-cruisers-whiteys-fish-camp-cruise-in/2026-03-14/
LOCATION:2032 County Rd. 220\, 2032 County Rd. 220\, Fleming Island\, 32003\, United States
END:VEVENT
BEGIN:VEVENT
DTSTART;TZID=America/New_York:20260214T130000
DTEND;TZID=America/New_York:20260214T160000
DTSTAMP:20260423T164457
CREATED:20260108T233853Z
LAST-MODIFIED:20260108T233853Z
UID:10002115-1771074000-1771084800@pharoahs-stjohns.com
SUMMARY:Clay County Cruisers Whiteys Fish Camp Cruise In
DESCRIPTION:
URL:https://pharoahs-stjohns.com/events/clay-county-cruisers-whiteys-fish-camp-cruise-in/2026-02-14/
LOCATION:2032 County Rd. 220\, 2032 County Rd. 220\, Fleming Island\, 32003\, United States
END:VEVENT
END:VCALENDAR