BEGIN:VCALENDAR
VERSION:2.0
PRODID:-//Pharoahs of St Johns, Florida - ECPv6.15.20//NONSGML v1.0//EN
CALSCALE:GREGORIAN
METHOD:PUBLISH
X-WR-CALNAME:Pharoahs of St Johns, Florida
X-ORIGINAL-URL:https://pharoahs-stjohns.com
X-WR-CALDESC:Events for Pharoahs of St Johns, Florida
REFRESH-INTERVAL;VALUE=DURATION:PT1H
X-Robots-Tag:noindex
X-PUBLISHED-TTL:PT1H
BEGIN:VTIMEZONE
TZID:America/New_York
BEGIN:DAYLIGHT
TZOFFSETFROM:-0500
TZOFFSETTO:-0400
TZNAME:EDT
DTSTART:20250309T070000
END:DAYLIGHT
BEGIN:STANDARD
TZOFFSETFROM:-0400
TZOFFSETTO:-0500
TZNAME:EST
DTSTART:20251102T060000
END:STANDARD
BEGIN:DAYLIGHT
TZOFFSETFROM:-0500
TZOFFSETTO:-0400
TZNAME:EDT
DTSTART:20260308T070000
END:DAYLIGHT
BEGIN:STANDARD
TZOFFSETFROM:-0400
TZOFFSETTO:-0500
TZNAME:EST
DTSTART:20261101T060000
END:STANDARD
BEGIN:DAYLIGHT
TZOFFSETFROM:-0500
TZOFFSETTO:-0400
TZNAME:EDT
DTSTART:20270314T070000
END:DAYLIGHT
BEGIN:STANDARD
TZOFFSETFROM:-0400
TZOFFSETTO:-0500
TZNAME:EST
DTSTART:20271107T060000
END:STANDARD
BEGIN:DAYLIGHT
TZOFFSETFROM:-0500
TZOFFSETTO:-0400
TZNAME:EDT
DTSTART:20280312T070000
END:DAYLIGHT
BEGIN:STANDARD
TZOFFSETFROM:-0400
TZOFFSETTO:-0500
TZNAME:EST
DTSTART:20281105T060000
END:STANDARD
END:VTIMEZONE
BEGIN:VEVENT
DTSTART;TZID=America/New_York:20260509T130000
DTEND;TZID=America/New_York:20260509T160000
DTSTAMP:20260423T151202
CREATED:20260108T233853Z
LAST-MODIFIED:20260108T233853Z
UID:10002118-1778331600-1778342400@pharoahs-stjohns.com
SUMMARY:Clay County Cruisers Whiteys Fish Camp Cruise In
DESCRIPTION:
URL:https://pharoahs-stjohns.com/events/clay-county-cruisers-whiteys-fish-camp-cruise-in/2026-05-09/
LOCATION:2032 County Rd. 220\, 2032 County Rd. 220\, Fleming Island\, 32003\, United States
END:VEVENT
BEGIN:VEVENT
DTSTART;TZID=America/New_York:20260613T130000
DTEND;TZID=America/New_York:20260613T160000
DTSTAMP:20260423T151202
CREATED:20260108T233853Z
LAST-MODIFIED:20260108T233853Z
UID:10002119-1781355600-1781366400@pharoahs-stjohns.com
SUMMARY:Clay County Cruisers Whiteys Fish Camp Cruise In
DESCRIPTION:
URL:https://pharoahs-stjohns.com/events/clay-county-cruisers-whiteys-fish-camp-cruise-in/2026-06-13/
LOCATION:2032 County Rd. 220\, 2032 County Rd. 220\, Fleming Island\, 32003\, United States
END:VEVENT
BEGIN:VEVENT
DTSTART;TZID=America/New_York:20260711T130000
DTEND;TZID=America/New_York:20260711T160000
DTSTAMP:20260423T151202
CREATED:20260108T233853Z
LAST-MODIFIED:20260108T233853Z
UID:10002120-1783774800-1783785600@pharoahs-stjohns.com
SUMMARY:Clay County Cruisers Whiteys Fish Camp Cruise In
DESCRIPTION:
URL:https://pharoahs-stjohns.com/events/clay-county-cruisers-whiteys-fish-camp-cruise-in/2026-07-11/
LOCATION:2032 County Rd. 220\, 2032 County Rd. 220\, Fleming Island\, 32003\, United States
END:VEVENT
BEGIN:VEVENT
DTSTART;TZID=America/New_York:20260808T130000
DTEND;TZID=America/New_York:20260808T160000
DTSTAMP:20260423T151202
CREATED:20260108T233853Z
LAST-MODIFIED:20260108T233853Z
UID:10002121-1786194000-1786204800@pharoahs-stjohns.com
SUMMARY:Clay County Cruisers Whiteys Fish Camp Cruise In
DESCRIPTION:
URL:https://pharoahs-stjohns.com/events/clay-county-cruisers-whiteys-fish-camp-cruise-in/2026-08-08/
LOCATION:2032 County Rd. 220\, 2032 County Rd. 220\, Fleming Island\, 32003\, United States
END:VEVENT
BEGIN:VEVENT
DTSTART;TZID=America/New_York:20260912T130000
DTEND;TZID=America/New_York:20260912T160000
DTSTAMP:20260423T151202
CREATED:20260108T233853Z
LAST-MODIFIED:20260108T233853Z
UID:10002122-1789218000-1789228800@pharoahs-stjohns.com
SUMMARY:Clay County Cruisers Whiteys Fish Camp Cruise In
DESCRIPTION:
URL:https://pharoahs-stjohns.com/events/clay-county-cruisers-whiteys-fish-camp-cruise-in/2026-09-12/
LOCATION:2032 County Rd. 220\, 2032 County Rd. 220\, Fleming Island\, 32003\, United States
END:VEVENT
BEGIN:VEVENT
DTSTART;TZID=America/New_York:20261010T130000
DTEND;TZID=America/New_York:20261010T160000
DTSTAMP:20260423T151202
CREATED:20260108T233853Z
LAST-MODIFIED:20260108T233853Z
UID:10002123-1791637200-1791648000@pharoahs-stjohns.com
SUMMARY:Clay County Cruisers Whiteys Fish Camp Cruise In
DESCRIPTION:
URL:https://pharoahs-stjohns.com/events/clay-county-cruisers-whiteys-fish-camp-cruise-in/2026-10-10/
LOCATION:2032 County Rd. 220\, 2032 County Rd. 220\, Fleming Island\, 32003\, United States
END:VEVENT
BEGIN:VEVENT
DTSTART;TZID=America/New_York:20261114T130000
DTEND;TZID=America/New_York:20261114T160000
DTSTAMP:20260423T151202
CREATED:20260108T233853Z
LAST-MODIFIED:20260108T233853Z
UID:10002124-1794661200-1794672000@pharoahs-stjohns.com
SUMMARY:Clay County Cruisers Whiteys Fish Camp Cruise In
DESCRIPTION:
URL:https://pharoahs-stjohns.com/events/clay-county-cruisers-whiteys-fish-camp-cruise-in/2026-11-14/
LOCATION:2032 County Rd. 220\, 2032 County Rd. 220\, Fleming Island\, 32003\, United States
END:VEVENT
BEGIN:VEVENT
DTSTART;TZID=America/New_York:20261212T130000
DTEND;TZID=America/New_York:20261212T160000
DTSTAMP:20260423T151202
CREATED:20260108T233853Z
LAST-MODIFIED:20260108T233853Z
UID:10002125-1797080400-1797091200@pharoahs-stjohns.com
SUMMARY:Clay County Cruisers Whiteys Fish Camp Cruise In
DESCRIPTION:
URL:https://pharoahs-stjohns.com/events/clay-county-cruisers-whiteys-fish-camp-cruise-in/2026-12-12/
LOCATION:2032 County Rd. 220\, 2032 County Rd. 220\, Fleming Island\, 32003\, United States
END:VEVENT
BEGIN:VEVENT
DTSTART;TZID=America/New_York:20270109T130000
DTEND;TZID=America/New_York:20270109T160000
DTSTAMP:20260423T151202
CREATED:20260108T233853Z
LAST-MODIFIED:20260108T233853Z
UID:10002126-1799499600-1799510400@pharoahs-stjohns.com
SUMMARY:Clay County Cruisers Whiteys Fish Camp Cruise In
DESCRIPTION:
URL:https://pharoahs-stjohns.com/events/clay-county-cruisers-whiteys-fish-camp-cruise-in/2027-01-09/
LOCATION:2032 County Rd. 220\, 2032 County Rd. 220\, Fleming Island\, 32003\, United States
END:VEVENT
END:VCALENDAR