BEGIN:VCALENDAR
VERSION:2.0
PRODID:-//Pharoahs of St Johns, Florida - ECPv6.15.20//NONSGML v1.0//EN
CALSCALE:GREGORIAN
METHOD:PUBLISH
X-WR-CALNAME:Pharoahs of St Johns, Florida
X-ORIGINAL-URL:https://pharoahs-stjohns.com
X-WR-CALDESC:Events for Pharoahs of St Johns, Florida
REFRESH-INTERVAL;VALUE=DURATION:PT1H
X-Robots-Tag:noindex
X-PUBLISHED-TTL:PT1H
BEGIN:VTIMEZONE
TZID:America/New_York
BEGIN:DAYLIGHT
TZOFFSETFROM:-0500
TZOFFSETTO:-0400
TZNAME:EDT
DTSTART:20250309T070000
END:DAYLIGHT
BEGIN:STANDARD
TZOFFSETFROM:-0400
TZOFFSETTO:-0500
TZNAME:EST
DTSTART:20251102T060000
END:STANDARD
BEGIN:DAYLIGHT
TZOFFSETFROM:-0500
TZOFFSETTO:-0400
TZNAME:EDT
DTSTART:20260308T070000
END:DAYLIGHT
BEGIN:STANDARD
TZOFFSETFROM:-0400
TZOFFSETTO:-0500
TZNAME:EST
DTSTART:20261101T060000
END:STANDARD
BEGIN:DAYLIGHT
TZOFFSETFROM:-0500
TZOFFSETTO:-0400
TZNAME:EDT
DTSTART:20270314T070000
END:DAYLIGHT
BEGIN:STANDARD
TZOFFSETFROM:-0400
TZOFFSETTO:-0500
TZNAME:EST
DTSTART:20271107T060000
END:STANDARD
END:VTIMEZONE
BEGIN:VEVENT
DTSTART;TZID=America/New_York:20260417T160000
DTEND;TZID=America/New_York:20260417T190000
DTSTAMP:20260423T164629
CREATED:20260108T234034Z
LAST-MODIFIED:20260108T234034Z
UID:10002130-1776441600-1776452400@pharoahs-stjohns.com
SUMMARY:Clay County Cruisers Callahan's Irish Bistro Cruise-In
DESCRIPTION:
URL:https://pharoahs-stjohns.com/events/clay-county-cruisers-callahans-irish-bistro-cruise-in/2026-04-17/
LOCATION:2141 Loch Rane Blvd\, 2141 Loch Rane Blvd\, Orange Park\, 32073\, United States
END:VEVENT
BEGIN:VEVENT
DTSTART;TZID=America/New_York:20260320T160000
DTEND;TZID=America/New_York:20260320T190000
DTSTAMP:20260423T164629
CREATED:20260108T234034Z
LAST-MODIFIED:20260108T234034Z
UID:10002129-1774022400-1774033200@pharoahs-stjohns.com
SUMMARY:Clay County Cruisers Callahan's Irish Bistro Cruise-In
DESCRIPTION:
URL:https://pharoahs-stjohns.com/events/clay-county-cruisers-callahans-irish-bistro-cruise-in/2026-03-20/
LOCATION:2141 Loch Rane Blvd\, 2141 Loch Rane Blvd\, Orange Park\, 32073\, United States
END:VEVENT
BEGIN:VEVENT
DTSTART;TZID=America/New_York:20260220T160000
DTEND;TZID=America/New_York:20260220T190000
DTSTAMP:20260423T164629
CREATED:20260108T234034Z
LAST-MODIFIED:20260108T234034Z
UID:10002128-1771603200-1771614000@pharoahs-stjohns.com
SUMMARY:Clay County Cruisers Callahan's Irish Bistro Cruise-In
DESCRIPTION:
URL:https://pharoahs-stjohns.com/events/clay-county-cruisers-callahans-irish-bistro-cruise-in/2026-02-20/
LOCATION:2141 Loch Rane Blvd\, 2141 Loch Rane Blvd\, Orange Park\, 32073\, United States
END:VEVENT
END:VCALENDAR