BEGIN:VCALENDAR
VERSION:2.0
PRODID:-//Pharoahs of St Johns, Florida - ECPv6.15.20//NONSGML v1.0//EN
CALSCALE:GREGORIAN
METHOD:PUBLISH
X-ORIGINAL-URL:https://pharoahs-stjohns.com
X-WR-CALDESC:Events for Pharoahs of St Johns, Florida
REFRESH-INTERVAL;VALUE=DURATION:PT1H
X-Robots-Tag:noindex
X-PUBLISHED-TTL:PT1H
BEGIN:VTIMEZONE
TZID:America/New_York
BEGIN:DAYLIGHT
TZOFFSETFROM:-0500
TZOFFSETTO:-0400
TZNAME:EDT
DTSTART:20250309T070000
END:DAYLIGHT
BEGIN:STANDARD
TZOFFSETFROM:-0400
TZOFFSETTO:-0500
TZNAME:EST
DTSTART:20251102T060000
END:STANDARD
BEGIN:DAYLIGHT
TZOFFSETFROM:-0500
TZOFFSETTO:-0400
TZNAME:EDT
DTSTART:20260308T070000
END:DAYLIGHT
BEGIN:STANDARD
TZOFFSETFROM:-0400
TZOFFSETTO:-0500
TZNAME:EST
DTSTART:20261101T060000
END:STANDARD
BEGIN:DAYLIGHT
TZOFFSETFROM:-0500
TZOFFSETTO:-0400
TZNAME:EDT
DTSTART:20270314T070000
END:DAYLIGHT
BEGIN:STANDARD
TZOFFSETFROM:-0400
TZOFFSETTO:-0500
TZNAME:EST
DTSTART:20271107T060000
END:STANDARD
END:VTIMEZONE
BEGIN:VEVENT
DTSTART;TZID=America/New_York:20260328T140000
DTEND;TZID=America/New_York:20260328T170000
DTSTAMP:20260423T164616
CREATED:20260108T235159Z
LAST-MODIFIED:20260108T235159Z
UID:10002219-1774706400-1774717200@pharoahs-stjohns.com
SUMMARY:Clay County Cruisers Gator's Dockside Oakleaf Cruise-In
DESCRIPTION:
URL:https://pharoahs-stjohns.com/events/clay-county-cruisers-gators-dockside-oakleaf-cruise-in/2026-03-28/
LOCATION:8316 Merchants Way\, 8316 Merchants Way\, Jacksonville\, 32222\, United States
END:VEVENT
BEGIN:VEVENT
DTSTART;TZID=America/New_York:20260228T140000
DTEND;TZID=America/New_York:20260228T170000
DTSTAMP:20260423T164616
CREATED:20260108T235159Z
LAST-MODIFIED:20260108T235159Z
UID:10002218-1772287200-1772298000@pharoahs-stjohns.com
SUMMARY:Clay County Cruisers Gator's Dockside Oakleaf Cruise-In
DESCRIPTION:
URL:https://pharoahs-stjohns.com/events/clay-county-cruisers-gators-dockside-oakleaf-cruise-in/2026-02-28/
LOCATION:8316 Merchants Way\, 8316 Merchants Way\, Jacksonville\, 32222\, United States
END:VEVENT
BEGIN:VEVENT
DTSTART;TZID=America/New_York:20260124T140000
DTEND;TZID=America/New_York:20260124T170000
DTSTAMP:20260423T164616
CREATED:20260108T235159Z
LAST-MODIFIED:20260108T235159Z
UID:10002217-1769263200-1769274000@pharoahs-stjohns.com
SUMMARY:Clay County Cruisers Gator's Dockside Oakleaf Cruise-In
DESCRIPTION:
URL:https://pharoahs-stjohns.com/events/clay-county-cruisers-gators-dockside-oakleaf-cruise-in/2026-01-24/
LOCATION:8316 Merchants Way\, 8316 Merchants Way\, Jacksonville\, 32222\, United States
END:VEVENT
END:VCALENDAR