BEGIN:VCALENDAR
VERSION:2.0
PRODID:-//Pharoahs of St Johns, Florida - ECPv6.15.20//NONSGML v1.0//EN
CALSCALE:GREGORIAN
METHOD:PUBLISH
X-WR-CALNAME:Pharoahs of St Johns, Florida
X-ORIGINAL-URL:https://pharoahs-stjohns.com
X-WR-CALDESC:Events for Pharoahs of St Johns, Florida
REFRESH-INTERVAL;VALUE=DURATION:PT1H
X-Robots-Tag:noindex
X-PUBLISHED-TTL:PT1H
BEGIN:VTIMEZONE
TZID:America/New_York
BEGIN:DAYLIGHT
TZOFFSETFROM:-0500
TZOFFSETTO:-0400
TZNAME:EDT
DTSTART:20270314T070000
END:DAYLIGHT
BEGIN:STANDARD
TZOFFSETFROM:-0400
TZOFFSETTO:-0500
TZNAME:EST
DTSTART:20271107T060000
END:STANDARD
BEGIN:DAYLIGHT
TZOFFSETFROM:-0500
TZOFFSETTO:-0400
TZNAME:EDT
DTSTART:20280312T070000
END:DAYLIGHT
BEGIN:STANDARD
TZOFFSETFROM:-0400
TZOFFSETTO:-0500
TZNAME:EST
DTSTART:20281105T060000
END:STANDARD
BEGIN:DAYLIGHT
TZOFFSETFROM:-0500
TZOFFSETTO:-0400
TZNAME:EDT
DTSTART:20290311T070000
END:DAYLIGHT
BEGIN:STANDARD
TZOFFSETFROM:-0400
TZOFFSETTO:-0500
TZNAME:EST
DTSTART:20291104T060000
END:STANDARD
BEGIN:DAYLIGHT
TZOFFSETFROM:-0500
TZOFFSETTO:-0400
TZNAME:EDT
DTSTART:20300310T070000
END:DAYLIGHT
BEGIN:STANDARD
TZOFFSETFROM:-0400
TZOFFSETTO:-0500
TZNAME:EST
DTSTART:20301103T060000
END:STANDARD
BEGIN:DAYLIGHT
TZOFFSETFROM:-0500
TZOFFSETTO:-0400
TZNAME:EDT
DTSTART:20310309T070000
END:DAYLIGHT
BEGIN:STANDARD
TZOFFSETFROM:-0400
TZOFFSETTO:-0500
TZNAME:EST
DTSTART:20311102T060000
END:STANDARD
END:VTIMEZONE
BEGIN:VEVENT
DTSTART;TZID=America/New_York:20280108T073000
DTEND;TZID=America/New_York:20280108T103000
DTSTAMP:20260423T151335
CREATED:20230116T193156Z
LAST-MODIFIED:20260108T231748Z
UID:10002077-1830929400-1830940200@pharoahs-stjohns.com
SUMMARY:Caffeine and Octane
DESCRIPTION:This event is hosted by Jax Car Culture and will feature a First Coast Car Council member club at their monthly event. Featured Clubs are encouraged to bring their Club Banner or Flag. There will be a separate staging area for the featured club.  Food and restrooms are available
URL:https://pharoahs-stjohns.com/events/caffeine-and-octane/2028-01-08/
LOCATION:Avenues Mall\, Avenues Mall\, Jacksonville\, FL\, 32256\, United States
END:VEVENT
BEGIN:VEVENT
DTSTART;TZID=America/New_York:20280212T073000
DTEND;TZID=America/New_York:20280212T103000
DTSTAMP:20260423T151335
CREATED:20230116T193156Z
LAST-MODIFIED:20260108T231748Z
UID:10002078-1833953400-1833964200@pharoahs-stjohns.com
SUMMARY:Caffeine and Octane
DESCRIPTION:This event is hosted by Jax Car Culture and will feature a First Coast Car Council member club at their monthly event. Featured Clubs are encouraged to bring their Club Banner or Flag. There will be a separate staging area for the featured club.  Food and restrooms are available
URL:https://pharoahs-stjohns.com/events/caffeine-and-octane/2028-02-12/
LOCATION:Avenues Mall\, Avenues Mall\, Jacksonville\, FL\, 32256\, United States
END:VEVENT
BEGIN:VEVENT
DTSTART;TZID=America/New_York:20280311T073000
DTEND;TZID=America/New_York:20280311T103000
DTSTAMP:20260423T151335
CREATED:20230116T193156Z
LAST-MODIFIED:20260108T231748Z
UID:10002079-1836372600-1836383400@pharoahs-stjohns.com
SUMMARY:Caffeine and Octane
DESCRIPTION:This event is hosted by Jax Car Culture and will feature a First Coast Car Council member club at their monthly event. Featured Clubs are encouraged to bring their Club Banner or Flag. There will be a separate staging area for the featured club.  Food and restrooms are available
URL:https://pharoahs-stjohns.com/events/caffeine-and-octane/2028-03-11/
LOCATION:Avenues Mall\, Avenues Mall\, Jacksonville\, FL\, 32256\, United States
END:VEVENT
BEGIN:VEVENT
DTSTART;TZID=America/New_York:20280408T073000
DTEND;TZID=America/New_York:20280408T103000
DTSTAMP:20260423T151335
CREATED:20230116T193156Z
LAST-MODIFIED:20260108T231748Z
UID:10002080-1838791800-1838802600@pharoahs-stjohns.com
SUMMARY:Caffeine and Octane
DESCRIPTION:This event is hosted by Jax Car Culture and will feature a First Coast Car Council member club at their monthly event. Featured Clubs are encouraged to bring their Club Banner or Flag. There will be a separate staging area for the featured club.  Food and restrooms are available
URL:https://pharoahs-stjohns.com/events/caffeine-and-octane/2028-04-08/
LOCATION:Avenues Mall\, Avenues Mall\, Jacksonville\, FL\, 32256\, United States
END:VEVENT
BEGIN:VEVENT
DTSTART;TZID=America/New_York:20280513T073000
DTEND;TZID=America/New_York:20280513T103000
DTSTAMP:20260423T151335
CREATED:20230116T193156Z
LAST-MODIFIED:20260108T231748Z
UID:10002081-1841815800-1841826600@pharoahs-stjohns.com
SUMMARY:Caffeine and Octane
DESCRIPTION:This event is hosted by Jax Car Culture and will feature a First Coast Car Council member club at their monthly event. Featured Clubs are encouraged to bring their Club Banner or Flag. There will be a separate staging area for the featured club.  Food and restrooms are available
URL:https://pharoahs-stjohns.com/events/caffeine-and-octane/2028-05-13/
LOCATION:Avenues Mall\, Avenues Mall\, Jacksonville\, FL\, 32256\, United States
END:VEVENT
BEGIN:VEVENT
DTSTART;TZID=America/New_York:20280610T073000
DTEND;TZID=America/New_York:20280610T103000
DTSTAMP:20260423T151335
CREATED:20230116T193156Z
LAST-MODIFIED:20260108T231748Z
UID:10002082-1844235000-1844245800@pharoahs-stjohns.com
SUMMARY:Caffeine and Octane
DESCRIPTION:This event is hosted by Jax Car Culture and will feature a First Coast Car Council member club at their monthly event. Featured Clubs are encouraged to bring their Club Banner or Flag. There will be a separate staging area for the featured club.  Food and restrooms are available
URL:https://pharoahs-stjohns.com/events/caffeine-and-octane/2028-06-10/
LOCATION:Avenues Mall\, Avenues Mall\, Jacksonville\, FL\, 32256\, United States
END:VEVENT
BEGIN:VEVENT
DTSTART;TZID=America/New_York:20280708T073000
DTEND;TZID=America/New_York:20280708T103000
DTSTAMP:20260423T151335
CREATED:20230116T193156Z
LAST-MODIFIED:20260108T231748Z
UID:10002083-1846654200-1846665000@pharoahs-stjohns.com
SUMMARY:Caffeine and Octane
DESCRIPTION:This event is hosted by Jax Car Culture and will feature a First Coast Car Council member club at their monthly event. Featured Clubs are encouraged to bring their Club Banner or Flag. There will be a separate staging area for the featured club.  Food and restrooms are available
URL:https://pharoahs-stjohns.com/events/caffeine-and-octane/2028-07-08/
LOCATION:Avenues Mall\, Avenues Mall\, Jacksonville\, FL\, 32256\, United States
END:VEVENT
BEGIN:VEVENT
DTSTART;TZID=America/New_York:20280812T073000
DTEND;TZID=America/New_York:20280812T103000
DTSTAMP:20260423T151335
CREATED:20230116T193156Z
LAST-MODIFIED:20260108T231748Z
UID:10002084-1849678200-1849689000@pharoahs-stjohns.com
SUMMARY:Caffeine and Octane
DESCRIPTION:This event is hosted by Jax Car Culture and will feature a First Coast Car Council member club at their monthly event. Featured Clubs are encouraged to bring their Club Banner or Flag. There will be a separate staging area for the featured club.  Food and restrooms are available
URL:https://pharoahs-stjohns.com/events/caffeine-and-octane/2028-08-12/
LOCATION:Avenues Mall\, Avenues Mall\, Jacksonville\, FL\, 32256\, United States
END:VEVENT
BEGIN:VEVENT
DTSTART;TZID=America/New_York:20280909T073000
DTEND;TZID=America/New_York:20280909T103000
DTSTAMP:20260423T151335
CREATED:20230116T193156Z
LAST-MODIFIED:20260108T231748Z
UID:10002085-1852097400-1852108200@pharoahs-stjohns.com
SUMMARY:Caffeine and Octane
DESCRIPTION:This event is hosted by Jax Car Culture and will feature a First Coast Car Council member club at their monthly event. Featured Clubs are encouraged to bring their Club Banner or Flag. There will be a separate staging area for the featured club.  Food and restrooms are available
URL:https://pharoahs-stjohns.com/events/caffeine-and-octane/2028-09-09/
LOCATION:Avenues Mall\, Avenues Mall\, Jacksonville\, FL\, 32256\, United States
END:VEVENT
BEGIN:VEVENT
DTSTART;TZID=America/New_York:20281014T073000
DTEND;TZID=America/New_York:20281014T103000
DTSTAMP:20260423T151335
CREATED:20230116T193156Z
LAST-MODIFIED:20260108T231748Z
UID:10002086-1855121400-1855132200@pharoahs-stjohns.com
SUMMARY:Caffeine and Octane
DESCRIPTION:This event is hosted by Jax Car Culture and will feature a First Coast Car Council member club at their monthly event. Featured Clubs are encouraged to bring their Club Banner or Flag. There will be a separate staging area for the featured club.  Food and restrooms are available
URL:https://pharoahs-stjohns.com/events/caffeine-and-octane/2028-10-14/
LOCATION:Avenues Mall\, Avenues Mall\, Jacksonville\, FL\, 32256\, United States
END:VEVENT
BEGIN:VEVENT
DTSTART;TZID=America/New_York:20281111T073000
DTEND;TZID=America/New_York:20281111T103000
DTSTAMP:20260423T151335
CREATED:20230116T193156Z
LAST-MODIFIED:20260108T231748Z
UID:10002087-1857540600-1857551400@pharoahs-stjohns.com
SUMMARY:Caffeine and Octane
DESCRIPTION:This event is hosted by Jax Car Culture and will feature a First Coast Car Council member club at their monthly event. Featured Clubs are encouraged to bring their Club Banner or Flag. There will be a separate staging area for the featured club.  Food and restrooms are available
URL:https://pharoahs-stjohns.com/events/caffeine-and-octane/2028-11-11/
LOCATION:Avenues Mall\, Avenues Mall\, Jacksonville\, FL\, 32256\, United States
END:VEVENT
BEGIN:VEVENT
DTSTART;TZID=America/New_York:20281209T073000
DTEND;TZID=America/New_York:20281209T103000
DTSTAMP:20260423T151335
CREATED:20230116T193156Z
LAST-MODIFIED:20260108T231748Z
UID:10002088-1859959800-1859970600@pharoahs-stjohns.com
SUMMARY:Caffeine and Octane
DESCRIPTION:This event is hosted by Jax Car Culture and will feature a First Coast Car Council member club at their monthly event. Featured Clubs are encouraged to bring their Club Banner or Flag. There will be a separate staging area for the featured club.  Food and restrooms are available
URL:https://pharoahs-stjohns.com/events/caffeine-and-octane/2028-12-09/
LOCATION:Avenues Mall\, Avenues Mall\, Jacksonville\, FL\, 32256\, United States
END:VEVENT
BEGIN:VEVENT
DTSTART;TZID=America/New_York:20290113T073000
DTEND;TZID=America/New_York:20290113T103000
DTSTAMP:20260423T151335
CREATED:20230116T193156Z
LAST-MODIFIED:20260108T231748Z
UID:10002089-1862983800-1862994600@pharoahs-stjohns.com
SUMMARY:Caffeine and Octane
DESCRIPTION:This event is hosted by Jax Car Culture and will feature a First Coast Car Council member club at their monthly event. Featured Clubs are encouraged to bring their Club Banner or Flag. There will be a separate staging area for the featured club.  Food and restrooms are available
URL:https://pharoahs-stjohns.com/events/caffeine-and-octane/2029-01-13/
LOCATION:Avenues Mall\, Avenues Mall\, Jacksonville\, FL\, 32256\, United States
END:VEVENT
BEGIN:VEVENT
DTSTART;TZID=America/New_York:20290210T073000
DTEND;TZID=America/New_York:20290210T103000
DTSTAMP:20260423T151335
CREATED:20230116T193156Z
LAST-MODIFIED:20260108T231748Z
UID:10002090-1865403000-1865413800@pharoahs-stjohns.com
SUMMARY:Caffeine and Octane
DESCRIPTION:This event is hosted by Jax Car Culture and will feature a First Coast Car Council member club at their monthly event. Featured Clubs are encouraged to bring their Club Banner or Flag. There will be a separate staging area for the featured club.  Food and restrooms are available
URL:https://pharoahs-stjohns.com/events/caffeine-and-octane/2029-02-10/
LOCATION:Avenues Mall\, Avenues Mall\, Jacksonville\, FL\, 32256\, United States
END:VEVENT
BEGIN:VEVENT
DTSTART;TZID=America/New_York:20290310T073000
DTEND;TZID=America/New_York:20290310T103000
DTSTAMP:20260423T151335
CREATED:20230116T193156Z
LAST-MODIFIED:20260108T231748Z
UID:10002091-1867822200-1867833000@pharoahs-stjohns.com
SUMMARY:Caffeine and Octane
DESCRIPTION:This event is hosted by Jax Car Culture and will feature a First Coast Car Council member club at their monthly event. Featured Clubs are encouraged to bring their Club Banner or Flag. There will be a separate staging area for the featured club.  Food and restrooms are available
URL:https://pharoahs-stjohns.com/events/caffeine-and-octane/2029-03-10/
LOCATION:Avenues Mall\, Avenues Mall\, Jacksonville\, FL\, 32256\, United States
END:VEVENT
BEGIN:VEVENT
DTSTART;TZID=America/New_York:20290414T073000
DTEND;TZID=America/New_York:20290414T103000
DTSTAMP:20260423T151335
CREATED:20230116T193156Z
LAST-MODIFIED:20260108T231748Z
UID:10002092-1870846200-1870857000@pharoahs-stjohns.com
SUMMARY:Caffeine and Octane
DESCRIPTION:This event is hosted by Jax Car Culture and will feature a First Coast Car Council member club at their monthly event. Featured Clubs are encouraged to bring their Club Banner or Flag. There will be a separate staging area for the featured club.  Food and restrooms are available
URL:https://pharoahs-stjohns.com/events/caffeine-and-octane/2029-04-14/
LOCATION:Avenues Mall\, Avenues Mall\, Jacksonville\, FL\, 32256\, United States
END:VEVENT
BEGIN:VEVENT
DTSTART;TZID=America/New_York:20290512T073000
DTEND;TZID=America/New_York:20290512T103000
DTSTAMP:20260423T151335
CREATED:20230116T193156Z
LAST-MODIFIED:20260108T231748Z
UID:10002093-1873265400-1873276200@pharoahs-stjohns.com
SUMMARY:Caffeine and Octane
DESCRIPTION:This event is hosted by Jax Car Culture and will feature a First Coast Car Council member club at their monthly event. Featured Clubs are encouraged to bring their Club Banner or Flag. There will be a separate staging area for the featured club.  Food and restrooms are available
URL:https://pharoahs-stjohns.com/events/caffeine-and-octane/2029-05-12/
LOCATION:Avenues Mall\, Avenues Mall\, Jacksonville\, FL\, 32256\, United States
END:VEVENT
BEGIN:VEVENT
DTSTART;TZID=America/New_York:20290609T073000
DTEND;TZID=America/New_York:20290609T103000
DTSTAMP:20260423T151335
CREATED:20230116T193156Z
LAST-MODIFIED:20260108T231748Z
UID:10002094-1875684600-1875695400@pharoahs-stjohns.com
SUMMARY:Caffeine and Octane
DESCRIPTION:This event is hosted by Jax Car Culture and will feature a First Coast Car Council member club at their monthly event. Featured Clubs are encouraged to bring their Club Banner or Flag. There will be a separate staging area for the featured club.  Food and restrooms are available
URL:https://pharoahs-stjohns.com/events/caffeine-and-octane/2029-06-09/
LOCATION:Avenues Mall\, Avenues Mall\, Jacksonville\, FL\, 32256\, United States
END:VEVENT
BEGIN:VEVENT
DTSTART;TZID=America/New_York:20290714T073000
DTEND;TZID=America/New_York:20290714T103000
DTSTAMP:20260423T151335
CREATED:20230116T193156Z
LAST-MODIFIED:20260108T231748Z
UID:10002095-1878708600-1878719400@pharoahs-stjohns.com
SUMMARY:Caffeine and Octane
DESCRIPTION:This event is hosted by Jax Car Culture and will feature a First Coast Car Council member club at their monthly event. Featured Clubs are encouraged to bring their Club Banner or Flag. There will be a separate staging area for the featured club.  Food and restrooms are available
URL:https://pharoahs-stjohns.com/events/caffeine-and-octane/2029-07-14/
LOCATION:Avenues Mall\, Avenues Mall\, Jacksonville\, FL\, 32256\, United States
END:VEVENT
BEGIN:VEVENT
DTSTART;TZID=America/New_York:20290811T073000
DTEND;TZID=America/New_York:20290811T103000
DTSTAMP:20260423T151335
CREATED:20230116T193156Z
LAST-MODIFIED:20260108T231748Z
UID:10002096-1881127800-1881138600@pharoahs-stjohns.com
SUMMARY:Caffeine and Octane
DESCRIPTION:This event is hosted by Jax Car Culture and will feature a First Coast Car Council member club at their monthly event. Featured Clubs are encouraged to bring their Club Banner or Flag. There will be a separate staging area for the featured club.  Food and restrooms are available
URL:https://pharoahs-stjohns.com/events/caffeine-and-octane/2029-08-11/
LOCATION:Avenues Mall\, Avenues Mall\, Jacksonville\, FL\, 32256\, United States
END:VEVENT
BEGIN:VEVENT
DTSTART;TZID=America/New_York:20290908T073000
DTEND;TZID=America/New_York:20290908T103000
DTSTAMP:20260423T151335
CREATED:20230116T193156Z
LAST-MODIFIED:20260108T231748Z
UID:10002097-1883547000-1883557800@pharoahs-stjohns.com
SUMMARY:Caffeine and Octane
DESCRIPTION:This event is hosted by Jax Car Culture and will feature a First Coast Car Council member club at their monthly event. Featured Clubs are encouraged to bring their Club Banner or Flag. There will be a separate staging area for the featured club.  Food and restrooms are available
URL:https://pharoahs-stjohns.com/events/caffeine-and-octane/2029-09-08/
LOCATION:Avenues Mall\, Avenues Mall\, Jacksonville\, FL\, 32256\, United States
END:VEVENT
BEGIN:VEVENT
DTSTART;TZID=America/New_York:20291013T073000
DTEND;TZID=America/New_York:20291013T103000
DTSTAMP:20260423T151335
CREATED:20230116T193156Z
LAST-MODIFIED:20260108T231748Z
UID:10002098-1886571000-1886581800@pharoahs-stjohns.com
SUMMARY:Caffeine and Octane
DESCRIPTION:This event is hosted by Jax Car Culture and will feature a First Coast Car Council member club at their monthly event. Featured Clubs are encouraged to bring their Club Banner or Flag. There will be a separate staging area for the featured club.  Food and restrooms are available
URL:https://pharoahs-stjohns.com/events/caffeine-and-octane/2029-10-13/
LOCATION:Avenues Mall\, Avenues Mall\, Jacksonville\, FL\, 32256\, United States
END:VEVENT
BEGIN:VEVENT
DTSTART;TZID=America/New_York:20291110T073000
DTEND;TZID=America/New_York:20291110T103000
DTSTAMP:20260423T151335
CREATED:20230116T193156Z
LAST-MODIFIED:20260108T231748Z
UID:10002099-1888990200-1889001000@pharoahs-stjohns.com
SUMMARY:Caffeine and Octane
DESCRIPTION:This event is hosted by Jax Car Culture and will feature a First Coast Car Council member club at their monthly event. Featured Clubs are encouraged to bring their Club Banner or Flag. There will be a separate staging area for the featured club.  Food and restrooms are available
URL:https://pharoahs-stjohns.com/events/caffeine-and-octane/2029-11-10/
LOCATION:Avenues Mall\, Avenues Mall\, Jacksonville\, FL\, 32256\, United States
END:VEVENT
BEGIN:VEVENT
DTSTART;TZID=America/New_York:20291208T073000
DTEND;TZID=America/New_York:20291208T103000
DTSTAMP:20260423T151335
CREATED:20230116T193156Z
LAST-MODIFIED:20260108T231748Z
UID:10002100-1891409400-1891420200@pharoahs-stjohns.com
SUMMARY:Caffeine and Octane
DESCRIPTION:This event is hosted by Jax Car Culture and will feature a First Coast Car Council member club at their monthly event. Featured Clubs are encouraged to bring their Club Banner or Flag. There will be a separate staging area for the featured club.  Food and restrooms are available
URL:https://pharoahs-stjohns.com/events/caffeine-and-octane/2029-12-08/
LOCATION:Avenues Mall\, Avenues Mall\, Jacksonville\, FL\, 32256\, United States
END:VEVENT
BEGIN:VEVENT
DTSTART;TZID=America/New_York:20300112T073000
DTEND;TZID=America/New_York:20300112T103000
DTSTAMP:20260423T151335
CREATED:20230116T193156Z
LAST-MODIFIED:20260108T231748Z
UID:10002101-1894433400-1894444200@pharoahs-stjohns.com
SUMMARY:Caffeine and Octane
DESCRIPTION:This event is hosted by Jax Car Culture and will feature a First Coast Car Council member club at their monthly event. Featured Clubs are encouraged to bring their Club Banner or Flag. There will be a separate staging area for the featured club.  Food and restrooms are available
URL:https://pharoahs-stjohns.com/events/caffeine-and-octane/2030-01-12/
LOCATION:Avenues Mall\, Avenues Mall\, Jacksonville\, FL\, 32256\, United States
END:VEVENT
BEGIN:VEVENT
DTSTART;TZID=America/New_York:20300209T073000
DTEND;TZID=America/New_York:20300209T103000
DTSTAMP:20260423T151335
CREATED:20230116T193156Z
LAST-MODIFIED:20260108T231748Z
UID:10002102-1896852600-1896863400@pharoahs-stjohns.com
SUMMARY:Caffeine and Octane
DESCRIPTION:This event is hosted by Jax Car Culture and will feature a First Coast Car Council member club at their monthly event. Featured Clubs are encouraged to bring their Club Banner or Flag. There will be a separate staging area for the featured club.  Food and restrooms are available
URL:https://pharoahs-stjohns.com/events/caffeine-and-octane/2030-02-09/
LOCATION:Avenues Mall\, Avenues Mall\, Jacksonville\, FL\, 32256\, United States
END:VEVENT
BEGIN:VEVENT
DTSTART;TZID=America/New_York:20300309T073000
DTEND;TZID=America/New_York:20300309T103000
DTSTAMP:20260423T151335
CREATED:20230116T193156Z
LAST-MODIFIED:20260108T231748Z
UID:10002103-1899271800-1899282600@pharoahs-stjohns.com
SUMMARY:Caffeine and Octane
DESCRIPTION:This event is hosted by Jax Car Culture and will feature a First Coast Car Council member club at their monthly event. Featured Clubs are encouraged to bring their Club Banner or Flag. There will be a separate staging area for the featured club.  Food and restrooms are available
URL:https://pharoahs-stjohns.com/events/caffeine-and-octane/2030-03-09/
LOCATION:Avenues Mall\, Avenues Mall\, Jacksonville\, FL\, 32256\, United States
END:VEVENT
BEGIN:VEVENT
DTSTART;TZID=America/New_York:20300413T073000
DTEND;TZID=America/New_York:20300413T103000
DTSTAMP:20260423T151335
CREATED:20230116T193156Z
LAST-MODIFIED:20260108T231748Z
UID:10002104-1902295800-1902306600@pharoahs-stjohns.com
SUMMARY:Caffeine and Octane
DESCRIPTION:This event is hosted by Jax Car Culture and will feature a First Coast Car Council member club at their monthly event. Featured Clubs are encouraged to bring their Club Banner or Flag. There will be a separate staging area for the featured club.  Food and restrooms are available
URL:https://pharoahs-stjohns.com/events/caffeine-and-octane/2030-04-13/
LOCATION:Avenues Mall\, Avenues Mall\, Jacksonville\, FL\, 32256\, United States
END:VEVENT
BEGIN:VEVENT
DTSTART;TZID=America/New_York:20300511T073000
DTEND;TZID=America/New_York:20300511T103000
DTSTAMP:20260423T151335
CREATED:20230116T193156Z
LAST-MODIFIED:20260108T231748Z
UID:10002105-1904715000-1904725800@pharoahs-stjohns.com
SUMMARY:Caffeine and Octane
DESCRIPTION:This event is hosted by Jax Car Culture and will feature a First Coast Car Council member club at their monthly event. Featured Clubs are encouraged to bring their Club Banner or Flag. There will be a separate staging area for the featured club.  Food and restrooms are available
URL:https://pharoahs-stjohns.com/events/caffeine-and-octane/2030-05-11/
LOCATION:Avenues Mall\, Avenues Mall\, Jacksonville\, FL\, 32256\, United States
END:VEVENT
BEGIN:VEVENT
DTSTART;TZID=America/New_York:20300608T073000
DTEND;TZID=America/New_York:20300608T103000
DTSTAMP:20260423T151335
CREATED:20230116T193156Z
LAST-MODIFIED:20260108T231748Z
UID:10002106-1907134200-1907145000@pharoahs-stjohns.com
SUMMARY:Caffeine and Octane
DESCRIPTION:This event is hosted by Jax Car Culture and will feature a First Coast Car Council member club at their monthly event. Featured Clubs are encouraged to bring their Club Banner or Flag. There will be a separate staging area for the featured club.  Food and restrooms are available
URL:https://pharoahs-stjohns.com/events/caffeine-and-octane/2030-06-08/
LOCATION:Avenues Mall\, Avenues Mall\, Jacksonville\, FL\, 32256\, United States
END:VEVENT
END:VCALENDAR