BEGIN:VCALENDAR
VERSION:2.0
PRODID:-//Pharoahs of St Johns, Florida - ECPv6.15.20//NONSGML v1.0//EN
CALSCALE:GREGORIAN
METHOD:PUBLISH
X-ORIGINAL-URL:https://pharoahs-stjohns.com
X-WR-CALDESC:Events for Pharoahs of St Johns, Florida
REFRESH-INTERVAL;VALUE=DURATION:PT1H
X-Robots-Tag:noindex
X-PUBLISHED-TTL:PT1H
BEGIN:VTIMEZONE
TZID:America/New_York
BEGIN:DAYLIGHT
TZOFFSETFROM:-0500
TZOFFSETTO:-0400
TZNAME:EDT
DTSTART:20270314T070000
END:DAYLIGHT
BEGIN:STANDARD
TZOFFSETFROM:-0400
TZOFFSETTO:-0500
TZNAME:EST
DTSTART:20271107T060000
END:STANDARD
BEGIN:DAYLIGHT
TZOFFSETFROM:-0500
TZOFFSETTO:-0400
TZNAME:EDT
DTSTART:20280312T070000
END:DAYLIGHT
BEGIN:STANDARD
TZOFFSETFROM:-0400
TZOFFSETTO:-0500
TZNAME:EST
DTSTART:20281105T060000
END:STANDARD
BEGIN:DAYLIGHT
TZOFFSETFROM:-0500
TZOFFSETTO:-0400
TZNAME:EDT
DTSTART:20290311T070000
END:DAYLIGHT
BEGIN:STANDARD
TZOFFSETFROM:-0400
TZOFFSETTO:-0500
TZNAME:EST
DTSTART:20291104T060000
END:STANDARD
BEGIN:DAYLIGHT
TZOFFSETFROM:-0500
TZOFFSETTO:-0400
TZNAME:EDT
DTSTART:20300310T070000
END:DAYLIGHT
BEGIN:STANDARD
TZOFFSETFROM:-0400
TZOFFSETTO:-0500
TZNAME:EST
DTSTART:20301103T060000
END:STANDARD
BEGIN:DAYLIGHT
TZOFFSETFROM:-0500
TZOFFSETTO:-0400
TZNAME:EDT
DTSTART:20310309T070000
END:DAYLIGHT
BEGIN:STANDARD
TZOFFSETFROM:-0400
TZOFFSETTO:-0500
TZNAME:EST
DTSTART:20311102T060000
END:STANDARD
END:VTIMEZONE
BEGIN:VEVENT
DTSTART;TZID=America/New_York:20280122T080000
DTEND;TZID=America/New_York:20280122T100000
DTSTAMP:20260423T151949
CREATED:20260108T235005Z
LAST-MODIFIED:20260108T235005Z
UID:10002180-1832140800-1832148000@pharoahs-stjohns.com
SUMMARY:St. Augustine Cruisers Cars & Coffee
DESCRIPTION:
URL:https://pharoahs-stjohns.com/events/st-augustine-cruisers-cars-coffee/2028-01-22/
LOCATION:Classic Car Museum of St. Augustine\, 4730 Dixie Hwy\, St. Augustine\, FL\, 32086\, United States
END:VEVENT
BEGIN:VEVENT
DTSTART;TZID=America/New_York:20280226T080000
DTEND;TZID=America/New_York:20280226T100000
DTSTAMP:20260423T151949
CREATED:20260108T235005Z
LAST-MODIFIED:20260108T235005Z
UID:10002181-1835164800-1835172000@pharoahs-stjohns.com
SUMMARY:St. Augustine Cruisers Cars & Coffee
DESCRIPTION:
URL:https://pharoahs-stjohns.com/events/st-augustine-cruisers-cars-coffee/2028-02-26/
LOCATION:Classic Car Museum of St. Augustine\, 4730 Dixie Hwy\, St. Augustine\, FL\, 32086\, United States
END:VEVENT
BEGIN:VEVENT
DTSTART;TZID=America/New_York:20280325T080000
DTEND;TZID=America/New_York:20280325T100000
DTSTAMP:20260423T151949
CREATED:20260108T235005Z
LAST-MODIFIED:20260108T235005Z
UID:10002182-1837584000-1837591200@pharoahs-stjohns.com
SUMMARY:St. Augustine Cruisers Cars & Coffee
DESCRIPTION:
URL:https://pharoahs-stjohns.com/events/st-augustine-cruisers-cars-coffee/2028-03-25/
LOCATION:Classic Car Museum of St. Augustine\, 4730 Dixie Hwy\, St. Augustine\, FL\, 32086\, United States
END:VEVENT
BEGIN:VEVENT
DTSTART;TZID=America/New_York:20280422T080000
DTEND;TZID=America/New_York:20280422T100000
DTSTAMP:20260423T151949
CREATED:20260108T235005Z
LAST-MODIFIED:20260108T235005Z
UID:10002183-1840003200-1840010400@pharoahs-stjohns.com
SUMMARY:St. Augustine Cruisers Cars & Coffee
DESCRIPTION:
URL:https://pharoahs-stjohns.com/events/st-augustine-cruisers-cars-coffee/2028-04-22/
LOCATION:Classic Car Museum of St. Augustine\, 4730 Dixie Hwy\, St. Augustine\, FL\, 32086\, United States
END:VEVENT
BEGIN:VEVENT
DTSTART;TZID=America/New_York:20280527T080000
DTEND;TZID=America/New_York:20280527T100000
DTSTAMP:20260423T151949
CREATED:20260108T235005Z
LAST-MODIFIED:20260108T235005Z
UID:10002184-1843027200-1843034400@pharoahs-stjohns.com
SUMMARY:St. Augustine Cruisers Cars & Coffee
DESCRIPTION:
URL:https://pharoahs-stjohns.com/events/st-augustine-cruisers-cars-coffee/2028-05-27/
LOCATION:Classic Car Museum of St. Augustine\, 4730 Dixie Hwy\, St. Augustine\, FL\, 32086\, United States
END:VEVENT
BEGIN:VEVENT
DTSTART;TZID=America/New_York:20280624T080000
DTEND;TZID=America/New_York:20280624T100000
DTSTAMP:20260423T151949
CREATED:20260108T235005Z
LAST-MODIFIED:20260108T235005Z
UID:10002185-1845446400-1845453600@pharoahs-stjohns.com
SUMMARY:St. Augustine Cruisers Cars & Coffee
DESCRIPTION:
URL:https://pharoahs-stjohns.com/events/st-augustine-cruisers-cars-coffee/2028-06-24/
LOCATION:Classic Car Museum of St. Augustine\, 4730 Dixie Hwy\, St. Augustine\, FL\, 32086\, United States
END:VEVENT
BEGIN:VEVENT
DTSTART;TZID=America/New_York:20280722T080000
DTEND;TZID=America/New_York:20280722T100000
DTSTAMP:20260423T151949
CREATED:20260108T235005Z
LAST-MODIFIED:20260108T235005Z
UID:10002186-1847865600-1847872800@pharoahs-stjohns.com
SUMMARY:St. Augustine Cruisers Cars & Coffee
DESCRIPTION:
URL:https://pharoahs-stjohns.com/events/st-augustine-cruisers-cars-coffee/2028-07-22/
LOCATION:Classic Car Museum of St. Augustine\, 4730 Dixie Hwy\, St. Augustine\, FL\, 32086\, United States
END:VEVENT
BEGIN:VEVENT
DTSTART;TZID=America/New_York:20280826T080000
DTEND;TZID=America/New_York:20280826T100000
DTSTAMP:20260423T151949
CREATED:20260108T235005Z
LAST-MODIFIED:20260108T235005Z
UID:10002187-1850889600-1850896800@pharoahs-stjohns.com
SUMMARY:St. Augustine Cruisers Cars & Coffee
DESCRIPTION:
URL:https://pharoahs-stjohns.com/events/st-augustine-cruisers-cars-coffee/2028-08-26/
LOCATION:Classic Car Museum of St. Augustine\, 4730 Dixie Hwy\, St. Augustine\, FL\, 32086\, United States
END:VEVENT
BEGIN:VEVENT
DTSTART;TZID=America/New_York:20280923T080000
DTEND;TZID=America/New_York:20280923T100000
DTSTAMP:20260423T151949
CREATED:20260108T235005Z
LAST-MODIFIED:20260108T235005Z
UID:10002188-1853308800-1853316000@pharoahs-stjohns.com
SUMMARY:St. Augustine Cruisers Cars & Coffee
DESCRIPTION:
URL:https://pharoahs-stjohns.com/events/st-augustine-cruisers-cars-coffee/2028-09-23/
LOCATION:Classic Car Museum of St. Augustine\, 4730 Dixie Hwy\, St. Augustine\, FL\, 32086\, United States
END:VEVENT
BEGIN:VEVENT
DTSTART;TZID=America/New_York:20281028T080000
DTEND;TZID=America/New_York:20281028T100000
DTSTAMP:20260423T151949
CREATED:20260108T235005Z
LAST-MODIFIED:20260108T235005Z
UID:10002189-1856332800-1856340000@pharoahs-stjohns.com
SUMMARY:St. Augustine Cruisers Cars & Coffee
DESCRIPTION:
URL:https://pharoahs-stjohns.com/events/st-augustine-cruisers-cars-coffee/2028-10-28/
LOCATION:Classic Car Museum of St. Augustine\, 4730 Dixie Hwy\, St. Augustine\, FL\, 32086\, United States
END:VEVENT
BEGIN:VEVENT
DTSTART;TZID=America/New_York:20281125T080000
DTEND;TZID=America/New_York:20281125T100000
DTSTAMP:20260423T151949
CREATED:20260108T235005Z
LAST-MODIFIED:20260108T235005Z
UID:10002190-1858752000-1858759200@pharoahs-stjohns.com
SUMMARY:St. Augustine Cruisers Cars & Coffee
DESCRIPTION:
URL:https://pharoahs-stjohns.com/events/st-augustine-cruisers-cars-coffee/2028-11-25/
LOCATION:Classic Car Museum of St. Augustine\, 4730 Dixie Hwy\, St. Augustine\, FL\, 32086\, United States
END:VEVENT
BEGIN:VEVENT
DTSTART;TZID=America/New_York:20281223T080000
DTEND;TZID=America/New_York:20281223T100000
DTSTAMP:20260423T151949
CREATED:20260108T235005Z
LAST-MODIFIED:20260108T235005Z
UID:10002191-1861171200-1861178400@pharoahs-stjohns.com
SUMMARY:St. Augustine Cruisers Cars & Coffee
DESCRIPTION:
URL:https://pharoahs-stjohns.com/events/st-augustine-cruisers-cars-coffee/2028-12-23/
LOCATION:Classic Car Museum of St. Augustine\, 4730 Dixie Hwy\, St. Augustine\, FL\, 32086\, United States
END:VEVENT
BEGIN:VEVENT
DTSTART;TZID=America/New_York:20290127T080000
DTEND;TZID=America/New_York:20290127T100000
DTSTAMP:20260423T151949
CREATED:20260108T235005Z
LAST-MODIFIED:20260108T235005Z
UID:10002192-1864195200-1864202400@pharoahs-stjohns.com
SUMMARY:St. Augustine Cruisers Cars & Coffee
DESCRIPTION:
URL:https://pharoahs-stjohns.com/events/st-augustine-cruisers-cars-coffee/2029-01-27/
LOCATION:Classic Car Museum of St. Augustine\, 4730 Dixie Hwy\, St. Augustine\, FL\, 32086\, United States
END:VEVENT
BEGIN:VEVENT
DTSTART;TZID=America/New_York:20290224T080000
DTEND;TZID=America/New_York:20290224T100000
DTSTAMP:20260423T151949
CREATED:20260108T235005Z
LAST-MODIFIED:20260108T235005Z
UID:10002193-1866614400-1866621600@pharoahs-stjohns.com
SUMMARY:St. Augustine Cruisers Cars & Coffee
DESCRIPTION:
URL:https://pharoahs-stjohns.com/events/st-augustine-cruisers-cars-coffee/2029-02-24/
LOCATION:Classic Car Museum of St. Augustine\, 4730 Dixie Hwy\, St. Augustine\, FL\, 32086\, United States
END:VEVENT
BEGIN:VEVENT
DTSTART;TZID=America/New_York:20290324T080000
DTEND;TZID=America/New_York:20290324T100000
DTSTAMP:20260423T151950
CREATED:20260108T235005Z
LAST-MODIFIED:20260108T235005Z
UID:10002194-1869033600-1869040800@pharoahs-stjohns.com
SUMMARY:St. Augustine Cruisers Cars & Coffee
DESCRIPTION:
URL:https://pharoahs-stjohns.com/events/st-augustine-cruisers-cars-coffee/2029-03-24/
LOCATION:Classic Car Museum of St. Augustine\, 4730 Dixie Hwy\, St. Augustine\, FL\, 32086\, United States
END:VEVENT
BEGIN:VEVENT
DTSTART;TZID=America/New_York:20290428T080000
DTEND;TZID=America/New_York:20290428T100000
DTSTAMP:20260423T151950
CREATED:20260108T235005Z
LAST-MODIFIED:20260108T235005Z
UID:10002195-1872057600-1872064800@pharoahs-stjohns.com
SUMMARY:St. Augustine Cruisers Cars & Coffee
DESCRIPTION:
URL:https://pharoahs-stjohns.com/events/st-augustine-cruisers-cars-coffee/2029-04-28/
LOCATION:Classic Car Museum of St. Augustine\, 4730 Dixie Hwy\, St. Augustine\, FL\, 32086\, United States
END:VEVENT
BEGIN:VEVENT
DTSTART;TZID=America/New_York:20290526T080000
DTEND;TZID=America/New_York:20290526T100000
DTSTAMP:20260423T151950
CREATED:20260108T235005Z
LAST-MODIFIED:20260108T235005Z
UID:10002196-1874476800-1874484000@pharoahs-stjohns.com
SUMMARY:St. Augustine Cruisers Cars & Coffee
DESCRIPTION:
URL:https://pharoahs-stjohns.com/events/st-augustine-cruisers-cars-coffee/2029-05-26/
LOCATION:Classic Car Museum of St. Augustine\, 4730 Dixie Hwy\, St. Augustine\, FL\, 32086\, United States
END:VEVENT
BEGIN:VEVENT
DTSTART;TZID=America/New_York:20290623T080000
DTEND;TZID=America/New_York:20290623T100000
DTSTAMP:20260423T151950
CREATED:20260108T235005Z
LAST-MODIFIED:20260108T235005Z
UID:10002197-1876896000-1876903200@pharoahs-stjohns.com
SUMMARY:St. Augustine Cruisers Cars & Coffee
DESCRIPTION:
URL:https://pharoahs-stjohns.com/events/st-augustine-cruisers-cars-coffee/2029-06-23/
LOCATION:Classic Car Museum of St. Augustine\, 4730 Dixie Hwy\, St. Augustine\, FL\, 32086\, United States
END:VEVENT
BEGIN:VEVENT
DTSTART;TZID=America/New_York:20290728T080000
DTEND;TZID=America/New_York:20290728T100000
DTSTAMP:20260423T151950
CREATED:20260108T235005Z
LAST-MODIFIED:20260108T235005Z
UID:10002198-1879920000-1879927200@pharoahs-stjohns.com
SUMMARY:St. Augustine Cruisers Cars & Coffee
DESCRIPTION:
URL:https://pharoahs-stjohns.com/events/st-augustine-cruisers-cars-coffee/2029-07-28/
LOCATION:Classic Car Museum of St. Augustine\, 4730 Dixie Hwy\, St. Augustine\, FL\, 32086\, United States
END:VEVENT
BEGIN:VEVENT
DTSTART;TZID=America/New_York:20290825T080000
DTEND;TZID=America/New_York:20290825T100000
DTSTAMP:20260423T151950
CREATED:20260108T235005Z
LAST-MODIFIED:20260108T235005Z
UID:10002199-1882339200-1882346400@pharoahs-stjohns.com
SUMMARY:St. Augustine Cruisers Cars & Coffee
DESCRIPTION:
URL:https://pharoahs-stjohns.com/events/st-augustine-cruisers-cars-coffee/2029-08-25/
LOCATION:Classic Car Museum of St. Augustine\, 4730 Dixie Hwy\, St. Augustine\, FL\, 32086\, United States
END:VEVENT
BEGIN:VEVENT
DTSTART;TZID=America/New_York:20290922T080000
DTEND;TZID=America/New_York:20290922T100000
DTSTAMP:20260423T151950
CREATED:20260108T235005Z
LAST-MODIFIED:20260108T235005Z
UID:10002200-1884758400-1884765600@pharoahs-stjohns.com
SUMMARY:St. Augustine Cruisers Cars & Coffee
DESCRIPTION:
URL:https://pharoahs-stjohns.com/events/st-augustine-cruisers-cars-coffee/2029-09-22/
LOCATION:Classic Car Museum of St. Augustine\, 4730 Dixie Hwy\, St. Augustine\, FL\, 32086\, United States
END:VEVENT
BEGIN:VEVENT
DTSTART;TZID=America/New_York:20291027T080000
DTEND;TZID=America/New_York:20291027T100000
DTSTAMP:20260423T151950
CREATED:20260108T235005Z
LAST-MODIFIED:20260108T235005Z
UID:10002201-1887782400-1887789600@pharoahs-stjohns.com
SUMMARY:St. Augustine Cruisers Cars & Coffee
DESCRIPTION:
URL:https://pharoahs-stjohns.com/events/st-augustine-cruisers-cars-coffee/2029-10-27/
LOCATION:Classic Car Museum of St. Augustine\, 4730 Dixie Hwy\, St. Augustine\, FL\, 32086\, United States
END:VEVENT
BEGIN:VEVENT
DTSTART;TZID=America/New_York:20291124T080000
DTEND;TZID=America/New_York:20291124T100000
DTSTAMP:20260423T151950
CREATED:20260108T235005Z
LAST-MODIFIED:20260108T235005Z
UID:10002202-1890201600-1890208800@pharoahs-stjohns.com
SUMMARY:St. Augustine Cruisers Cars & Coffee
DESCRIPTION:
URL:https://pharoahs-stjohns.com/events/st-augustine-cruisers-cars-coffee/2029-11-24/
LOCATION:Classic Car Museum of St. Augustine\, 4730 Dixie Hwy\, St. Augustine\, FL\, 32086\, United States
END:VEVENT
BEGIN:VEVENT
DTSTART;TZID=America/New_York:20291222T080000
DTEND;TZID=America/New_York:20291222T100000
DTSTAMP:20260423T151950
CREATED:20260108T235005Z
LAST-MODIFIED:20260108T235005Z
UID:10002203-1892620800-1892628000@pharoahs-stjohns.com
SUMMARY:St. Augustine Cruisers Cars & Coffee
DESCRIPTION:
URL:https://pharoahs-stjohns.com/events/st-augustine-cruisers-cars-coffee/2029-12-22/
LOCATION:Classic Car Museum of St. Augustine\, 4730 Dixie Hwy\, St. Augustine\, FL\, 32086\, United States
END:VEVENT
BEGIN:VEVENT
DTSTART;TZID=America/New_York:20300126T080000
DTEND;TZID=America/New_York:20300126T100000
DTSTAMP:20260423T151950
CREATED:20260108T235005Z
LAST-MODIFIED:20260108T235005Z
UID:10002204-1895644800-1895652000@pharoahs-stjohns.com
SUMMARY:St. Augustine Cruisers Cars & Coffee
DESCRIPTION:
URL:https://pharoahs-stjohns.com/events/st-augustine-cruisers-cars-coffee/2030-01-26/
LOCATION:Classic Car Museum of St. Augustine\, 4730 Dixie Hwy\, St. Augustine\, FL\, 32086\, United States
END:VEVENT
BEGIN:VEVENT
DTSTART;TZID=America/New_York:20300223T080000
DTEND;TZID=America/New_York:20300223T100000
DTSTAMP:20260423T151950
CREATED:20260108T235005Z
LAST-MODIFIED:20260108T235005Z
UID:10002205-1898064000-1898071200@pharoahs-stjohns.com
SUMMARY:St. Augustine Cruisers Cars & Coffee
DESCRIPTION:
URL:https://pharoahs-stjohns.com/events/st-augustine-cruisers-cars-coffee/2030-02-23/
LOCATION:Classic Car Museum of St. Augustine\, 4730 Dixie Hwy\, St. Augustine\, FL\, 32086\, United States
END:VEVENT
BEGIN:VEVENT
DTSTART;TZID=America/New_York:20300323T080000
DTEND;TZID=America/New_York:20300323T100000
DTSTAMP:20260423T151950
CREATED:20260108T235005Z
LAST-MODIFIED:20260108T235005Z
UID:10002206-1900483200-1900490400@pharoahs-stjohns.com
SUMMARY:St. Augustine Cruisers Cars & Coffee
DESCRIPTION:
URL:https://pharoahs-stjohns.com/events/st-augustine-cruisers-cars-coffee/2030-03-23/
LOCATION:Classic Car Museum of St. Augustine\, 4730 Dixie Hwy\, St. Augustine\, FL\, 32086\, United States
END:VEVENT
BEGIN:VEVENT
DTSTART;TZID=America/New_York:20300427T080000
DTEND;TZID=America/New_York:20300427T100000
DTSTAMP:20260423T151950
CREATED:20260108T235005Z
LAST-MODIFIED:20260108T235005Z
UID:10002207-1903507200-1903514400@pharoahs-stjohns.com
SUMMARY:St. Augustine Cruisers Cars & Coffee
DESCRIPTION:
URL:https://pharoahs-stjohns.com/events/st-augustine-cruisers-cars-coffee/2030-04-27/
LOCATION:Classic Car Museum of St. Augustine\, 4730 Dixie Hwy\, St. Augustine\, FL\, 32086\, United States
END:VEVENT
BEGIN:VEVENT
DTSTART;TZID=America/New_York:20300525T080000
DTEND;TZID=America/New_York:20300525T100000
DTSTAMP:20260423T151950
CREATED:20260108T235005Z
LAST-MODIFIED:20260108T235005Z
UID:10002208-1905926400-1905933600@pharoahs-stjohns.com
SUMMARY:St. Augustine Cruisers Cars & Coffee
DESCRIPTION:
URL:https://pharoahs-stjohns.com/events/st-augustine-cruisers-cars-coffee/2030-05-25/
LOCATION:Classic Car Museum of St. Augustine\, 4730 Dixie Hwy\, St. Augustine\, FL\, 32086\, United States
END:VEVENT
BEGIN:VEVENT
DTSTART;TZID=America/New_York:20300622T080000
DTEND;TZID=America/New_York:20300622T100000
DTSTAMP:20260423T151950
CREATED:20260108T235005Z
LAST-MODIFIED:20260108T235005Z
UID:10002209-1908345600-1908352800@pharoahs-stjohns.com
SUMMARY:St. Augustine Cruisers Cars & Coffee
DESCRIPTION:
URL:https://pharoahs-stjohns.com/events/st-augustine-cruisers-cars-coffee/2030-06-22/
LOCATION:Classic Car Museum of St. Augustine\, 4730 Dixie Hwy\, St. Augustine\, FL\, 32086\, United States
END:VEVENT
END:VCALENDAR