BEGIN:VCALENDAR
VERSION:2.0
PRODID:-//Pharoahs of St Johns, Florida - ECPv6.15.20//NONSGML v1.0//EN
CALSCALE:GREGORIAN
METHOD:PUBLISH
X-WR-CALNAME:Pharoahs of St Johns, Florida
X-ORIGINAL-URL:https://pharoahs-stjohns.com
X-WR-CALDESC:Events for Pharoahs of St Johns, Florida
REFRESH-INTERVAL;VALUE=DURATION:PT1H
X-Robots-Tag:noindex
X-PUBLISHED-TTL:PT1H
BEGIN:VTIMEZONE
TZID:America/New_York
BEGIN:DAYLIGHT
TZOFFSETFROM:-0500
TZOFFSETTO:-0400
TZNAME:EDT
DTSTART:20280312T070000
END:DAYLIGHT
BEGIN:STANDARD
TZOFFSETFROM:-0400
TZOFFSETTO:-0500
TZNAME:EST
DTSTART:20281105T060000
END:STANDARD
BEGIN:DAYLIGHT
TZOFFSETFROM:-0500
TZOFFSETTO:-0400
TZNAME:EDT
DTSTART:20290311T070000
END:DAYLIGHT
BEGIN:STANDARD
TZOFFSETFROM:-0400
TZOFFSETTO:-0500
TZNAME:EST
DTSTART:20291104T060000
END:STANDARD
BEGIN:DAYLIGHT
TZOFFSETFROM:-0500
TZOFFSETTO:-0400
TZNAME:EDT
DTSTART:20300310T070000
END:DAYLIGHT
BEGIN:STANDARD
TZOFFSETFROM:-0400
TZOFFSETTO:-0500
TZNAME:EST
DTSTART:20301103T060000
END:STANDARD
BEGIN:DAYLIGHT
TZOFFSETFROM:-0500
TZOFFSETTO:-0400
TZNAME:EDT
DTSTART:20310309T070000
END:DAYLIGHT
BEGIN:STANDARD
TZOFFSETFROM:-0400
TZOFFSETTO:-0500
TZNAME:EST
DTSTART:20311102T060000
END:STANDARD
BEGIN:DAYLIGHT
TZOFFSETFROM:-0500
TZOFFSETTO:-0400
TZNAME:EDT
DTSTART:20320314T070000
END:DAYLIGHT
BEGIN:STANDARD
TZOFFSETFROM:-0400
TZOFFSETTO:-0500
TZNAME:EST
DTSTART:20321107T060000
END:STANDARD
END:VTIMEZONE
BEGIN:VEVENT
DTSTART;TZID=America/New_York:20290904T160000
DTEND;TZID=America/New_York:20290904T190000
DTSTAMP:20260423T204501
CREATED:20240109T224012Z
LAST-MODIFIED:20240109T224154Z
UID:10001816-1883232000-1883242800@pharoahs-stjohns.com
SUMMARY:Culver's St Augustine Cruise-In
DESCRIPTION:
URL:https://pharoahs-stjohns.com/events/culvers-st-augustine-cruise-in/2029-09-04/
LOCATION:Culver’s St Augustine\, 3433 US Hwy 1\, St. Augustine\, 32086\, United States
END:VEVENT
BEGIN:VEVENT
DTSTART;TZID=America/New_York:20291002T160000
DTEND;TZID=America/New_York:20291002T190000
DTSTAMP:20260423T204501
CREATED:20240109T224012Z
LAST-MODIFIED:20240109T224154Z
UID:10001823-1885651200-1885662000@pharoahs-stjohns.com
SUMMARY:Culver's St Augustine Cruise-In
DESCRIPTION:
URL:https://pharoahs-stjohns.com/events/culvers-st-augustine-cruise-in/2029-10-02/
LOCATION:Culver’s St Augustine\, 3433 US Hwy 1\, St. Augustine\, 32086\, United States
END:VEVENT
BEGIN:VEVENT
DTSTART;TZID=America/New_York:20291106T160000
DTEND;TZID=America/New_York:20291106T190000
DTSTAMP:20260423T204501
CREATED:20240109T224012Z
LAST-MODIFIED:20240109T224154Z
UID:10001836-1888675200-1888686000@pharoahs-stjohns.com
SUMMARY:Culver's St Augustine Cruise-In
DESCRIPTION:
URL:https://pharoahs-stjohns.com/events/culvers-st-augustine-cruise-in/2029-11-06/
LOCATION:Culver’s St Augustine\, 3433 US Hwy 1\, St. Augustine\, 32086\, United States
END:VEVENT
BEGIN:VEVENT
DTSTART;TZID=America/New_York:20291204T160000
DTEND;TZID=America/New_York:20291204T190000
DTSTAMP:20260423T204501
CREATED:20240109T224012Z
LAST-MODIFIED:20240109T224154Z
UID:10001843-1891094400-1891105200@pharoahs-stjohns.com
SUMMARY:Culver's St Augustine Cruise-In
DESCRIPTION:
URL:https://pharoahs-stjohns.com/events/culvers-st-augustine-cruise-in/2029-12-04/
LOCATION:Culver’s St Augustine\, 3433 US Hwy 1\, St. Augustine\, 32086\, United States
END:VEVENT
BEGIN:VEVENT
DTSTART;TZID=America/New_York:20300101T160000
DTEND;TZID=America/New_York:20300101T190000
DTSTAMP:20260423T204501
CREATED:20240109T224012Z
LAST-MODIFIED:20240109T224154Z
UID:10001851-1893513600-1893524400@pharoahs-stjohns.com
SUMMARY:Culver's St Augustine Cruise-In
DESCRIPTION:
URL:https://pharoahs-stjohns.com/events/culvers-st-augustine-cruise-in/2030-01-01/
LOCATION:Culver’s St Augustine\, 3433 US Hwy 1\, St. Augustine\, 32086\, United States
END:VEVENT
BEGIN:VEVENT
DTSTART;TZID=America/New_York:20300205T160000
DTEND;TZID=America/New_York:20300205T190000
DTSTAMP:20260423T204501
CREATED:20240109T224012Z
LAST-MODIFIED:20240109T224154Z
UID:10001935-1896537600-1896548400@pharoahs-stjohns.com
SUMMARY:Culver's St Augustine Cruise-In
DESCRIPTION:
URL:https://pharoahs-stjohns.com/events/culvers-st-augustine-cruise-in/2030-02-05/
LOCATION:Culver’s St Augustine\, 3433 US Hwy 1\, St. Augustine\, 32086\, United States
END:VEVENT
BEGIN:VEVENT
DTSTART;TZID=America/New_York:20300305T160000
DTEND;TZID=America/New_York:20300305T190000
DTSTAMP:20260423T204501
CREATED:20240109T224012Z
LAST-MODIFIED:20240109T224154Z
UID:10001960-1898956800-1898967600@pharoahs-stjohns.com
SUMMARY:Culver's St Augustine Cruise-In
DESCRIPTION:
URL:https://pharoahs-stjohns.com/events/culvers-st-augustine-cruise-in/2030-03-05/
LOCATION:Culver’s St Augustine\, 3433 US Hwy 1\, St. Augustine\, 32086\, United States
END:VEVENT
BEGIN:VEVENT
DTSTART;TZID=America/New_York:20300402T160000
DTEND;TZID=America/New_York:20300402T190000
DTSTAMP:20260423T204501
CREATED:20240109T224012Z
LAST-MODIFIED:20240109T224154Z
UID:10001961-1901376000-1901386800@pharoahs-stjohns.com
SUMMARY:Culver's St Augustine Cruise-In
DESCRIPTION:
URL:https://pharoahs-stjohns.com/events/culvers-st-augustine-cruise-in/2030-04-02/
LOCATION:Culver’s St Augustine\, 3433 US Hwy 1\, St. Augustine\, 32086\, United States
END:VEVENT
BEGIN:VEVENT
DTSTART;TZID=America/New_York:20300507T160000
DTEND;TZID=America/New_York:20300507T190000
DTSTAMP:20260423T204501
CREATED:20240109T224012Z
LAST-MODIFIED:20240109T224154Z
UID:10001971-1904400000-1904410800@pharoahs-stjohns.com
SUMMARY:Culver's St Augustine Cruise-In
DESCRIPTION:
URL:https://pharoahs-stjohns.com/events/culvers-st-augustine-cruise-in/2030-05-07/
LOCATION:Culver’s St Augustine\, 3433 US Hwy 1\, St. Augustine\, 32086\, United States
END:VEVENT
BEGIN:VEVENT
DTSTART;TZID=America/New_York:20300604T160000
DTEND;TZID=America/New_York:20300604T190000
DTSTAMP:20260423T204501
CREATED:20240109T224012Z
LAST-MODIFIED:20240109T224154Z
UID:10001972-1906819200-1906830000@pharoahs-stjohns.com
SUMMARY:Culver's St Augustine Cruise-In
DESCRIPTION:
URL:https://pharoahs-stjohns.com/events/culvers-st-augustine-cruise-in/2030-06-04/
LOCATION:Culver’s St Augustine\, 3433 US Hwy 1\, St. Augustine\, 32086\, United States
END:VEVENT
BEGIN:VEVENT
DTSTART;TZID=America/New_York:20300702T160000
DTEND;TZID=America/New_York:20300702T190000
DTSTAMP:20260423T204501
CREATED:20240109T224012Z
LAST-MODIFIED:20240109T224154Z
UID:10001982-1909238400-1909249200@pharoahs-stjohns.com
SUMMARY:Culver's St Augustine Cruise-In
DESCRIPTION:
URL:https://pharoahs-stjohns.com/events/culvers-st-augustine-cruise-in/2030-07-02/
LOCATION:Culver’s St Augustine\, 3433 US Hwy 1\, St. Augustine\, 32086\, United States
END:VEVENT
BEGIN:VEVENT
DTSTART;TZID=America/New_York:20300806T160000
DTEND;TZID=America/New_York:20300806T190000
DTSTAMP:20260423T204501
CREATED:20240109T224012Z
LAST-MODIFIED:20240109T224154Z
UID:10001989-1912262400-1912273200@pharoahs-stjohns.com
SUMMARY:Culver's St Augustine Cruise-In
DESCRIPTION:
URL:https://pharoahs-stjohns.com/events/culvers-st-augustine-cruise-in/2030-08-06/
LOCATION:Culver’s St Augustine\, 3433 US Hwy 1\, St. Augustine\, 32086\, United States
END:VEVENT
BEGIN:VEVENT
DTSTART;TZID=America/New_York:20300903T160000
DTEND;TZID=America/New_York:20300903T190000
DTSTAMP:20260423T204501
CREATED:20240109T224012Z
LAST-MODIFIED:20240109T224154Z
UID:10001996-1914681600-1914692400@pharoahs-stjohns.com
SUMMARY:Culver's St Augustine Cruise-In
DESCRIPTION:
URL:https://pharoahs-stjohns.com/events/culvers-st-augustine-cruise-in/2030-09-03/
LOCATION:Culver’s St Augustine\, 3433 US Hwy 1\, St. Augustine\, 32086\, United States
END:VEVENT
BEGIN:VEVENT
DTSTART;TZID=America/New_York:20301001T160000
DTEND;TZID=America/New_York:20301001T190000
DTSTAMP:20260423T204501
CREATED:20240109T224012Z
LAST-MODIFIED:20240109T224154Z
UID:10002003-1917100800-1917111600@pharoahs-stjohns.com
SUMMARY:Culver's St Augustine Cruise-In
DESCRIPTION:
URL:https://pharoahs-stjohns.com/events/culvers-st-augustine-cruise-in/2030-10-01/
LOCATION:Culver’s St Augustine\, 3433 US Hwy 1\, St. Augustine\, 32086\, United States
END:VEVENT
BEGIN:VEVENT
DTSTART;TZID=America/New_York:20301105T160000
DTEND;TZID=America/New_York:20301105T190000
DTSTAMP:20260423T204501
CREATED:20240109T224012Z
LAST-MODIFIED:20240109T224154Z
UID:10002011-1920124800-1920135600@pharoahs-stjohns.com
SUMMARY:Culver's St Augustine Cruise-In
DESCRIPTION:
URL:https://pharoahs-stjohns.com/events/culvers-st-augustine-cruise-in/2030-11-05/
LOCATION:Culver’s St Augustine\, 3433 US Hwy 1\, St. Augustine\, 32086\, United States
END:VEVENT
BEGIN:VEVENT
DTSTART;TZID=America/New_York:20301203T160000
DTEND;TZID=America/New_York:20301203T190000
DTSTAMP:20260423T204501
CREATED:20240109T224012Z
LAST-MODIFIED:20240109T224154Z
UID:10002017-1922544000-1922554800@pharoahs-stjohns.com
SUMMARY:Culver's St Augustine Cruise-In
DESCRIPTION:
URL:https://pharoahs-stjohns.com/events/culvers-st-augustine-cruise-in/2030-12-03/
LOCATION:Culver’s St Augustine\, 3433 US Hwy 1\, St. Augustine\, 32086\, United States
END:VEVENT
BEGIN:VEVENT
DTSTART;TZID=America/New_York:20310107T160000
DTEND;TZID=America/New_York:20310107T190000
DTSTAMP:20260423T204501
CREATED:20240109T224012Z
LAST-MODIFIED:20240109T224154Z
UID:10002025-1925568000-1925578800@pharoahs-stjohns.com
SUMMARY:Culver's St Augustine Cruise-In
DESCRIPTION:
URL:https://pharoahs-stjohns.com/events/culvers-st-augustine-cruise-in/2031-01-07/
LOCATION:Culver’s St Augustine\, 3433 US Hwy 1\, St. Augustine\, 32086\, United States
END:VEVENT
BEGIN:VEVENT
DTSTART;TZID=America/New_York:20310204T160000
DTEND;TZID=America/New_York:20310204T190000
DTSTAMP:20260423T204501
CREATED:20240109T224012Z
LAST-MODIFIED:20240109T224154Z
UID:10002343-1927987200-1927998000@pharoahs-stjohns.com
SUMMARY:Culver's St Augustine Cruise-In
DESCRIPTION:
URL:https://pharoahs-stjohns.com/events/culvers-st-augustine-cruise-in/2031-02-04/
LOCATION:Culver’s St Augustine\, 3433 US Hwy 1\, St. Augustine\, 32086\, United States
END:VEVENT
BEGIN:VEVENT
DTSTART;TZID=America/New_York:20310304T160000
DTEND;TZID=America/New_York:20310304T190000
DTSTAMP:20260423T204501
CREATED:20240109T224012Z
LAST-MODIFIED:20240109T224154Z
UID:10002355-1930406400-1930417200@pharoahs-stjohns.com
SUMMARY:Culver's St Augustine Cruise-In
DESCRIPTION:
URL:https://pharoahs-stjohns.com/events/culvers-st-augustine-cruise-in/2031-03-04/
LOCATION:Culver’s St Augustine\, 3433 US Hwy 1\, St. Augustine\, 32086\, United States
END:VEVENT
BEGIN:VEVENT
DTSTART;TZID=America/New_York:20310401T160000
DTEND;TZID=America/New_York:20310401T190000
DTSTAMP:20260423T204501
CREATED:20240109T224012Z
LAST-MODIFIED:20240109T224154Z
UID:10002356-1932825600-1932836400@pharoahs-stjohns.com
SUMMARY:Culver's St Augustine Cruise-In
DESCRIPTION:
URL:https://pharoahs-stjohns.com/events/culvers-st-augustine-cruise-in/2031-04-01/
LOCATION:Culver’s St Augustine\, 3433 US Hwy 1\, St. Augustine\, 32086\, United States
END:VEVENT
END:VCALENDAR