BEGIN:VCALENDAR
VERSION:2.0
PRODID:-//Pharoahs of St Johns, Florida - ECPv6.15.20//NONSGML v1.0//EN
CALSCALE:GREGORIAN
METHOD:PUBLISH
X-ORIGINAL-URL:https://pharoahs-stjohns.com
X-WR-CALDESC:Events for Pharoahs of St Johns, Florida
REFRESH-INTERVAL;VALUE=DURATION:PT1H
X-Robots-Tag:noindex
X-PUBLISHED-TTL:PT1H
BEGIN:VTIMEZONE
TZID:America/New_York
BEGIN:DAYLIGHT
TZOFFSETFROM:-0500
TZOFFSETTO:-0400
TZNAME:EDT
DTSTART:20250309T070000
END:DAYLIGHT
BEGIN:STANDARD
TZOFFSETFROM:-0400
TZOFFSETTO:-0500
TZNAME:EST
DTSTART:20251102T060000
END:STANDARD
BEGIN:DAYLIGHT
TZOFFSETFROM:-0500
TZOFFSETTO:-0400
TZNAME:EDT
DTSTART:20260308T070000
END:DAYLIGHT
BEGIN:STANDARD
TZOFFSETFROM:-0400
TZOFFSETTO:-0500
TZNAME:EST
DTSTART:20261101T060000
END:STANDARD
BEGIN:DAYLIGHT
TZOFFSETFROM:-0500
TZOFFSETTO:-0400
TZNAME:EDT
DTSTART:20270314T070000
END:DAYLIGHT
BEGIN:STANDARD
TZOFFSETFROM:-0400
TZOFFSETTO:-0500
TZNAME:EST
DTSTART:20271107T060000
END:STANDARD
END:VTIMEZONE
BEGIN:VEVENT
DTSTART;TZID=America/New_York:20260530T090000
DTEND;TZID=America/New_York:20260530T120000
DTSTAMP:20260423T133502
CREATED:20260108T224115Z
LAST-MODIFIED:20260108T224226Z
UID:10002047-1780131600-1780142400@pharoahs-stjohns.com
SUMMARY:Pharoahs 5th Saturday Cruise In at The Creek - May 2026
DESCRIPTION:The Pharoahs Car Club of St. Johns Fl is hosting another 5th Saturday Cruise In @ Trout Creek Memorial Park & Marina!\n\nCome join us with your classic car\, truck\, bike\, or modern enthusiast car! All makes & models welcome.\n\nFood Trucks – Vendors – Raffles & 50/50\n\nAll proceeds go to K9s For Warriors. We have donated over $10\,000 in 3 years!\n\nGreat free-to-attend event for both participants and spectators!\n\nJoin the Pharoahs Car Club of St. Johns FL today!https://pharoahs-stjohns.com/join-us/
URL:https://pharoahs-stjohns.com/events/may30th/
LOCATION:Trout Creek Memorial Park and Marina\, 6550 FL-13 N\, St. Augustine\, FL\, 32092\, United States
ATTACH;FMTTYPE=image/jpeg:https://pharoahs-stjohns.com/wp-content/uploads/2025/12/PharoahsMay2026CruiseInFlyerv2-scaled.jpg
END:VEVENT
BEGIN:VEVENT
DTSTART;TZID=America/New_York:20260829T090000
DTEND;TZID=America/New_York:20260829T120000
DTSTAMP:20260423T133502
CREATED:20260108T224426Z
LAST-MODIFIED:20260108T224448Z
UID:10002048-1787994000-1788004800@pharoahs-stjohns.com
SUMMARY:Pharoahs 5th Saturday Cruise In at The Creek - August 2026
DESCRIPTION:The Pharoahs Car Club of St. Johns Fl is hosting another 5th Saturday Cruise In @ Trout Creek Memorial Park & Marina!\n\nCome join us with your classic car\, truck\, bike\, or modern enthusiast car! All makes & models welcome.\n\nFood Trucks – Vendors – Raffles & 50/50\n\nAll proceeds go to K9s For Warriors. We have donated over $10\,000 in 3 years!\n\nGreat free-to-attend event for both participants and spectators!\n\nJoin the Pharoahs Car Club of St. Johns FL today!https://pharoahs-stjohns.com/join-us/
URL:https://pharoahs-stjohns.com/events/august29th/
LOCATION:Trout Creek Memorial Park and Marina\, 6550 FL-13 N\, St. Augustine\, FL\, 32092\, United States
ATTACH;FMTTYPE=image/jpeg:https://pharoahs-stjohns.com/wp-content/uploads/2025/12/PharoahsAugust2026CruiseInFlyerv2-scaled.jpg
END:VEVENT
BEGIN:VEVENT
DTSTART;TZID=America/New_York:20261031T100000
DTEND;TZID=America/New_York:20261031T140000
DTSTAMP:20260423T133502
CREATED:20260108T224950Z
LAST-MODIFIED:20260413T190748Z
UID:10002049-1793440800-1793455200@pharoahs-stjohns.com
SUMMARY:Pharoahs 5th Saturday Cruise In & Trunk or Treat at The Creek - October 2026
DESCRIPTION:The Pharoahs Car Club of St. Johns Fl is hosting another 5th Saturday Cruise In @ Trout Creek Memorial Park & Marina!\n\nThis is a special edition on Halloween! We will be hosting a Trunk or Treat.\n\nCandy will be available for car owners for a donation\, which will be given to our charity of choice. More details to be announced!\n\nCome join us with your classic car\, truck\, bike\, or modern enthusiast car! All makes & models welcome.\n\nFood Trucks – Vendors – Raffles & 50/50\n\nAll proceeds go to K9s For Warriors. We have donated over $10\,000 in 3 years!\n\nGreat free-to-attend event for both participants and spectators!\n\nJoin the Pharoahs Car Club of St. Johns FL today!https://pharoahs-stjohns.com/join-us/
URL:https://pharoahs-stjohns.com/events/trunkortreat/
LOCATION:Trout Creek Memorial Park and Marina\, 6550 FL-13 N\, St. Augustine\, FL\, 32092\, United States
ATTACH;FMTTYPE=image/jpeg:https://pharoahs-stjohns.com/wp-content/uploads/2025/12/PharoahsOct312026Flyer-scaled.jpg
END:VEVENT
END:VCALENDAR